Workbook
Name AltBranslar: '[1]Branş Kırılımlı Analiz'!$BF$3:$BF$52
Name AnaBranşlar: 'Branş Kırılımlı Analiz'!$BD$3:$BD$29
Name HAnaBranşlar: 'Hayat Branşlar'!$GC$1:$GC$4
Name HayatBranslar: '[1]Hayat Branşlar'!$KS$1:$KS$10
Name HDAnaBranşlar: 'Hayatdışı Branşlar'!$HL$2:$HL$22
Name HDBranslar: '[1]Hayatdışı Branşlar'!$KV$1:$KV$74
Name Hesaplama: '[1]Branş Kırılımlı Analiz'!$BH$3:$BH$15
Name Satış_Kanalı: '[1]Genel(4)'!$DH$1:$DH$92
Name Şirketler: 'Gelir Tablosu'!$BC$3:$BC$78

Sheet Gelir Tablosu
B3: Toplam (Hayat Dışı Şirketler+Hayat ve Emeklilik Şirketleri+Reasürans Şirketleri) | E3: TOPLAM (HAYAT DIŞI ŞİRKETLER+HAYAT VE EMEKLİLİK ŞİRKETLERİ+REASÜRANS ŞİRKETLERİ) | H3: Lütfen Seçimlerinizi Yapınız | BC3: Chubb European Group SE Merkezi Fransa Türkiye İstanbul Şubesi | BD3: 1001
B4: Gelir Tablosu - Aralık 2025 | E4: =+B4 -> Gelir Tablosu - Aralık 2025 | BC4: Aksigorta AŞ | BD4: 1003
BC5: Allianz Sigorta AŞ | BD5: 1004
B6: A- HAYAT DIŞI TEKNİK GELİR | C6: =C7+C11+C15+C19+C22+C25+C26+C27 -> 8.9262465e+11 | E6: A- HAYAT DIŞI TEKNİK GELİR | F6: =F7+F11+F15+F19+F22+F25+F26+F27 -> 8.9262465e+11 | BC6: Anadolu Anonim Türk Sigorta Şirketi | BD6: 1005
B7: 1- YAZILAN PRİMLER (REASÜRÖR PAYI DÜŞÜLMÜŞ OLARAK) | C7: =C8+C9+C10 -> 8.0395025e+11 | E7: 1- YAZILAN PRİMLER (REASÜRÖR PAYI DÜŞÜLMÜŞ OLARAK) | F7: =F8+F9+F10 -> 8.0395025e+11 | BC7: Ankara Anonim Türk Sigorta Şirketi | BD7: 1006
A8: 60001 | B8: a.) Brüt Yazılan Primler (+/-) | C8: =INDIRECT("'HAYATDISI'!"&ADDRESS(IFERROR(MATCH(VLOOKUP($B$3,$BC$3:$BE$150,2,0),HAYATDISI!$B:$B,0),MATCH(9003,HAYATDISI!$B:$B,0)+1),MATCH($A8,HAYATDISI!$5:$5,0))) -> 1.0899323e+12 | E8: a.) Brüt Yazılan Primler (+/-) | F8: =INDIRECT("'HAYATDISI'!"&ADDRESS(IFERROR(MATCH(VLOOKUP($E$3,$BC$3:$BE$150,2,0),HAYATDISI!$B:$B,0),MATCH(9003,HAYATDISI!$B:$B,0)+1),MATCH($A8,HAYATDISI!$5:$5,0))) -> 1.0899323e+12 | BC8: Atradius Crédito y Caución S.A. de Seguros y Reaseguros, İstanbul Şubesi | BD8: 1007
A9: 60002 | B9: b.) Reasüröre Devredilen Primler (+/-) | C9: =INDIRECT("'HAYATDISI'!"&ADDRESS(IFERROR(MATCH(VLOOKUP($B$3,$BC$3:$BE$150,2,0),HAYATDISI!$B:$B,0),MATCH(9003,HAYATDISI!$B:$B,0)+1),MATCH($A9,HAYATDISI!$5:$5,0))) -> -2.6180695e+11 | E9: b.) Reasüröre Devredilen Primler (+/-) | F9: =INDIRECT("'HAYATDISI'!"&ADDRESS(IFERROR(MATCH(VLOOKUP($E$3,$BC$3:$BE$150,2,0),HAYATDISI!$B:$B,0),MATCH(9003,HAYATDISI!$B:$B,0)+1),MATCH($A9,HAYATDISI!$5:$5,0))) -> -2.6180695e+11 | BC9: Unico Sigorta AŞ | BD9: 1008
A10: 60003 | B10: c.) SGK ya Aktarılan Primler (-); | C10: =INDIRECT("'HAYATDISI'!"&ADDRESS(IFERROR(MATCH(VLOOKUP($B$3,$BC$3:$BE$150,2,0),HAYATDISI!$B:$B,0),MATCH(9003,HAYATDISI!$B:$B,0)+1),MATCH($A10,HAYATDISI!$5:$5,0))) -> -2.4175084e+10 | E10: c.) SGK ya Aktarılan Primler (-); | F10: =INDIRECT("'HAYATDISI'!"&ADDRESS(IFERROR(MATCH(VLOOKUP($E$3,$BC$3:$BE$150,2,0),HAYATDISI!$B:$B,0),MATCH(9003,HAYATDISI!$B:$B,0)+1),MATCH($A10,HAYATDISI!$5:$5,0))) -> -2.4175084e+10 | BC10: Axa Sigorta AŞ | BD10: 1009
B11: 2. KAZANILMAMIŞ PRİMLER KARŞILIĞI (REASÜRÖR PAYI DÜŞÜLMÜŞ OLARAK) | C11: =C12+C13+C14 -> -4.4555866e+11 | E11: 2. KAZANILMAMIŞ PRİMLER KARŞILIĞI (REASÜRÖR PAYI DÜŞÜLMÜŞ OLARAK) | F11: =F12+F13+F14 -> -4.4555866e+11 | BC11: BNP Paribas Cardif Sigorta AŞ | BD11: 1010
A12: 601011 | B12: a.) Kazanılmamış Primler Karşılığı Brüt (+/-) | C12: =INDIRECT("'HAYATDISI'!"&ADDRESS(IFERROR(MATCH(VLOOKUP($B$3,$BC$3:$BE$150,2,0),HAYATDISI!$B:$B,0),MATCH(9003,HAYATDISI!$B:$B,0)+1),MATCH($A12,HAYATDISI!$5:$5,0))) -> -5.7771649e+11 | E12: a.) Kazanılmamış Primler Karşılığı Brüt (+/-) | F12: =INDIRECT("'HAYATDISI'!"&ADDRESS(IFERROR(MATCH(VLOOKUP($E$3,$BC$3:$BE$150,2,0),HAYATDISI!$B:$B,0),MATCH(9003,HAYATDISI!$B:$B,0)+1),MATCH($A12,HAYATDISI!$5:$5,0))) -> -5.7771649e+11 | BC12: Coface Sigorta AŞ | BD12: 1011
A13: 601021 | B13: b.) Kazanılmamış Prımler Karşılığında Reasürör Payı (+/-) | C13: =INDIRECT("'HAYATDISI'!"&ADDRESS(IFERROR(MATCH(VLOOKUP($B$3,$BC$3:$BE$150,2,0),HAYATDISI!$B:$B,0),MATCH(9003,HAYATDISI!$B:$B,0)+1),MATCH($A13,HAYATDISI!$5:$5,0))) -> 1.1925086e+11 | E13: b.) Kazanılmamış Prımler Karşılığında Reasürör Payı (+/-) | F13: =INDIRECT("'HAYATDISI'!"&ADDRESS(IFERROR(MATCH(VLOOKUP($E$3,$BC$3:$BE$150,2,0),HAYATDISI!$B:$B,0),MATCH(9003,HAYATDISI!$B:$B,0)+1),MATCH($A13,HAYATDISI!$5:$5,0))) -> 1.1925086e+11 | BC13: Corpus Sigorta AŞ | BD13: 1012
A14: 601031 | B14: c.) Kazanılmamış Prımler Karşılığında SGK Payı (+/-) | C14: =INDIRECT("'HAYATDISI'!"&ADDRESS(IFERROR(MATCH(VLOOKUP($B$3,$BC$3:$BE$150,2,0),HAYATDISI!$B:$B,0),MATCH(9003,HAYATDISI!$B:$B,0)+1),MATCH($A14,HAYATDISI!$5:$5,0))) -> 1.2906958e+10 | E14: c.) Kazanılmamış Prımler Karşılığında SGK Payı (+/-) | F14: =INDIRECT("'HAYATDISI'!"&ADDRESS(IFERROR(MATCH(VLOOKUP($E$3,$BC$3:$BE$150,2,0),HAYATDISI!$B:$B,0),MATCH(9003,HAYATDISI!$B:$B,0)+1),MATCH($A14,HAYATDISI!$5:$5,0))) -> 1.2906958e+10 | BC14: VHV Allgemeine Sigorta AŞ | BD14: 1013
B15: 3. DEVREDEN KAZANILMAMIŞ PRİMLER KARŞILIĞI (REASÜRÖR PAYI DÜŞÜLMÜŞ OLARAK) | C15: =C16+C17+C18 -> 3.1184984e+11 | E15: 3. DEVREDEN KAZANILMAMIŞ PRİMLER KARŞILIĞI (REASÜRÖR PAYI DÜŞÜLMÜŞ OLARAK) | F15: =F16+F17+F18 -> 3.1184984e+11 | BC15: Euler Hermes Sigorta AŞ | BD15: 1016
A16: 601012 | B16: a.) Devreden Kazanılmamış Primler Karşılığı Brüt (+/-) | C16: =INDIRECT("'HAYATDISI'!"&ADDRESS(IFERROR(MATCH(VLOOKUP($B$3,$BC$3:$BE$150,2,0),HAYATDISI!$B:$B,0),MATCH(9003,HAYATDISI!$B:$B,0)+1),MATCH($A16,HAYATDISI!$5:$5,0))) -> 4.1354959e+11 | E16: a.) Devreden Kazanılmamış Primler Karşılığı Brüt (+/-) | F16: =INDIRECT("'HAYATDISI'!"&ADDRESS(IFERROR(MATCH(VLOOKUP($E$3,$BC$3:$BE$150,2,0),HAYATDISI!$B:$B,0),MATCH(9003,HAYATDISI!$B:$B,0)+1),MATCH($A16,HAYATDISI!$5:$5,0))) -> 4.1354959e+11 | BC16: Eureko Sigorta AŞ | BD16: 1017
A17: 601022 | B17: b.) Devreden Kazanılmamış Prımler Karşılığında Reasürör Payı (+/-) | C17: =INDIRECT("'HAYATDISI'!"&ADDRESS(IFERROR(MATCH(VLOOKUP($B$3,$BC$3:$BE$150,2,0),HAYATDISI!$B:$B,0),MATCH(9003,HAYATDISI!$B:$B,0)+1),MATCH($A17,HAYATDISI!$5:$5,0))) -> -9.2788123e+10 | E17: b.) Devreden Kazanılmamış Prımler Karşılığında Reasürör Payı (+/-) | F17: =INDIRECT("'HAYATDISI'!"&ADDRESS(IFERROR(MATCH(VLOOKUP($E$3,$BC$3:$BE$150,2,0),HAYATDISI!$B:$B,0),MATCH(9003,HAYATDISI!$B:$B,0)+1),MATCH($A17,HAYATDISI!$5:$5,0))) -> -9.2788123e+10 | BC17: Referans Sigorta AŞ | BD17: 1018
A18: 601032 | B18: c.) Devreden Kazanılmamış Prımler Karşılığında SGK Payı (+/-) | C18: =INDIRECT("'HAYATDISI'!"&ADDRESS(IFERROR(MATCH(VLOOKUP($B$3,$BC$3:$BE$150,2,0),HAYATDISI!$B:$B,0),MATCH(9003,HAYATDISI!$B:$B,0)+1),MATCH($A18,HAYATDISI!$5:$5,0))) -> -8.9116236e+09 | E18: c.) Devreden Kazanılmamış Prımler Karşılığında SGK Payı (+/-) | F18: =INDIRECT("'HAYATDISI'!"&ADDRESS(IFERROR(MATCH(VLOOKUP($E$3,$BC$3:$BE$150,2,0),HAYATDISI!$B:$B,0),MATCH(9003,HAYATDISI!$B:$B,0)+1),MATCH($A18,HAYATDISI!$5:$5,0))) -> -8.9116236e+09 | BC18: Türkiye Sigorta AŞ | BD18: 1020
B19: 4. DEVAM EDEN RİSKLER KARŞILIĞI (REASÜRÖR PAYI DÜŞÜLMÜŞ OLARAK) | C19: =C20+C21 -> -1.5340625e+10 | E19: 4. DEVAM EDEN RİSKLER KARŞILIĞI (REASÜRÖR PAYI DÜŞÜLMÜŞ OLARAK) | F19: =F20+F21 -> -1.5340625e+10 | BC19: HDI Sigorta AŞ | BD19: 1022
A20: 602011 | B20: a.) Devam Eden Riskler Karşılığı Brüt (-) | C20: =INDIRECT("'HAYATDISI'!"&ADDRESS(IFERROR(MATCH(VLOOKUP($B$3,$BC$3:$BE$150,2,0),HAYATDISI!$B:$B,0),MATCH(9003,HAYATDISI!$B:$B,0)+1),MATCH($A20,HAYATDISI!$5:$5,0))) -> -1.8004616e+10 | E20: a.) Devam Eden Riskler Karşılığı Brüt (-) | F20: =INDIRECT("'HAYATDISI'!"&ADDRESS(IFERROR(MATCH(VLOOKUP($E$3,$BC$3:$BE$150,2,0),HAYATDISI!$B:$B,0),MATCH(9003,HAYATDISI!$B:$B,0)+1),MATCH($A20,HAYATDISI!$5:$5,0))) -> -1.8004616e+10 | BC20: Bereket Sigorta AŞ | BD20: 1025
A21: 602021 | B21: b.) Devam Eden Riskler Karşılığında Reasürör Payı (+) | C21: =INDIRECT("'HAYATDISI'!"&ADDRESS(IFERROR(MATCH(VLOOKUP($B$3,$BC$3:$BE$150,2,0),HAYATDISI!$B:$B,0),MATCH(9003,HAYATDISI!$B:$B,0)+1),MATCH($A21,HAYATDISI!$5:$5,0))) -> 2.6639917e+09 | E21: b.) Devam Eden Riskler Karşılığında Reasürör Payı (+) | F21: =INDIRECT("'HAYATDISI'!"&ADDRESS(IFERROR(MATCH(VLOOKUP($E$3,$BC$3:$BE$150,2,0),HAYATDISI!$B:$B,0),MATCH(9003,HAYATDISI!$B:$B,0)+1),MATCH($A21,HAYATDISI!$5:$5,0))) -> 2.6639917e+09 | BC21: Magdeburger Sigorta AŞ | BD21: 1027
B22: 5. DEVREDEN DEVAM EDEN RİSKLER KARŞILIĞI (REASÜRÖR PAYI DÜŞÜLMÜŞ OLARAK) | C22: =C23+C24 -> 1.0292798e+10 | E22: 5. DEVREDEN DEVAM EDEN RİSKLER KARŞILIĞI (REASÜRÖR PAYI DÜŞÜLMÜŞ OLARAK) | F22: =F23+F24 -> 1.0292798e+10 | BC22: Mapfre Sigorta AŞ | BD22: 1028
A23: 602012 | B23: a.) Devreden Devam Eden Riskler Karşılığı Brüt (+) | C23: =INDIRECT("'HAYATDISI'!"&ADDRESS(IFERROR(MATCH(VLOOKUP($B$3,$BC$3:$BE$150,2,0),HAYATDISI!$B:$B,0),MATCH(9003,HAYATDISI!$B:$B,0)+1),MATCH($A23,HAYATDISI!$5:$5,0))) -> 1.4092067e+10 | E23: a.) Devreden Devam Eden Riskler Karşılığı Brüt (+) | F23: =INDIRECT("'HAYATDISI'!"&ADDRESS(IFERROR(MATCH(VLOOKUP($E$3,$BC$3:$BE$150,2,0),HAYATDISI!$B:$B,0),MATCH(9003,HAYATDISI!$B:$B,0)+1),MATCH($A23,HAYATDISI!$5:$5,0))) -> 1.4092067e+10 | BC23: Neova Katılım Sigorta AŞ | BD23: 1030
A24: 602022 | B24: b.) Devreden Devam Eden Riskler Karşılığında Reasürör Payı (-) | C24: =INDIRECT("'HAYATDISI'!"&ADDRESS(IFERROR(MATCH(VLOOKUP($B$3,$BC$3:$BE$150,2,0),HAYATDISI!$B:$B,0),MATCH(9003,HAYATDISI!$B:$B,0)+1),MATCH($A24,HAYATDISI!$5:$5,0))) -> -3.7992689e+09 | E24: b.) Devreden Devam Eden Riskler Karşılığında Reasürör Payı (-) | F24: =INDIRECT("'HAYATDISI'!"&ADDRESS(IFERROR(MATCH(VLOOKUP($E$3,$BC$3:$BE$150,2,0),HAYATDISI!$B:$B,0),MATCH(9003,HAYATDISI!$B:$B,0)+1),MATCH($A24,HAYATDISI!$5:$5,0))) -> -3.7992689e+09 | BC24: Orient Sigorta AŞ | BD24: 1031
A25: 603 | B25: 6. TEKNİK OLMAYAN BÖLÜMDEN AKTARILAN YATIRIM GELİRLERİ | C25: =INDIRECT("'HAYATDISI'!"&ADDRESS(IFERROR(MATCH(VLOOKUP($B$3,$BC$3:$BE$150,2,0),HAYATDISI!$B:$B,0),MATCH(9003,HAYATDISI!$B:$B,0)+1),MATCH($A25,HAYATDISI!$5:$5,0))) -> 2.1345927e+11 | E25: 6. TEKNİK OLMAYAN BÖLÜMDEN AKTARILAN YATIRIM GELİRLERİ | F25: =INDIRECT("'HAYATDISI'!"&ADDRESS(IFERROR(MATCH(VLOOKUP($E$3,$BC$3:$BE$150,2,0),HAYATDISI!$B:$B,0),MATCH(9003,HAYATDISI!$B:$B,0)+1),MATCH($A25,HAYATDISI!$5:$5,0))) -> 2.1345927e+11 | BC25: Ray Sigorta AŞ | BD25: 1032
A26: 604 | B26: 7. DİĞER TEKNİK GELİRLER (REASÜRÖR PAYI DÜŞÜLMÜŞ OLARAK) | C26: =INDIRECT("'HAYATDISI'!"&ADDRESS(IFERROR(MATCH(VLOOKUP($B$3,$BC$3:$BE$150,2,0),HAYATDISI!$B:$B,0),MATCH(9003,HAYATDISI!$B:$B,0)+1),MATCH($A26,HAYATDISI!$5:$5,0))) -> 3.2822176e+09 | E26: 7. DİĞER TEKNİK GELİRLER (REASÜRÖR PAYI DÜŞÜLMÜŞ OLARAK) | F26: =INDIRECT("'HAYATDISI'!"&ADDRESS(IFERROR(MATCH(VLOOKUP($E$3,$BC$3:$BE$150,2,0),HAYATDISI!$B:$B,0),MATCH(9003,HAYATDISI!$B:$B,0)+1),MATCH($A26,HAYATDISI!$5:$5,0))) -> 3.2822176e+09 | BC26: Şeker Sigorta AŞ | BD26: 1034
A27: 605 | B27: 8. TAHAKKUK EDEN RÜCU VE SOVTAJ GELİRLERİ (+) | C27: =INDIRECT("'HAYATDISI'!"&ADDRESS(IFERROR(MATCH(VLOOKUP($B$3,$BC$3:$BE$150,2,0),HAYATDISI!$B:$B,0),MATCH(9003,HAYATDISI!$B:$B,0)+1),MATCH($A27,HAYATDISI!$5:$5,0))) -> 1.0689567e+10 | E27: 8. TAHAKKUK EDEN RÜCU VE SOVTAJ GELİRLERİ (+) | F27: =INDIRECT("'HAYATDISI'!"&ADDRESS(IFERROR(MATCH(VLOOKUP($E$3,$BC$3:$BE$150,2,0),HAYATDISI!$B:$B,0),MATCH(9003,HAYATDISI!$B:$B,0)+1),MATCH($A27,HAYATDISI!$5:$5,0))) -> 1.0689567e+10 | BC27: Sompo Sigorta AŞ | BD27: 1035
B28: B- HAYAT DIŞI TEKNİK GİDER | C28: =+C29+C32+C35+C38+C39+C43+C52+C55+C58 -> -7.4797446e+11 | E28: B- HAYAT DIŞI TEKNİK GİDER | F28: =+F29+F32+F35+F38+F39+F43+F52+F55+F58 -> -7.4797446e+11 | BC28: Doga Sigorta AŞ | BD28: 1036
B29: 1. ÖDENEN TAZMİNATLAR (REASÜRÖR PAYI DÜŞÜLMÜŞ OLARAK) | C29: =C30+C31 -> -3.9762945e+11 | E29: 1. ÖDENEN TAZMİNATLAR (REASÜRÖR PAYI DÜŞÜLMÜŞ OLARAK) | F29: =F30+F31 -> -3.9762945e+11 | BC29: Koru Sigorta AŞ | BD29: 1037
A30: 61001 | B30: a.) Brüt Ödenen Tazminatlar (+/-) | C30: =INDIRECT("'HAYATDISI'!"&ADDRESS(IFERROR(MATCH(VLOOKUP($B$3,$BC$3:$BE$150,2,0),HAYATDISI!$B:$B,0),MATCH(9003,HAYATDISI!$B:$B,0)+1),MATCH($A30,HAYATDISI!$5:$5,0))) -> -4.9226287e+11 | E30: a.) Brüt Ödenen Tazminatlar (+/-) | F30: =INDIRECT("'HAYATDISI'!"&ADDRESS(IFERROR(MATCH(VLOOKUP($E$3,$BC$3:$BE$150,2,0),HAYATDISI!$B:$B,0),MATCH(9003,HAYATDISI!$B:$B,0)+1),MATCH($A30,HAYATDISI!$5:$5,0))) -> -4.9226287e+11 | BC30: GIG Sigorta AŞ | BD30: 1038
A31: 61002 | B31: b.) Ödenen Tazminatlarda Reasürör Payı (+/-) | C31: =INDIRECT("'HAYATDISI'!"&ADDRESS(IFERROR(MATCH(VLOOKUP($B$3,$BC$3:$BE$150,2,0),HAYATDISI!$B:$B,0),MATCH(9003,HAYATDISI!$B:$B,0)+1),MATCH($A31,HAYATDISI!$5:$5,0))) -> 9.4633425e+10 | E31: b.) Ödenen Tazminatlarda Reasürör Payı (+/-) | F31: =INDIRECT("'HAYATDISI'!"&ADDRESS(IFERROR(MATCH(VLOOKUP($E$3,$BC$3:$BE$150,2,0),HAYATDISI!$B:$B,0),MATCH(9003,HAYATDISI!$B:$B,0)+1),MATCH($A31,HAYATDISI!$5:$5,0))) -> 9.4633425e+10 | BC31: Türk Nippon Sigorta AŞ | BD31: 1039
B32: 2. MUALLAK TAZMİNATLAR KARŞILIĞI (REASÜRÖR PAYI DÜŞÜLMÜŞ OLARAK) | C32: =C33+C34 -> -3.4486486e+11 | E32: 2. MUALLAK TAZMİNATLAR KARŞILIĞI (REASÜRÖR PAYI DÜŞÜLMÜŞ OLARAK) | F32: =F33+F34 -> -3.4486486e+11 | BC32: Türk P&I Sigorta AŞ | BD32: 1040
A33: 611011 | B33: a.) Muallak Tazminatlar Karşılığı Brüt (-) | C33: =INDIRECT("'HAYATDISI'!"&ADDRESS(IFERROR(MATCH(VLOOKUP($B$3,$BC$3:$BE$150,2,0),HAYATDISI!$B:$B,0),MATCH(9003,HAYATDISI!$B:$B,0)+1),MATCH($A33,HAYATDISI!$5:$5,0))) -> -4.663277e+11 | E33: a.) Muallak Tazminatlar Karşılığı Brüt (-) | F33: =INDIRECT("'HAYATDISI'!"&ADDRESS(IFERROR(MATCH(VLOOKUP($E$3,$BC$3:$BE$150,2,0),HAYATDISI!$B:$B,0),MATCH(9003,HAYATDISI!$B:$B,0)+1),MATCH($A33,HAYATDISI!$5:$5,0))) -> -4.663277e+11 | BC33: Zurich Sigorta AŞ | BD33: 1043
A34: 611021 | B34: b.) Muallak Tazminatlar Karşılığında Reasürör Payı (+) | C34: =INDIRECT("'HAYATDISI'!"&ADDRESS(IFERROR(MATCH(VLOOKUP($B$3,$BC$3:$BE$150,2,0),HAYATDISI!$B:$B,0),MATCH(9003,HAYATDISI!$B:$B,0)+1),MATCH($A34,HAYATDISI!$5:$5,0))) -> 1.2146284e+11 | E34: b.) Muallak Tazminatlar Karşılığında Reasürör Payı (+) | F34: =INDIRECT("'HAYATDISI'!"&ADDRESS(IFERROR(MATCH(VLOOKUP($E$3,$BC$3:$BE$150,2,0),HAYATDISI!$B:$B,0),MATCH(9003,HAYATDISI!$B:$B,0)+1),MATCH($A34,HAYATDISI!$5:$5,0))) -> 1.2146284e+11 | BC34: Ethica Sigorta AŞ | BD34: 1044
B35: 3. DEVREDEN MUALLAK HASARLAR KARŞILIĞI (REASÜRÖR PAYI DÜŞÜLMÜŞ OLARAK) | C35: =C36+C37 -> 2.0844309e+11 | E35: 3. DEVREDEN MUALLAK HASARLAR KARŞILIĞI (REASÜRÖR PAYI DÜŞÜLMÜŞ OLARAK) | F35: =F36+F37 -> 2.0844309e+11 | BC35: Quick Sigorta AŞ | BD35: 1045
A36: 611012 | B36: a) Devreden Muallak Tazminatlar Karşılığı Brüt (+); | C36: =INDIRECT("'HAYATDISI'!"&ADDRESS(IFERROR(MATCH(VLOOKUP($B$3,$BC$3:$BE$150,2,0),HAYATDISI!$B:$B,0),MATCH(9003,HAYATDISI!$B:$B,0)+1),MATCH($A36,HAYATDISI!$5:$5,0))) -> 3.1098398e+11 | E36: a) Devreden Muallak Tazminatlar Karşılığı Brüt (+); | F36: =INDIRECT("'HAYATDISI'!"&ADDRESS(IFERROR(MATCH(VLOOKUP($E$3,$BC$3:$BE$150,2,0),HAYATDISI!$B:$B,0),MATCH(9003,HAYATDISI!$B:$B,0)+1),MATCH($A36,HAYATDISI!$5:$5,0))) -> 3.1098398e+11 | BC36: SS Atlas Sigorta Kooperatifi | BD36: 1046
A37: 611022 | B37: b) Devreden Muallak Tazminatlar Karşılığında Reasürör Payı (-) | C37: =INDIRECT("'HAYATDISI'!"&ADDRESS(IFERROR(MATCH(VLOOKUP($B$3,$BC$3:$BE$150,2,0),HAYATDISI!$B:$B,0),MATCH(9003,HAYATDISI!$B:$B,0)+1),MATCH($A37,HAYATDISI!$5:$5,0))) -> -1.0254089e+11 | E37: b) Devreden Muallak Tazminatlar Karşılığında Reasürör Payı (-) | F37: =INDIRECT("'HAYATDISI'!"&ADDRESS(IFERROR(MATCH(VLOOKUP($E$3,$BC$3:$BE$150,2,0),HAYATDISI!$B:$B,0),MATCH(9003,HAYATDISI!$B:$B,0)+1),MATCH($A37,HAYATDISI!$5:$5,0))) -> -1.0254089e+11 | BC37: Türkiye Katılım Sigorta AŞ | BD37: 1048
A38: 612 | B38: 4. İKRAMİYE VE İNDİRİMLER KARŞILIĞINDA DEĞİŞİM (REASÜRÖR PAYI DÜŞÜLMÜŞ OLARAK) | C38: =INDIRECT("'HAYATDISI'!"&ADDRESS(IFERROR(MATCH(VLOOKUP($B$3,$BC$3:$BE$150,2,0),HAYATDISI!$B:$B,0),MATCH(9003,HAYATDISI!$B:$B,0)+1),MATCH($A38,HAYATDISI!$5:$5,0))) -> -1.3377768e+09 | E38: 4. İKRAMİYE VE İNDİRİMLER KARŞILIĞINDA DEĞİŞİM (REASÜRÖR PAYI DÜŞÜLMÜŞ OLARAK) | F38: =INDIRECT("'HAYATDISI'!"&ADDRESS(IFERROR(MATCH(VLOOKUP($E$3,$BC$3:$BE$150,2,0),HAYATDISI!$B:$B,0),MATCH(9003,HAYATDISI!$B:$B,0)+1),MATCH($A38,HAYATDISI!$5:$5,0))) -> -1.3377768e+09 | BC38: Ana Sigorta AŞ | BD38: 1049
B39: 5. DİĞER TEKNİK KARŞILIKLAR (REASÜRÖR PAYI VE DEVREDEN DÜŞÜLMÜŞ OLARAK) | C39: =C40+C41+C42 -> -6.3917729e+09 | E39: 5. DİĞER TEKNİK KARŞILIKLAR (REASÜRÖR PAYI VE DEVREDEN DÜŞÜLMÜŞ OLARAK) | F39: =F40+F41+F42 -> -6.3917729e+09 | BC39: Arex Sigorta AŞ | BD39: 1051
A40: 61301 | B40: a.) Dengeleme Karşılığında Değişim (Reasürör Payı ve Dev. Kısım Düşülmüş Olarak) (+/-) | C40: =INDIRECT("'HAYATDISI'!"&ADDRESS(IFERROR(MATCH(VLOOKUP($B$3,$BC$3:$BE$150,2,0),HAYATDISI!$B:$B,0),MATCH(9003,HAYATDISI!$B:$B,0)+1),MATCH($A40,HAYATDISI!$5:$5,0))) -> -6.3418841e+09 | E40: a.) Dengeleme Karşılığında Değişim (Reasürör Payı ve Dev. Kısım Düşülmüş Olarak) (+/-) | F40: =INDIRECT("'HAYATDISI'!"&ADDRESS(IFERROR(MATCH(VLOOKUP($E$3,$BC$3:$BE$150,2,0),HAYATDISI!$B:$B,0),MATCH(9003,HAYATDISI!$B:$B,0)+1),MATCH($A40,HAYATDISI!$5:$5,0))) -> -6.3418841e+09 | BC40: Prive Sigorta AŞ | BD40: 1052
A41: 61302 | B41: b.) Mali Riskler Karşılığında Değişim (Reasürör Payı ve Dev. Kısım Düşülmüş Olarak) (+/-) | C41: =INDIRECT("'HAYATDISI'!"&ADDRESS(IFERROR(MATCH(VLOOKUP($B$3,$BC$3:$BE$150,2,0),HAYATDISI!$B:$B,0),MATCH(9003,HAYATDISI!$B:$B,0)+1),MATCH($A41,HAYATDISI!$5:$5,0))) -> 0 | E41: b.) Mali Riskler Karşılığında Değişim (Reasürör Payı ve Dev. Kısım Düşülmüş Olarak) (+/-) | F41: =INDIRECT("'HAYATDISI'!"&ADDRESS(IFERROR(MATCH(VLOOKUP($E$3,$BC$3:$BE$150,2,0),HAYATDISI!$B:$B,0),MATCH(9003,HAYATDISI!$B:$B,0)+1),MATCH($A41,HAYATDISI!$5:$5,0))) -> 0 | BC41: Hepiyi Sigorta AŞ | BD41: 1053
A42: 61399 | B42: c.) Diğer Çeşitli Karşılıklarda Değişim (Reasürör Payı ve Dev. Kısım Düşülmüş Olarak) (+/-) | C42: =INDIRECT("'HAYATDISI'!"&ADDRESS(IFERROR(MATCH(VLOOKUP($B$3,$BC$3:$BE$150,2,0),HAYATDISI!$B:$B,0),MATCH(9003,HAYATDISI!$B:$B,0)+1),MATCH($A42,HAYATDISI!$5:$5,0))) -> -49888798 | E42: c.) Diğer Çeşitli Karşılıklarda Değişim (Reasürör Payı ve Dev. Kısım Düşülmüş Olarak) (+/-) | F42: =INDIRECT("'HAYATDISI'!"&ADDRESS(IFERROR(MATCH(VLOOKUP($E$3,$BC$3:$BE$150,2,0),HAYATDISI!$B:$B,0),MATCH(9003,HAYATDISI!$B:$B,0)+1),MATCH($A42,HAYATDISI!$5:$5,0))) -> -49888798 | BC42: Aveon Global Sigorta AŞ | BD42: 1054
...

Sheet Branş Kırılımlı Analiz
B3: Hayat Dışı | E3: Hayat Dışı | H3: Lütfen Seçimlerinizi Yapınız | AZ3: Chubb European Group SE Merkezi Fransa Türkiye İstanbul Şubesi | BA3: 1001 | BD3: Hayat Dışı | BE3: HAYATDISI | BF3: Brüt Yazılan Primler | BG3: 60001 | BH3: 62001
B4: Brüt Yazılan Primler | E4: Brüt Yazılan Primler | AZ4: Aksigorta AŞ | BA4: 1003 | BD4: Hayat | BE4: HAYAT | BF4: Brüt Kazanılan Primler | BG4: 60001 | BH4: 62001 | BI4: 60003 | BJ4: 60101 | BK4: 62101 | BL4: 60103 | BM4: 60201 | BN4: 62201
AZ5: Allianz Sigorta AŞ | BA5: 1004 | BD5: Kaza | BE5: KAZA | BF5: Brüt Ödenen Tazminatlar | BG5: 61001 | BH5: 63001
B6: Chubb European Group SE Merkezi Fransa Türkiye İstanbul Şubesi | C6: =IFERROR(INDIRECT("'"&VLOOKUP($B$3,$BD$3:$BE$83,2,0)&"'!"&ADDRESS(IFERROR(MATCH(VLOOKUP(B6,$AZ$3:$BB$83,2,0),INDIRECT("'"&VLOOKUP($B$3,$BD$3:$BE$83,2,0)&"'!$B:$B"),0),MATCH(9003,INDIRECT("'"&VLOOKUP($B$3,$BD$3:$BE$83,2,0)&"'!$B:$B"),0)+1),MATCH(VLOOKUP($B$4,$BF$3:$BR$21,2,0),INDIRECT("'"&VLOOKUP($B$3,$BD$3:$BE$83,2,0)&"'!$5:$5"),0))),0)+IFERROR(INDIRECT("'"&VLOOKUP($B$3,$BD$3:$BE$83,2,0)&"'!"&ADDRESS(IFERROR(MATCH(VLOOKUP(B6,$AZ$3:$BB$83,2,0),INDIRECT("'"&VLOOKUP($B$3,$BD$3:$BE$83,2,0)&"'!$B:$B"),0),MATCH(9003,INDIRECT("'"&VLOOKUP($B$3,$BD$3:$BE$83,2,0)&"'!$B:$B"),0)+1),MATCH(VLOOKUP($B$4,$BF$3:$BR$21,3,0),INDIRECT("'"&VLOOKUP($B$3,$BD$3:$BE$83,2,0)&"'!$5:$5"),0))),0)+IFERROR(INDIRECT("'"&VLOOKUP($B$3,$BD$3:$BE$83,2,0)&"'!"&ADDRESS(IFERROR(MATCH(VLOOKUP(B6,$AZ$3:$BB$83,2,0),INDIRECT("'"&VLOOKUP($B$3,$BD$3:$BE$83,2,0)&"'!$B:$B"),0),MATCH(9003,INDIRECT("'"&VLOOKUP($B$3,$BD$3:$BE$83,2,0)&"'!$B:$B"),0)+1),MATCH(VLOOKUP($B$4,$BF$3:$BR$21,4,0),INDIRECT("'"&VLOOKUP($B$3,$BD$3:$BE$83,2,0)&"'!$5:$5"),0))),0)+IFERROR(INDIRECT("'"&VLOOKUP($B$3,$BD$3:$BE$83,2,0)&"'!"&ADDRESS(IFERROR(MATCH(VLOOKUP(B6,$AZ$3:$BB$83,2,0),INDIRECT("'"&VLOOKUP($B$3,$BD$3:$BE$83,2,0)&"'!$B:$B"),0),MATCH(9003,INDIRECT("'"&VLOOKUP($B$3,$BD$3:$BE$83,2,0)&"'!$B:$B"),0)+1),MATCH(VLOOKUP($B$4,$BF$3:$BR$21,5,0),INDIRECT("'"&VLOOKUP($B$3,$BD$3:$BE$83,2,0)&"'!$5:$5"),0))),0)+IFERROR(INDIRECT("'"&VLOOKUP($B$3,$BD$3:$BE$83,2,0)&"'!"&ADDRESS(IFERROR(MATCH(VLOOKUP(B6,$AZ$3:$BB$83,2,0),INDIRECT("'"&VLOOKUP($B$3,$BD$3:$BE$83,2,0)&"'!$B:$B"),0),MATCH(9003,INDIRECT("'"&VLOOKUP($B$3,$BD$3:$BE$83,2,0)&"'!$B:$B"),0)+1),MATCH(VLOOKUP($B$4,$BF$3:$BR$21,6,0),INDIRECT("'"&VLOOKUP($B$3,$BD$3:$BE$83,2,0)&"'!$5:$5"),0))),0)+IFERROR(INDIRECT("'"&VLOOKUP($B$3,$BD$3:$BE$83,2,0)&"'!"&ADDRESS(IFERROR(MATCH(VLOOKUP(B6,$AZ$3:$BB$83,2,0),INDIRECT("'"&VLOOKUP($B$3,$BD$3:$BE$83,2,0)&"'!$B:$B"),0),MATCH(9003,INDIRECT("'"&VLOOKUP($B$3,$BD$3:$BE$83,2,0)&"'!$B:$B"),0)+1),MATCH(VLOOKUP($B$4,$BF$3:$BR$21,7,0),INDIRECT("'"&VLOOKUP($B$3,$BD$3:$BE$83,2,0)&"'!$5:$5"),0))),0)+IFERROR(INDIRECT("'"&VLOOKUP($B$3,$BD$3:$BE$83,2,0)&"'!"&ADDRESS(IFERROR(MATCH(VLOOKUP(B6,$AZ$3:$BB$83,2,0),INDIRECT("'"&VLOOKUP($B$3,$BD$3:$BE$83,2,0)&"'!$B:$B"),0),MATCH(9003,INDIRECT("'"&VLOOKUP($B$3,$BD$3:$BE$83,2,0)&"'!$B:$B"),0)+1),MATCH(VLOOKUP($B$4,$BF$3:$BR$21,8,0),INDIRECT("'"&VLOOKUP($B$3,$BD$3:$BE$83,2,0)&"'!$5:$5"),0))),0)+IFERROR(INDIRECT("'"&VLOOKUP($B$3,$BD$3:$BE$83,2,0)&"'!"&ADDRESS(IFERROR(MATCH(VLOOKUP(B6,$AZ$3:$BB$83,2,0),INDIRECT("'"&VLOOKUP($B$3,$BD$3:$BE$83,2,0)&"'!$B:$B"),0),MATCH(9003,INDIRECT("'"&VLOOKUP($B$3,$BD$3:$BE$83,2,0)&"'!$B:$B"),0)+1),MATCH(VLOOKUP($B$4,$BF$3:$BR$21,9,0),INDIRECT("'"&VLOOKUP($B$3,$BD$3:$BE$83,2,0)&"'!$5:$5"),0))),0)+IFERROR(INDIRECT("'"&VLOOKUP($B$3,$BD$3:$BE$83,2,0)&"'!"&ADDRESS(IFERROR(MATCH(VLOOKUP(B6,$AZ$3:$BB$83,2,0),INDIRECT("'"&VLOOKUP($B$3,$BD$3:$BE$83,2,0)&"'!$B:$B"),0),MATCH(9003,INDIRECT("'"&VLOOKUP($B$3,$BD$3:$BE$83,2,0)&"'!$B:$B"),0)+1),MATCH(VLOOKUP($B$4,$BF$3:$BR$21,10,0),INDIRECT("'"&VLOOKUP($B$3,$BD$3:$BE$83,2,0)&"'!$5:$5"),0))),0)+IFERROR(INDIRECT("'"&VLOOKUP($B$3,$BD$3:$BE$83,2,0)&"'!"&ADDRESS(IFERROR(MATCH(VLOOKUP(B6,$AZ$3:$BB$83,2,0),INDIRECT("'"&VLOOKUP($B$3,$BD$3:$BE$83,2,0)&"'!$B:$B"),0),MATCH(9003,INDIRECT("'"&VLOOKUP($B$3,$BD$3:$BE$83,2,0)&"'!$B:$B"),0)+1),MATCH(VLOOKUP($B$4,$BF$3:$BR$21,11,0),INDIRECT("'"&VLOOKUP($B$3,$BD$3:$BE$83,2,0)&"'!$5:$5"),0))),0) -> 2.3425154e+09 | E6: Chubb European Group SE Merkezi Fransa Türkiye İstanbul Şubesi | F6: =IFERROR(INDIRECT("'"&VLOOKUP($E$3,$BD$3:$BE$83,2,0)&"'!"&ADDRESS(IFERROR(MATCH(VLOOKUP(E6,$AZ$3:$BB$83,2,0),INDIRECT("'"&VLOOKUP($E$3,$BD$3:$BE$83,2,0)&"'!$B:$B"),0),MATCH(9003,INDIRECT("'"&VLOOKUP($E$3,$BD$3:$BE$83,2,0)&"'!$B:$B"),0)+1),MATCH(VLOOKUP($E$4,$BF$3:$BR$21,2,0),INDIRECT("'"&VLOOKUP($E$3,$BD$3:$BE$83,2,0)&"'!$5:$5"),0))),0)+IFERROR(INDIRECT("'"&VLOOKUP($E$3,$BD$3:$BE$83,2,0)&"'!"&ADDRESS(IFERROR(MATCH(VLOOKUP(E6,$AZ$3:$BB$83,2,0),INDIRECT("'"&VLOOKUP($E$3,$BD$3:$BE$83,2,0)&"'!$B:$B"),0),MATCH(9003,INDIRECT("'"&VLOOKUP($E$3,$BD$3:$BE$83,2,0)&"'!$B:$B"),0)+1),MATCH(VLOOKUP($E$4,$BF$3:$BR$21,3,0),INDIRECT("'"&VLOOKUP($E$3,$BD$3:$BE$83,2,0)&"'!$5:$5"),0))),0)+IFERROR(INDIRECT("'"&VLOOKUP($E$3,$BD$3:$BE$83,2,0)&"'!"&ADDRESS(IFERROR(MATCH(VLOOKUP(E6,$AZ$3:$BB$83,2,0),INDIRECT("'"&VLOOKUP($E$3,$BD$3:$BE$83,2,0)&"'!$B:$B"),0),MATCH(9003,INDIRECT("'"&VLOOKUP($E$3,$BD$3:$BE$83,2,0)&"'!$B:$B"),0)+1),MATCH(VLOOKUP($E$4,$BF$3:$BR$21,4,0),INDIRECT("'"&VLOOKUP($E$3,$BD$3:$BE$83,2,0)&"'!$5:$5"),0))),0)+IFERROR(INDIRECT("'"&VLOOKUP($E$3,$BD$3:$BE$83,2,0)&"'!"&ADDRESS(IFERROR(MATCH(VLOOKUP(E6,$AZ$3:$BB$83,2,0),INDIRECT("'"&VLOOKUP($E$3,$BD$3:$BE$83,2,0)&"'!$B:$B"),0),MATCH(9003,INDIRECT("'"&VLOOKUP($E$3,$BD$3:$BE$83,2,0)&"'!$B:$B"),0)+1),MATCH(VLOOKUP($E$4,$BF$3:$BR$21,5,0),INDIRECT("'"&VLOOKUP($E$3,$BD$3:$BE$83,2,0)&"'!$5:$5"),0))),0)+IFERROR(INDIRECT("'"&VLOOKUP($E$3,$BD$3:$BE$83,2,0)&"'!"&ADDRESS(IFERROR(MATCH(VLOOKUP(E6,$AZ$3:$BB$83,2,0),INDIRECT("'"&VLOOKUP($E$3,$BD$3:$BE$83,2,0)&"'!$B:$B"),0),MATCH(9003,INDIRECT("'"&VLOOKUP($E$3,$BD$3:$BE$83,2,0)&"'!$B:$B"),0)+1),MATCH(VLOOKUP($E$4,$BF$3:$BR$21,6,0),INDIRECT("'"&VLOOKUP($E$3,$BD$3:$BE$83,2,0)&"'!$5:$5"),0))),0)+IFERROR(INDIRECT("'"&VLOOKUP($E$3,$BD$3:$BE$83,2,0)&"'!"&ADDRESS(IFERROR(MATCH(VLOOKUP(E6,$AZ$3:$BB$83,2,0),INDIRECT("'"&VLOOKUP($E$3,$BD$3:$BE$83,2,0)&"'!$B:$B"),0),MATCH(9003,INDIRECT("'"&VLOOKUP($E$3,$BD$3:$BE$83,2,0)&"'!$B:$B"),0)+1),MATCH(VLOOKUP($E$4,$BF$3:$BR$21,7,0),INDIRECT("'"&VLOOKUP($E$3,$BD$3:$BE$83,2,0)&"'!$5:$5"),0))),0)+IFERROR(INDIRECT("'"&VLOOKUP($E$3,$BD$3:$BE$83,2,0)&"'!"&ADDRESS(IFERROR(MATCH(VLOOKUP(E6,$AZ$3:$BB$83,2,0),INDIRECT("'"&VLOOKUP($E$3,$BD$3:$BE$83,2,0)&"'!$B:$B"),0),MATCH(9003,INDIRECT("'"&VLOOKUP($E$3,$BD$3:$BE$83,2,0)&"'!$B:$B"),0)+1),MATCH(VLOOKUP($E$4,$BF$3:$BR$21,8,0),INDIRECT("'"&VLOOKUP($E$3,$BD$3:$BE$83,2,0)&"'!$5:$5"),0))),0)+IFERROR(INDIRECT("'"&VLOOKUP($E$3,$BD$3:$BE$83,2,0)&"'!"&ADDRESS(IFERROR(MATCH(VLOOKUP(E6,$AZ$3:$BB$83,2,0),INDIRECT("'"&VLOOKUP($E$3,$BD$3:$BE$83,2,0)&"'!$B:$B"),0),MATCH(9003,INDIRECT("'"&VLOOKUP($E$3,$BD$3:$BE$83,2,0)&"'!$B:$B"),0)+1),MATCH(VLOOKUP($E$4,$BF$3:$BR$21,9,0),INDIRECT("'"&VLOOKUP($E$3,$BD$3:$BE$83,2,0)&"'!$5:$5"),0))),0)+IFERROR(INDIRECT("'"&VLOOKUP($E$3,$BD$3:$BE$83,2,0)&"'!"&ADDRESS(IFERROR(MATCH(VLOOKUP(E6,$AZ$3:$BB$83,2,0),INDIRECT("'"&VLOOKUP($E$3,$BD$3:$BE$83,2,0)&"'!$B:$B"),0),MATCH(9003,INDIRECT("'"&VLOOKUP($E$3,$BD$3:$BE$83,2,0)&"'!$B:$B"),0)+1),MATCH(VLOOKUP($E$4,$BF$3:$BR$21,10,0),INDIRECT("'"&VLOOKUP($E$3,$BD$3:$BE$83,2,0)&"'!$5:$5"),0))),0)+IFERROR(INDIRECT("'"&VLOOKUP($E$3,$BD$3:$BE$83,2,0)&"'!"&ADDRESS(IFERROR(MATCH(VLOOKUP(E6,$AZ$3:$BB$83,2,0),INDIRECT("'"&VLOOKUP($E$3,$BD$3:$BE$83,2,0)&"'!$B:$B"),0),MATCH(9003,INDIRECT("'"&VLOOKUP($E$3,$BD$3:$BE$83,2,0)&"'!$B:$B"),0)+1),MATCH(VLOOKUP($E$4,$BF$3:$BR$21,11,0),INDIRECT("'"&VLOOKUP($E$3,$BD$3:$BE$83,2,0)&"'!$5:$5"),0))),0) -> 2.3425154e+09 | AZ6: Anadolu Anonim Türk Sigorta Şirketi | BA6: 1005 | BD6: Hastalık-Sağlık | BE6: HASTALIK-SAĞLIK | BF6: Brüt Muallak Tazminatlar | BG6: 611011 | BH6: 631011
B7: Aksigorta AŞ | C7: =IFERROR(INDIRECT("'"&VLOOKUP($B$3,$BD$3:$BE$83,2,0)&"'!"&ADDRESS(IFERROR(MATCH(VLOOKUP(B7,$AZ$3:$BB$83,2,0),INDIRECT("'"&VLOOKUP($B$3,$BD$3:$BE$83,2,0)&"'!$B:$B"),0),MATCH(9003,INDIRECT("'"&VLOOKUP($B$3,$BD$3:$BE$83,2,0)&"'!$B:$B"),0)+1),MATCH(VLOOKUP($B$4,$BF$3:$BR$21,2,0),INDIRECT("'"&VLOOKUP($B$3,$BD$3:$BE$83,2,0)&"'!$5:$5"),0))),0)+IFERROR(INDIRECT("'"&VLOOKUP($B$3,$BD$3:$BE$83,2,0)&"'!"&ADDRESS(IFERROR(MATCH(VLOOKUP(B7,$AZ$3:$BB$83,2,0),INDIRECT("'"&VLOOKUP($B$3,$BD$3:$BE$83,2,0)&"'!$B:$B"),0),MATCH(9003,INDIRECT("'"&VLOOKUP($B$3,$BD$3:$BE$83,2,0)&"'!$B:$B"),0)+1),MATCH(VLOOKUP($B$4,$BF$3:$BR$21,3,0),INDIRECT("'"&VLOOKUP($B$3,$BD$3:$BE$83,2,0)&"'!$5:$5"),0))),0)+IFERROR(INDIRECT("'"&VLOOKUP($B$3,$BD$3:$BE$83,2,0)&"'!"&ADDRESS(IFERROR(MATCH(VLOOKUP(B7,$AZ$3:$BB$83,2,0),INDIRECT("'"&VLOOKUP($B$3,$BD$3:$BE$83,2,0)&"'!$B:$B"),0),MATCH(9003,INDIRECT("'"&VLOOKUP($B$3,$BD$3:$BE$83,2,0)&"'!$B:$B"),0)+1),MATCH(VLOOKUP($B$4,$BF$3:$BR$21,4,0),INDIRECT("'"&VLOOKUP($B$3,$BD$3:$BE$83,2,0)&"'!$5:$5"),0))),0)+IFERROR(INDIRECT("'"&VLOOKUP($B$3,$BD$3:$BE$83,2,0)&"'!"&ADDRESS(IFERROR(MATCH(VLOOKUP(B7,$AZ$3:$BB$83,2,0),INDIRECT("'"&VLOOKUP($B$3,$BD$3:$BE$83,2,0)&"'!$B:$B"),0),MATCH(9003,INDIRECT("'"&VLOOKUP($B$3,$BD$3:$BE$83,2,0)&"'!$B:$B"),0)+1),MATCH(VLOOKUP($B$4,$BF$3:$BR$21,5,0),INDIRECT("'"&VLOOKUP($B$3,$BD$3:$BE$83,2,0)&"'!$5:$5"),0))),0)+IFERROR(INDIRECT("'"&VLOOKUP($B$3,$BD$3:$BE$83,2,0)&"'!"&ADDRESS(IFERROR(MATCH(VLOOKUP(B7,$AZ$3:$BB$83,2,0),INDIRECT("'"&VLOOKUP($B$3,$BD$3:$BE$83,2,0)&"'!$B:$B"),0),MATCH(9003,INDIRECT("'"&VLOOKUP($B$3,$BD$3:$BE$83,2,0)&"'!$B:$B"),0)+1),MATCH(VLOOKUP($B$4,$BF$3:$BR$21,6,0),INDIRECT("'"&VLOOKUP($B$3,$BD$3:$BE$83,2,0)&"'!$5:$5"),0))),0)+IFERROR(INDIRECT("'"&VLOOKUP($B$3,$BD$3:$BE$83,2,0)&"'!"&ADDRESS(IFERROR(MATCH(VLOOKUP(B7,$AZ$3:$BB$83,2,0),INDIRECT("'"&VLOOKUP($B$3,$BD$3:$BE$83,2,0)&"'!$B:$B"),0),MATCH(9003,INDIRECT("'"&VLOOKUP($B$3,$BD$3:$BE$83,2,0)&"'!$B:$B"),0)+1),MATCH(VLOOKUP($B$4,$BF$3:$BR$21,7,0),INDIRECT("'"&VLOOKUP($B$3,$BD$3:$BE$83,2,0)&"'!$5:$5"),0))),0)+IFERROR(INDIRECT("'"&VLOOKUP($B$3,$BD$3:$BE$83,2,0)&"'!"&ADDRESS(IFERROR(MATCH(VLOOKUP(B7,$AZ$3:$BB$83,2,0),INDIRECT("'"&VLOOKUP($B$3,$BD$3:$BE$83,2,0)&"'!$B:$B"),0),MATCH(9003,INDIRECT("'"&VLOOKUP($B$3,$BD$3:$BE$83,2,0)&"'!$B:$B"),0)+1),MATCH(VLOOKUP($B$4,$BF$3:$BR$21,8,0),INDIRECT("'"&VLOOKUP($B$3,$BD$3:$BE$83,2,0)&"'!$5:$5"),0))),0)+IFERROR(INDIRECT("'"&VLOOKUP($B$3,$BD$3:$BE$83,2,0)&"'!"&ADDRESS(IFERROR(MATCH(VLOOKUP(B7,$AZ$3:$BB$83,2,0),INDIRECT("'"&VLOOKUP($B$3,$BD$3:$BE$83,2,0)&"'!$B:$B"),0),MATCH(9003,INDIRECT("'"&VLOOKUP($B$3,$BD$3:$BE$83,2,0)&"'!$B:$B"),0)+1),MATCH(VLOOKUP($B$4,$BF$3:$BR$21,9,0),INDIRECT("'"&VLOOKUP($B$3,$BD$3:$BE$83,2,0)&"'!$5:$5"),0))),0)+IFERROR(INDIRECT("'"&VLOOKUP($B$3,$BD$3:$BE$83,2,0)&"'!"&ADDRESS(IFERROR(MATCH(VLOOKUP(B7,$AZ$3:$BB$83,2,0),INDIRECT("'"&VLOOKUP($B$3,$BD$3:$BE$83,2,0)&"'!$B:$B"),0),MATCH(9003,INDIRECT("'"&VLOOKUP($B$3,$BD$3:$BE$83,2,0)&"'!$B:$B"),0)+1),MATCH(VLOOKUP($B$4,$BF$3:$BR$21,10,0),INDIRECT("'"&VLOOKUP($B$3,$BD$3:$BE$83,2,0)&"'!$5:$5"),0))),0)+IFERROR(INDIRECT("'"&VLOOKUP($B$3,$BD$3:$BE$83,2,0)&"'!"&ADDRESS(IFERROR(MATCH(VLOOKUP(B7,$AZ$3:$BB$83,2,0),INDIRECT("'"&VLOOKUP($B$3,$BD$3:$BE$83,2,0)&"'!$B:$B"),0),MATCH(9003,INDIRECT("'"&VLOOKUP($B$3,$BD$3:$BE$83,2,0)&"'!$B:$B"),0)+1),MATCH(VLOOKUP($B$4,$BF$3:$BR$21,11,0),INDIRECT("'"&VLOOKUP($B$3,$BD$3:$BE$83,2,0)&"'!$5:$5"),0))),0) -> 3.5101022e+10 | E7: Aksigorta AŞ | F7: =IFERROR(INDIRECT("'"&VLOOKUP($E$3,$BD$3:$BE$83,2,0)&"'!"&ADDRESS(IFERROR(MATCH(VLOOKUP(E7,$AZ$3:$BB$83,2,0),INDIRECT("'"&VLOOKUP($E$3,$BD$3:$BE$83,2,0)&"'!$B:$B"),0),MATCH(9003,INDIRECT("'"&VLOOKUP($E$3,$BD$3:$BE$83,2,0)&"'!$B:$B"),0)+1),MATCH(VLOOKUP($E$4,$BF$3:$BR$21,2,0),INDIRECT("'"&VLOOKUP($E$3,$BD$3:$BE$83,2,0)&"'!$5:$5"),0))),0)+IFERROR(INDIRECT("'"&VLOOKUP($E$3,$BD$3:$BE$83,2,0)&"'!"&ADDRESS(IFERROR(MATCH(VLOOKUP(E7,$AZ$3:$BB$83,2,0),INDIRECT("'"&VLOOKUP($E$3,$BD$3:$BE$83,2,0)&"'!$B:$B"),0),MATCH(9003,INDIRECT("'"&VLOOKUP($E$3,$BD$3:$BE$83,2,0)&"'!$B:$B"),0)+1),MATCH(VLOOKUP($E$4,$BF$3:$BR$21,3,0),INDIRECT("'"&VLOOKUP($E$3,$BD$3:$BE$83,2,0)&"'!$5:$5"),0))),0)+IFERROR(INDIRECT("'"&VLOOKUP($E$3,$BD$3:$BE$83,2,0)&"'!"&ADDRESS(IFERROR(MATCH(VLOOKUP(E7,$AZ$3:$BB$83,2,0),INDIRECT("'"&VLOOKUP($E$3,$BD$3:$BE$83,2,0)&"'!$B:$B"),0),MATCH(9003,INDIRECT("'"&VLOOKUP($E$3,$BD$3:$BE$83,2,0)&"'!$B:$B"),0)+1),MATCH(VLOOKUP($E$4,$BF$3:$BR$21,4,0),INDIRECT("'"&VLOOKUP($E$3,$BD$3:$BE$83,2,0)&"'!$5:$5"),0))),0)+IFERROR(INDIRECT("'"&VLOOKUP($E$3,$BD$3:$BE$83,2,0)&"'!"&ADDRESS(IFERROR(MATCH(VLOOKUP(E7,$AZ$3:$BB$83,2,0),INDIRECT("'"&VLOOKUP($E$3,$BD$3:$BE$83,2,0)&"'!$B:$B"),0),MATCH(9003,INDIRECT("'"&VLOOKUP($E$3,$BD$3:$BE$83,2,0)&"'!$B:$B"),0)+1),MATCH(VLOOKUP($E$4,$BF$3:$BR$21,5,0),INDIRECT("'"&VLOOKUP($E$3,$BD$3:$BE$83,2,0)&"'!$5:$5"),0))),0)+IFERROR(INDIRECT("'"&VLOOKUP($E$3,$BD$3:$BE$83,2,0)&"'!"&ADDRESS(IFERROR(MATCH(VLOOKUP(E7,$AZ$3:$BB$83,2,0),INDIRECT("'"&VLOOKUP($E$3,$BD$3:$BE$83,2,0)&"'!$B:$B"),0),MATCH(9003,INDIRECT("'"&VLOOKUP($E$3,$BD$3:$BE$83,2,0)&"'!$B:$B"),0)+1),MATCH(VLOOKUP($E$4,$BF$3:$BR$21,6,0),INDIRECT("'"&VLOOKUP($E$3,$BD$3:$BE$83,2,0)&"'!$5:$5"),0))),0)+IFERROR(INDIRECT("'"&VLOOKUP($E$3,$BD$3:$BE$83,2,0)&"'!"&ADDRESS(IFERROR(MATCH(VLOOKUP(E7,$AZ$3:$BB$83,2,0),INDIRECT("'"&VLOOKUP($E$3,$BD$3:$BE$83,2,0)&"'!$B:$B"),0),MATCH(9003,INDIRECT("'"&VLOOKUP($E$3,$BD$3:$BE$83,2,0)&"'!$B:$B"),0)+1),MATCH(VLOOKUP($E$4,$BF$3:$BR$21,7,0),INDIRECT("'"&VLOOKUP($E$3,$BD$3:$BE$83,2,0)&"'!$5:$5"),0))),0)+IFERROR(INDIRECT("'"&VLOOKUP($E$3,$BD$3:$BE$83,2,0)&"'!"&ADDRESS(IFERROR(MATCH(VLOOKUP(E7,$AZ$3:$BB$83,2,0),INDIRECT("'"&VLOOKUP($E$3,$BD$3:$BE$83,2,0)&"'!$B:$B"),0),MATCH(9003,INDIRECT("'"&VLOOKUP($E$3,$BD$3:$BE$83,2,0)&"'!$B:$B"),0)+1),MATCH(VLOOKUP($E$4,$BF$3:$BR$21,8,0),INDIRECT("'"&VLOOKUP($E$3,$BD$3:$BE$83,2,0)&"'!$5:$5"),0))),0)+IFERROR(INDIRECT("'"&VLOOKUP($E$3,$BD$3:$BE$83,2,0)&"'!"&ADDRESS(IFERROR(MATCH(VLOOKUP(E7,$AZ$3:$BB$83,2,0),INDIRECT("'"&VLOOKUP($E$3,$BD$3:$BE$83,2,0)&"'!$B:$B"),0),MATCH(9003,INDIRECT("'"&VLOOKUP($E$3,$BD$3:$BE$83,2,0)&"'!$B:$B"),0)+1),MATCH(VLOOKUP($E$4,$BF$3:$BR$21,9,0),INDIRECT("'"&VLOOKUP($E$3,$BD$3:$BE$83,2,0)&"'!$5:$5"),0))),0)+IFERROR(INDIRECT("'"&VLOOKUP($E$3,$BD$3:$BE$83,2,0)&"'!"&ADDRESS(IFERROR(MATCH(VLOOKUP(E7,$AZ$3:$BB$83,2,0),INDIRECT("'"&VLOOKUP($E$3,$BD$3:$BE$83,2,0)&"'!$B:$B"),0),MATCH(9003,INDIRECT("'"&VLOOKUP($E$3,$BD$3:$BE$83,2,0)&"'!$B:$B"),0)+1),MATCH(VLOOKUP($E$4,$BF$3:$BR$21,10,0),INDIRECT("'"&VLOOKUP($E$3,$BD$3:$BE$83,2,0)&"'!$5:$5"),0))),0)+IFERROR(INDIRECT("'"&VLOOKUP($E$3,$BD$3:$BE$83,2,0)&"'!"&ADDRESS(IFERROR(MATCH(VLOOKUP(E7,$AZ$3:$BB$83,2,0),INDIRECT("'"&VLOOKUP($E$3,$BD$3:$BE$83,2,0)&"'!$B:$B"),0),MATCH(9003,INDIRECT("'"&VLOOKUP($E$3,$BD$3:$BE$83,2,0)&"'!$B:$B"),0)+1),MATCH(VLOOKUP($E$4,$BF$3:$BR$21,11,0),INDIRECT("'"&VLOOKUP($E$3,$BD$3:$BE$83,2,0)&"'!$5:$5"),0))),0) -> 3.5101022e+10 | AZ7: Ankara Anonim Türk Sigorta Şirketi | BA7: 1006 | BD7: Kara Araçları | BE7: KARA ARAÇLARI | BF7: Brüt Raporlanmayan Tazminatlar | BG7: 61101102 | BH7: 63101102
B8: Allianz Sigorta AŞ | C8: =IFERROR(INDIRECT("'"&VLOOKUP($B$3,$BD$3:$BE$83,2,0)&"'!"&ADDRESS(IFERROR(MATCH(VLOOKUP(B8,$AZ$3:$BB$83,2,0),INDIRECT("'"&VLOOKUP($B$3,$BD$3:$BE$83,2,0)&"'!$B:$B"),0),MATCH(9003,INDIRECT("'"&VLOOKUP($B$3,$BD$3:$BE$83,2,0)&"'!$B:$B"),0)+1),MATCH(VLOOKUP($B$4,$BF$3:$BR$21,2,0),INDIRECT("'"&VLOOKUP($B$3,$BD$3:$BE$83,2,0)&"'!$5:$5"),0))),0)+IFERROR(INDIRECT("'"&VLOOKUP($B$3,$BD$3:$BE$83,2,0)&"'!"&ADDRESS(IFERROR(MATCH(VLOOKUP(B8,$AZ$3:$BB$83,2,0),INDIRECT("'"&VLOOKUP($B$3,$BD$3:$BE$83,2,0)&"'!$B:$B"),0),MATCH(9003,INDIRECT("'"&VLOOKUP($B$3,$BD$3:$BE$83,2,0)&"'!$B:$B"),0)+1),MATCH(VLOOKUP($B$4,$BF$3:$BR$21,3,0),INDIRECT("'"&VLOOKUP($B$3,$BD$3:$BE$83,2,0)&"'!$5:$5"),0))),0)+IFERROR(INDIRECT("'"&VLOOKUP($B$3,$BD$3:$BE$83,2,0)&"'!"&ADDRESS(IFERROR(MATCH(VLOOKUP(B8,$AZ$3:$BB$83,2,0),INDIRECT("'"&VLOOKUP($B$3,$BD$3:$BE$83,2,0)&"'!$B:$B"),0),MATCH(9003,INDIRECT("'"&VLOOKUP($B$3,$BD$3:$BE$83,2,0)&"'!$B:$B"),0)+1),MATCH(VLOOKUP($B$4,$BF$3:$BR$21,4,0),INDIRECT("'"&VLOOKUP($B$3,$BD$3:$BE$83,2,0)&"'!$5:$5"),0))),0)+IFERROR(INDIRECT("'"&VLOOKUP($B$3,$BD$3:$BE$83,2,0)&"'!"&ADDRESS(IFERROR(MATCH(VLOOKUP(B8,$AZ$3:$BB$83,2,0),INDIRECT("'"&VLOOKUP($B$3,$BD$3:$BE$83,2,0)&"'!$B:$B"),0),MATCH(9003,INDIRECT("'"&VLOOKUP($B$3,$BD$3:$BE$83,2,0)&"'!$B:$B"),0)+1),MATCH(VLOOKUP($B$4,$BF$3:$BR$21,5,0),INDIRECT("'"&VLOOKUP($B$3,$BD$3:$BE$83,2,0)&"'!$5:$5"),0))),0)+IFERROR(INDIRECT("'"&VLOOKUP($B$3,$BD$3:$BE$83,2,0)&"'!"&ADDRESS(IFERROR(MATCH(VLOOKUP(B8,$AZ$3:$BB$83,2,0),INDIRECT("'"&VLOOKUP($B$3,$BD$3:$BE$83,2,0)&"'!$B:$B"),0),MATCH(9003,INDIRECT("'"&VLOOKUP($B$3,$BD$3:$BE$83,2,0)&"'!$B:$B"),0)+1),MATCH(VLOOKUP($B$4,$BF$3:$BR$21,6,0),INDIRECT("'"&VLOOKUP($B$3,$BD$3:$BE$83,2,0)&"'!$5:$5"),0))),0)+IFERROR(INDIRECT("'"&VLOOKUP($B$3,$BD$3:$BE$83,2,0)&"'!"&ADDRESS(IFERROR(MATCH(VLOOKUP(B8,$AZ$3:$BB$83,2,0),INDIRECT("'"&VLOOKUP($B$3,$BD$3:$BE$83,2,0)&"'!$B:$B"),0),MATCH(9003,INDIRECT("'"&VLOOKUP($B$3,$BD$3:$BE$83,2,0)&"'!$B:$B"),0)+1),MATCH(VLOOKUP($B$4,$BF$3:$BR$21,7,0),INDIRECT("'"&VLOOKUP($B$3,$BD$3:$BE$83,2,0)&"'!$5:$5"),0))),0)+IFERROR(INDIRECT("'"&VLOOKUP($B$3,$BD$3:$BE$83,2,0)&"'!"&ADDRESS(IFERROR(MATCH(VLOOKUP(B8,$AZ$3:$BB$83,2,0),INDIRECT("'"&VLOOKUP($B$3,$BD$3:$BE$83,2,0)&"'!$B:$B"),0),MATCH(9003,INDIRECT("'"&VLOOKUP($B$3,$BD$3:$BE$83,2,0)&"'!$B:$B"),0)+1),MATCH(VLOOKUP($B$4,$BF$3:$BR$21,8,0),INDIRECT("'"&VLOOKUP($B$3,$BD$3:$BE$83,2,0)&"'!$5:$5"),0))),0)+IFERROR(INDIRECT("'"&VLOOKUP($B$3,$BD$3:$BE$83,2,0)&"'!"&ADDRESS(IFERROR(MATCH(VLOOKUP(B8,$AZ$3:$BB$83,2,0),INDIRECT("'"&VLOOKUP($B$3,$BD$3:$BE$83,2,0)&"'!$B:$B"),0),MATCH(9003,INDIRECT("'"&VLOOKUP($B$3,$BD$3:$BE$83,2,0)&"'!$B:$B"),0)+1),MATCH(VLOOKUP($B$4,$BF$3:$BR$21,9,0),INDIRECT("'"&VLOOKUP($B$3,$BD$3:$BE$83,2,0)&"'!$5:$5"),0))),0)+IFERROR(INDIRECT("'"&VLOOKUP($B$3,$BD$3:$BE$83,2,0)&"'!"&ADDRESS(IFERROR(MATCH(VLOOKUP(B8,$AZ$3:$BB$83,2,0),INDIRECT("'"&VLOOKUP($B$3,$BD$3:$BE$83,2,0)&"'!$B:$B"),0),MATCH(9003,INDIRECT("'"&VLOOKUP($B$3,$BD$3:$BE$83,2,0)&"'!$B:$B"),0)+1),MATCH(VLOOKUP($B$4,$BF$3:$BR$21,10,0),INDIRECT("'"&VLOOKUP($B$3,$BD$3:$BE$83,2,0)&"'!$5:$5"),0))),0)+IFERROR(INDIRECT("'"&VLOOKUP($B$3,$BD$3:$BE$83,2,0)&"'!"&ADDRESS(IFERROR(MATCH(VLOOKUP(B8,$AZ$3:$BB$83,2,0),INDIRECT("'"&VLOOKUP($B$3,$BD$3:$BE$83,2,0)&"'!$B:$B"),0),MATCH(9003,INDIRECT("'"&VLOOKUP($B$3,$BD$3:$BE$83,2,0)&"'!$B:$B"),0)+1),MATCH(VLOOKUP($B$4,$BF$3:$BR$21,11,0),INDIRECT("'"&VLOOKUP($B$3,$BD$3:$BE$83,2,0)&"'!$5:$5"),0))),0) -> 1.1538452e+11 | E8: Allianz Sigorta AŞ | F8: =IFERROR(INDIRECT("'"&VLOOKUP($E$3,$BD$3:$BE$83,2,0)&"'!"&ADDRESS(IFERROR(MATCH(VLOOKUP(E8,$AZ$3:$BB$83,2,0),INDIRECT("'"&VLOOKUP($E$3,$BD$3:$BE$83,2,0)&"'!$B:$B"),0),MATCH(9003,INDIRECT("'"&VLOOKUP($E$3,$BD$3:$BE$83,2,0)&"'!$B:$B"),0)+1),MATCH(VLOOKUP($E$4,$BF$3:$BR$21,2,0),INDIRECT("'"&VLOOKUP($E$3,$BD$3:$BE$83,2,0)&"'!$5:$5"),0))),0)+IFERROR(INDIRECT("'"&VLOOKUP($E$3,$BD$3:$BE$83,2,0)&"'!"&ADDRESS(IFERROR(MATCH(VLOOKUP(E8,$AZ$3:$BB$83,2,0),INDIRECT("'"&VLOOKUP($E$3,$BD$3:$BE$83,2,0)&"'!$B:$B"),0),MATCH(9003,INDIRECT("'"&VLOOKUP($E$3,$BD$3:$BE$83,2,0)&"'!$B:$B"),0)+1),MATCH(VLOOKUP($E$4,$BF$3:$BR$21,3,0),INDIRECT("'"&VLOOKUP($E$3,$BD$3:$BE$83,2,0)&"'!$5:$5"),0))),0)+IFERROR(INDIRECT("'"&VLOOKUP($E$3,$BD$3:$BE$83,2,0)&"'!"&ADDRESS(IFERROR(MATCH(VLOOKUP(E8,$AZ$3:$BB$83,2,0),INDIRECT("'"&VLOOKUP($E$3,$BD$3:$BE$83,2,0)&"'!$B:$B"),0),MATCH(9003,INDIRECT("'"&VLOOKUP($E$3,$BD$3:$BE$83,2,0)&"'!$B:$B"),0)+1),MATCH(VLOOKUP($E$4,$BF$3:$BR$21,4,0),INDIRECT("'"&VLOOKUP($E$3,$BD$3:$BE$83,2,0)&"'!$5:$5"),0))),0)+IFERROR(INDIRECT("'"&VLOOKUP($E$3,$BD$3:$BE$83,2,0)&"'!"&ADDRESS(IFERROR(MATCH(VLOOKUP(E8,$AZ$3:$BB$83,2,0),INDIRECT("'"&VLOOKUP($E$3,$BD$3:$BE$83,2,0)&"'!$B:$B"),0),MATCH(9003,INDIRECT("'"&VLOOKUP($E$3,$BD$3:$BE$83,2,0)&"'!$B:$B"),0)+1),MATCH(VLOOKUP($E$4,$BF$3:$BR$21,5,0),INDIRECT("'"&VLOOKUP($E$3,$BD$3:$BE$83,2,0)&"'!$5:$5"),0))),0)+IFERROR(INDIRECT("'"&VLOOKUP($E$3,$BD$3:$BE$83,2,0)&"'!"&ADDRESS(IFERROR(MATCH(VLOOKUP(E8,$AZ$3:$BB$83,2,0),INDIRECT("'"&VLOOKUP($E$3,$BD$3:$BE$83,2,0)&"'!$B:$B"),0),MATCH(9003,INDIRECT("'"&VLOOKUP($E$3,$BD$3:$BE$83,2,0)&"'!$B:$B"),0)+1),MATCH(VLOOKUP($E$4,$BF$3:$BR$21,6,0),INDIRECT("'"&VLOOKUP($E$3,$BD$3:$BE$83,2,0)&"'!$5:$5"),0))),0)+IFERROR(INDIRECT("'"&VLOOKUP($E$3,$BD$3:$BE$83,2,0)&"'!"&ADDRESS(IFERROR(MATCH(VLOOKUP(E8,$AZ$3:$BB$83,2,0),INDIRECT("'"&VLOOKUP($E$3,$BD$3:$BE$83,2,0)&"'!$B:$B"),0),MATCH(9003,INDIRECT("'"&VLOOKUP($E$3,$BD$3:$BE$83,2,0)&"'!$B:$B"),0)+1),MATCH(VLOOKUP($E$4,$BF$3:$BR$21,7,0),INDIRECT("'"&VLOOKUP($E$3,$BD$3:$BE$83,2,0)&"'!$5:$5"),0))),0)+IFERROR(INDIRECT("'"&VLOOKUP($E$3,$BD$3:$BE$83,2,0)&"'!"&ADDRESS(IFERROR(MATCH(VLOOKUP(E8,$AZ$3:$BB$83,2,0),INDIRECT("'"&VLOOKUP($E$3,$BD$3:$BE$83,2,0)&"'!$B:$B"),0),MATCH(9003,INDIRECT("'"&VLOOKUP($E$3,$BD$3:$BE$83,2,0)&"'!$B:$B"),0)+1),MATCH(VLOOKUP($E$4,$BF$3:$BR$21,8,0),INDIRECT("'"&VLOOKUP($E$3,$BD$3:$BE$83,2,0)&"'!$5:$5"),0))),0)+IFERROR(INDIRECT("'"&VLOOKUP($E$3,$BD$3:$BE$83,2,0)&"'!"&ADDRESS(IFERROR(MATCH(VLOOKUP(E8,$AZ$3:$BB$83,2,0),INDIRECT("'"&VLOOKUP($E$3,$BD$3:$BE$83,2,0)&"'!$B:$B"),0),MATCH(9003,INDIRECT("'"&VLOOKUP($E$3,$BD$3:$BE$83,2,0)&"'!$B:$B"),0)+1),MATCH(VLOOKUP($E$4,$BF$3:$BR$21,9,0),INDIRECT("'"&VLOOKUP($E$3,$BD$3:$BE$83,2,0)&"'!$5:$5"),0))),0)+IFERROR(INDIRECT("'"&VLOOKUP($E$3,$BD$3:$BE$83,2,0)&"'!"&ADDRESS(IFERROR(MATCH(VLOOKUP(E8,$AZ$3:$BB$83,2,0),INDIRECT("'"&VLOOKUP($E$3,$BD$3:$BE$83,2,0)&"'!$B:$B"),0),MATCH(9003,INDIRECT("'"&VLOOKUP($E$3,$BD$3:$BE$83,2,0)&"'!$B:$B"),0)+1),MATCH(VLOOKUP($E$4,$BF$3:$BR$21,10,0),INDIRECT("'"&VLOOKUP($E$3,$BD$3:$BE$83,2,0)&"'!$5:$5"),0))),0)+IFERROR(INDIRECT("'"&VLOOKUP($E$3,$BD$3:$BE$83,2,0)&"'!"&ADDRESS(IFERROR(MATCH(VLOOKUP(E8,$AZ$3:$BB$83,2,0),INDIRECT("'"&VLOOKUP($E$3,$BD$3:$BE$83,2,0)&"'!$B:$B"),0),MATCH(9003,INDIRECT("'"&VLOOKUP($E$3,$BD$3:$BE$83,2,0)&"'!$B:$B"),0)+1),MATCH(VLOOKUP($E$4,$BF$3:$BR$21,11,0),INDIRECT("'"&VLOOKUP($E$3,$BD$3:$BE$83,2,0)&"'!$5:$5"),0))),0) -> 1.1538452e+11 | AZ8: Atradius Crédito y Caución S.A. de Seguros y Reaseguros, İstanbul Şubesi | BA8: 1007 | BD8: Kasko | BE8: KASKO | BF8: Brüt Gerçekleşen Hasarlar | BG8: 61001 | BH8: 63001 | BI8: 61101 | BJ8: 63101
B9: Anadolu Anonim Türk Sigorta Şirketi | C9: =IFERROR(INDIRECT("'"&VLOOKUP($B$3,$BD$3:$BE$83,2,0)&"'!"&ADDRESS(IFERROR(MATCH(VLOOKUP(B9,$AZ$3:$BB$83,2,0),INDIRECT("'"&VLOOKUP($B$3,$BD$3:$BE$83,2,0)&"'!$B:$B"),0),MATCH(9003,INDIRECT("'"&VLOOKUP($B$3,$BD$3:$BE$83,2,0)&"'!$B:$B"),0)+1),MATCH(VLOOKUP($B$4,$BF$3:$BR$21,2,0),INDIRECT("'"&VLOOKUP($B$3,$BD$3:$BE$83,2,0)&"'!$5:$5"),0))),0)+IFERROR(INDIRECT("'"&VLOOKUP($B$3,$BD$3:$BE$83,2,0)&"'!"&ADDRESS(IFERROR(MATCH(VLOOKUP(B9,$AZ$3:$BB$83,2,0),INDIRECT("'"&VLOOKUP($B$3,$BD$3:$BE$83,2,0)&"'!$B:$B"),0),MATCH(9003,INDIRECT("'"&VLOOKUP($B$3,$BD$3:$BE$83,2,0)&"'!$B:$B"),0)+1),MATCH(VLOOKUP($B$4,$BF$3:$BR$21,3,0),INDIRECT("'"&VLOOKUP($B$3,$BD$3:$BE$83,2,0)&"'!$5:$5"),0))),0)+IFERROR(INDIRECT("'"&VLOOKUP($B$3,$BD$3:$BE$83,2,0)&"'!"&ADDRESS(IFERROR(MATCH(VLOOKUP(B9,$AZ$3:$BB$83,2,0),INDIRECT("'"&VLOOKUP($B$3,$BD$3:$BE$83,2,0)&"'!$B:$B"),0),MATCH(9003,INDIRECT("'"&VLOOKUP($B$3,$BD$3:$BE$83,2,0)&"'!$B:$B"),0)+1),MATCH(VLOOKUP($B$4,$BF$3:$BR$21,4,0),INDIRECT("'"&VLOOKUP($B$3,$BD$3:$BE$83,2,0)&"'!$5:$5"),0))),0)+IFERROR(INDIRECT("'"&VLOOKUP($B$3,$BD$3:$BE$83,2,0)&"'!"&ADDRESS(IFERROR(MATCH(VLOOKUP(B9,$AZ$3:$BB$83,2,0),INDIRECT("'"&VLOOKUP($B$3,$BD$3:$BE$83,2,0)&"'!$B:$B"),0),MATCH(9003,INDIRECT("'"&VLOOKUP($B$3,$BD$3:$BE$83,2,0)&"'!$B:$B"),0)+1),MATCH(VLOOKUP($B$4,$BF$3:$BR$21,5,0),INDIRECT("'"&VLOOKUP($B$3,$BD$3:$BE$83,2,0)&"'!$5:$5"),0))),0)+IFERROR(INDIRECT("'"&VLOOKUP($B$3,$BD$3:$BE$83,2,0)&"'!"&ADDRESS(IFERROR(MATCH(VLOOKUP(B9,$AZ$3:$BB$83,2,0),INDIRECT("'"&VLOOKUP($B$3,$BD$3:$BE$83,2,0)&"'!$B:$B"),0),MATCH(9003,INDIRECT("'"&VLOOKUP($B$3,$BD$3:$BE$83,2,0)&"'!$B:$B"),0)+1),MATCH(VLOOKUP($B$4,$BF$3:$BR$21,6,0),INDIRECT("'"&VLOOKUP($B$3,$BD$3:$BE$83,2,0)&"'!$5:$5"),0))),0)+IFERROR(INDIRECT("'"&VLOOKUP($B$3,$BD$3:$BE$83,2,0)&"'!"&ADDRESS(IFERROR(MATCH(VLOOKUP(B9,$AZ$3:$BB$83,2,0),INDIRECT("'"&VLOOKUP($B$3,$BD$3:$BE$83,2,0)&"'!$B:$B"),0),MATCH(9003,INDIRECT("'"&VLOOKUP($B$3,$BD$3:$BE$83,2,0)&"'!$B:$B"),0)+1),MATCH(VLOOKUP($B$4,$BF$3:$BR$21,7,0),INDIRECT("'"&VLOOKUP($B$3,$BD$3:$BE$83,2,0)&"'!$5:$5"),0))),0)+IFERROR(INDIRECT("'"&VLOOKUP($B$3,$BD$3:$BE$83,2,0)&"'!"&ADDRESS(IFERROR(MATCH(VLOOKUP(B9,$AZ$3:$BB$83,2,0),INDIRECT("'"&VLOOKUP($B$3,$BD$3:$BE$83,2,0)&"'!$B:$B"),0),MATCH(9003,INDIRECT("'"&VLOOKUP($B$3,$BD$3:$BE$83,2,0)&"'!$B:$B"),0)+1),MATCH(VLOOKUP($B$4,$BF$3:$BR$21,8,0),INDIRECT("'"&VLOOKUP($B$3,$BD$3:$BE$83,2,0)&"'!$5:$5"),0))),0)+IFERROR(INDIRECT("'"&VLOOKUP($B$3,$BD$3:$BE$83,2,0)&"'!"&ADDRESS(IFERROR(MATCH(VLOOKUP(B9,$AZ$3:$BB$83,2,0),INDIRECT("'"&VLOOKUP($B$3,$BD$3:$BE$83,2,0)&"'!$B:$B"),0),MATCH(9003,INDIRECT("'"&VLOOKUP($B$3,$BD$3:$BE$83,2,0)&"'!$B:$B"),0)+1),MATCH(VLOOKUP($B$4,$BF$3:$BR$21,9,0),INDIRECT("'"&VLOOKUP($B$3,$BD$3:$BE$83,2,0)&"'!$5:$5"),0))),0)+IFERROR(INDIRECT("'"&VLOOKUP($B$3,$BD$3:$BE$83,2,0)&"'!"&ADDRESS(IFERROR(MATCH(VLOOKUP(B9,$AZ$3:$BB$83,2,0),INDIRECT("'"&VLOOKUP($B$3,$BD$3:$BE$83,2,0)&"'!$B:$B"),0),MATCH(9003,INDIRECT("'"&VLOOKUP($B$3,$BD$3:$BE$83,2,0)&"'!$B:$B"),0)+1),MATCH(VLOOKUP($B$4,$BF$3:$BR$21,10,0),INDIRECT("'"&VLOOKUP($B$3,$BD$3:$BE$83,2,0)&"'!$5:$5"),0))),0)+IFERROR(INDIRECT("'"&VLOOKUP($B$3,$BD$3:$BE$83,2,0)&"'!"&ADDRESS(IFERROR(MATCH(VLOOKUP(B9,$AZ$3:$BB$83,2,0),INDIRECT("'"&VLOOKUP($B$3,$BD$3:$BE$83,2,0)&"'!$B:$B"),0),MATCH(9003,INDIRECT("'"&VLOOKUP($B$3,$BD$3:$BE$83,2,0)&"'!$B:$B"),0)+1),MATCH(VLOOKUP($B$4,$BF$3:$BR$21,11,0),INDIRECT("'"&VLOOKUP($B$3,$BD$3:$BE$83,2,0)&"'!$5:$5"),0))),0) -> 9.7883127e+10 | E9: Anadolu Anonim Türk Sigorta Şirketi | F9: =IFERROR(INDIRECT("'"&VLOOKUP($E$3,$BD$3:$BE$83,2,0)&"'!"&ADDRESS(IFERROR(MATCH(VLOOKUP(E9,$AZ$3:$BB$83,2,0),INDIRECT("'"&VLOOKUP($E$3,$BD$3:$BE$83,2,0)&"'!$B:$B"),0),MATCH(9003,INDIRECT("'"&VLOOKUP($E$3,$BD$3:$BE$83,2,0)&"'!$B:$B"),0)+1),MATCH(VLOOKUP($E$4,$BF$3:$BR$21,2,0),INDIRECT("'"&VLOOKUP($E$3,$BD$3:$BE$83,2,0)&"'!$5:$5"),0))),0)+IFERROR(INDIRECT("'"&VLOOKUP($E$3,$BD$3:$BE$83,2,0)&"'!"&ADDRESS(IFERROR(MATCH(VLOOKUP(E9,$AZ$3:$BB$83,2,0),INDIRECT("'"&VLOOKUP($E$3,$BD$3:$BE$83,2,0)&"'!$B:$B"),0),MATCH(9003,INDIRECT("'"&VLOOKUP($E$3,$BD$3:$BE$83,2,0)&"'!$B:$B"),0)+1),MATCH(VLOOKUP($E$4,$BF$3:$BR$21,3,0),INDIRECT("'"&VLOOKUP($E$3,$BD$3:$BE$83,2,0)&"'!$5:$5"),0))),0)+IFERROR(INDIRECT("'"&VLOOKUP($E$3,$BD$3:$BE$83,2,0)&"'!"&ADDRESS(IFERROR(MATCH(VLOOKUP(E9,$AZ$3:$BB$83,2,0),INDIRECT("'"&VLOOKUP($E$3,$BD$3:$BE$83,2,0)&"'!$B:$B"),0),MATCH(9003,INDIRECT("'"&VLOOKUP($E$3,$BD$3:$BE$83,2,0)&"'!$B:$B"),0)+1),MATCH(VLOOKUP($E$4,$BF$3:$BR$21,4,0),INDIRECT("'"&VLOOKUP($E$3,$BD$3:$BE$83,2,0)&"'!$5:$5"),0))),0)+IFERROR(INDIRECT("'"&VLOOKUP($E$3,$BD$3:$BE$83,2,0)&"'!"&ADDRESS(IFERROR(MATCH(VLOOKUP(E9,$AZ$3:$BB$83,2,0),INDIRECT("'"&VLOOKUP($E$3,$BD$3:$BE$83,2,0)&"'!$B:$B"),0),MATCH(9003,INDIRECT("'"&VLOOKUP($E$3,$BD$3:$BE$83,2,0)&"'!$B:$B"),0)+1),MATCH(VLOOKUP($E$4,$BF$3:$BR$21,5,0),INDIRECT("'"&VLOOKUP($E$3,$BD$3:$BE$83,2,0)&"'!$5:$5"),0))),0)+IFERROR(INDIRECT("'"&VLOOKUP($E$3,$BD$3:$BE$83,2,0)&"'!"&ADDRESS(IFERROR(MATCH(VLOOKUP(E9,$AZ$3:$BB$83,2,0),INDIRECT("'"&VLOOKUP($E$3,$BD$3:$BE$83,2,0)&"'!$B:$B"),0),MATCH(9003,INDIRECT("'"&VLOOKUP($E$3,$BD$3:$BE$83,2,0)&"'!$B:$B"),0)+1),MATCH(VLOOKUP($E$4,$BF$3:$BR$21,6,0),INDIRECT("'"&VLOOKUP($E$3,$BD$3:$BE$83,2,0)&"'!$5:$5"),0))),0)+IFERROR(INDIRECT("'"&VLOOKUP($E$3,$BD$3:$BE$83,2,0)&"'!"&ADDRESS(IFERROR(MATCH(VLOOKUP(E9,$AZ$3:$BB$83,2,0),INDIRECT("'"&VLOOKUP($E$3,$BD$3:$BE$83,2,0)&"'!$B:$B"),0),MATCH(9003,INDIRECT("'"&VLOOKUP($E$3,$BD$3:$BE$83,2,0)&"'!$B:$B"),0)+1),MATCH(VLOOKUP($E$4,$BF$3:$BR$21,7,0),INDIRECT("'"&VLOOKUP($E$3,$BD$3:$BE$83,2,0)&"'!$5:$5"),0))),0)+IFERROR(INDIRECT("'"&VLOOKUP($E$3,$BD$3:$BE$83,2,0)&"'!"&ADDRESS(IFERROR(MATCH(VLOOKUP(E9,$AZ$3:$BB$83,2,0),INDIRECT("'"&VLOOKUP($E$3,$BD$3:$BE$83,2,0)&"'!$B:$B"),0),MATCH(9003,INDIRECT("'"&VLOOKUP($E$3,$BD$3:$BE$83,2,0)&"'!$B:$B"),0)+1),MATCH(VLOOKUP($E$4,$BF$3:$BR$21,8,0),INDIRECT("'"&VLOOKUP($E$3,$BD$3:$BE$83,2,0)&"'!$5:$5"),0))),0)+IFERROR(INDIRECT("'"&VLOOKUP($E$3,$BD$3:$BE$83,2,0)&"'!"&ADDRESS(IFERROR(MATCH(VLOOKUP(E9,$AZ$3:$BB$83,2,0),INDIRECT("'"&VLOOKUP($E$3,$BD$3:$BE$83,2,0)&"'!$B:$B"),0),MATCH(9003,INDIRECT("'"&VLOOKUP($E$3,$BD$3:$BE$83,2,0)&"'!$B:$B"),0)+1),MATCH(VLOOKUP($E$4,$BF$3:$BR$21,9,0),INDIRECT("'"&VLOOKUP($E$3,$BD$3:$BE$83,2,0)&"'!$5:$5"),0))),0)+IFERROR(INDIRECT("'"&VLOOKUP($E$3,$BD$3:$BE$83,2,0)&"'!"&ADDRESS(IFERROR(MATCH(VLOOKUP(E9,$AZ$3:$BB$83,2,0),INDIRECT("'"&VLOOKUP($E$3,$BD$3:$BE$83,2,0)&"'!$B:$B"),0),MATCH(9003,INDIRECT("'"&VLOOKUP($E$3,$BD$3:$BE$83,2,0)&"'!$B:$B"),0)+1),MATCH(VLOOKUP($E$4,$BF$3:$BR$21,10,0),INDIRECT("'"&VLOOKUP($E$3,$BD$3:$BE$83,2,0)&"'!$5:$5"),0))),0)+IFERROR(INDIRECT("'"&VLOOKUP($E$3,$BD$3:$BE$83,2,0)&"'!"&ADDRESS(IFERROR(MATCH(VLOOKUP(E9,$AZ$3:$BB$83,2,0),INDIRECT("'"&VLOOKUP($E$3,$BD$3:$BE$83,2,0)&"'!$B:$B"),0),MATCH(9003,INDIRECT("'"&VLOOKUP($E$3,$BD$3:$BE$83,2,0)&"'!$B:$B"),0)+1),MATCH(VLOOKUP($E$4,$BF$3:$BR$21,11,0),INDIRECT("'"&VLOOKUP($E$3,$BD$3:$BE$83,2,0)&"'!$5:$5"),0))),0) -> 9.7883127e+10 | AZ9: Unico Sigorta AŞ | BA9: 1008 | BD9: Raylı Araçlar | BE9: RAYLI ARAÇLAR | BF9: Net Yazılan Primler | BG9: 600 | BH9: 620
B10: Ankara Anonim Türk Sigorta Şirketi | C10: =IFERROR(INDIRECT("'"&VLOOKUP($B$3,$BD$3:$BE$83,2,0)&"'!"&ADDRESS(IFERROR(MATCH(VLOOKUP(B10,$AZ$3:$BB$83,2,0),INDIRECT("'"&VLOOKUP($B$3,$BD$3:$BE$83,2,0)&"'!$B:$B"),0),MATCH(9003,INDIRECT("'"&VLOOKUP($B$3,$BD$3:$BE$83,2,0)&"'!$B:$B"),0)+1),MATCH(VLOOKUP($B$4,$BF$3:$BR$21,2,0),INDIRECT("'"&VLOOKUP($B$3,$BD$3:$BE$83,2,0)&"'!$5:$5"),0))),0)+IFERROR(INDIRECT("'"&VLOOKUP($B$3,$BD$3:$BE$83,2,0)&"'!"&ADDRESS(IFERROR(MATCH(VLOOKUP(B10,$AZ$3:$BB$83,2,0),INDIRECT("'"&VLOOKUP($B$3,$BD$3:$BE$83,2,0)&"'!$B:$B"),0),MATCH(9003,INDIRECT("'"&VLOOKUP($B$3,$BD$3:$BE$83,2,0)&"'!$B:$B"),0)+1),MATCH(VLOOKUP($B$4,$BF$3:$BR$21,3,0),INDIRECT("'"&VLOOKUP($B$3,$BD$3:$BE$83,2,0)&"'!$5:$5"),0))),0)+IFERROR(INDIRECT("'"&VLOOKUP($B$3,$BD$3:$BE$83,2,0)&"'!"&ADDRESS(IFERROR(MATCH(VLOOKUP(B10,$AZ$3:$BB$83,2,0),INDIRECT("'"&VLOOKUP($B$3,$BD$3:$BE$83,2,0)&"'!$B:$B"),0),MATCH(9003,INDIRECT("'"&VLOOKUP($B$3,$BD$3:$BE$83,2,0)&"'!$B:$B"),0)+1),MATCH(VLOOKUP($B$4,$BF$3:$BR$21,4,0),INDIRECT("'"&VLOOKUP($B$3,$BD$3:$BE$83,2,0)&"'!$5:$5"),0))),0)+IFERROR(INDIRECT("'"&VLOOKUP($B$3,$BD$3:$BE$83,2,0)&"'!"&ADDRESS(IFERROR(MATCH(VLOOKUP(B10,$AZ$3:$BB$83,2,0),INDIRECT("'"&VLOOKUP($B$3,$BD$3:$BE$83,2,0)&"'!$B:$B"),0),MATCH(9003,INDIRECT("'"&VLOOKUP($B$3,$BD$3:$BE$83,2,0)&"'!$B:$B"),0)+1),MATCH(VLOOKUP($B$4,$BF$3:$BR$21,5,0),INDIRECT("'"&VLOOKUP($B$3,$BD$3:$BE$83,2,0)&"'!$5:$5"),0))),0)+IFERROR(INDIRECT("'"&VLOOKUP($B$3,$BD$3:$BE$83,2,0)&"'!"&ADDRESS(IFERROR(MATCH(VLOOKUP(B10,$AZ$3:$BB$83,2,0),INDIRECT("'"&VLOOKUP($B$3,$BD$3:$BE$83,2,0)&"'!$B:$B"),0),MATCH(9003,INDIRECT("'"&VLOOKUP($B$3,$BD$3:$BE$83,2,0)&"'!$B:$B"),0)+1),MATCH(VLOOKUP($B$4,$BF$3:$BR$21,6,0),INDIRECT("'"&VLOOKUP($B$3,$BD$3:$BE$83,2,0)&"'!$5:$5"),0))),0)+IFERROR(INDIRECT("'"&VLOOKUP($B$3,$BD$3:$BE$83,2,0)&"'!"&ADDRESS(IFERROR(MATCH(VLOOKUP(B10,$AZ$3:$BB$83,2,0),INDIRECT("'"&VLOOKUP($B$3,$BD$3:$BE$83,2,0)&"'!$B:$B"),0),MATCH(9003,INDIRECT("'"&VLOOKUP($B$3,$BD$3:$BE$83,2,0)&"'!$B:$B"),0)+1),MATCH(VLOOKUP($B$4,$BF$3:$BR$21,7,0),INDIRECT("'"&VLOOKUP($B$3,$BD$3:$BE$83,2,0)&"'!$5:$5"),0))),0)+IFERROR(INDIRECT("'"&VLOOKUP($B$3,$BD$3:$BE$83,2,0)&"'!"&ADDRESS(IFERROR(MATCH(VLOOKUP(B10,$AZ$3:$BB$83,2,0),INDIRECT("'"&VLOOKUP($B$3,$BD$3:$BE$83,2,0)&"'!$B:$B"),0),MATCH(9003,INDIRECT("'"&VLOOKUP($B$3,$BD$3:$BE$83,2,0)&"'!$B:$B"),0)+1),MATCH(VLOOKUP($B$4,$BF$3:$BR$21,8,0),INDIRECT("'"&VLOOKUP($B$3,$BD$3:$BE$83,2,0)&"'!$5:$5"),0))),0)+IFERROR(INDIRECT("'"&VLOOKUP($B$3,$BD$3:$BE$83,2,0)&"'!"&ADDRESS(IFERROR(MATCH(VLOOKUP(B10,$AZ$3:$BB$83,2,0),INDIRECT("'"&VLOOKUP($B$3,$BD$3:$BE$83,2,0)&"'!$B:$B"),0),MATCH(9003,INDIRECT("'"&VLOOKUP($B$3,$BD$3:$BE$83,2,0)&"'!$B:$B"),0)+1),MATCH(VLOOKUP($B$4,$BF$3:$BR$21,9,0),INDIRECT("'"&VLOOKUP($B$3,$BD$3:$BE$83,2,0)&"'!$5:$5"),0))),0)+IFERROR(INDIRECT("'"&VLOOKUP($B$3,$BD$3:$BE$83,2,0)&"'!"&ADDRESS(IFERROR(MATCH(VLOOKUP(B10,$AZ$3:$BB$83,2,0),INDIRECT("'"&VLOOKUP($B$3,$BD$3:$BE$83,2,0)&"'!$B:$B"),0),MATCH(9003,INDIRECT("'"&VLOOKUP($B$3,$BD$3:$BE$83,2,0)&"'!$B:$B"),0)+1),MATCH(VLOOKUP($B$4,$BF$3:$BR$21,10,0),INDIRECT("'"&VLOOKUP($B$3,$BD$3:$BE$83,2,0)&"'!$5:$5"),0))),0)+IFERROR(INDIRECT("'"&VLOOKUP($B$3,$BD$3:$BE$83,2,0)&"'!"&ADDRESS(IFERROR(MATCH(VLOOKUP(B10,$AZ$3:$BB$83,2,0),INDIRECT("'"&VLOOKUP($B$3,$BD$3:$BE$83,2,0)&"'!$B:$B"),0),MATCH(9003,INDIRECT("'"&VLOOKUP($B$3,$BD$3:$BE$83,2,0)&"'!$B:$B"),0)+1),MATCH(VLOOKUP($B$4,$BF$3:$BR$21,11,0),INDIRECT("'"&VLOOKUP($B$3,$BD$3:$BE$83,2,0)&"'!$5:$5"),0))),0) -> 2.1194321e+10 | E10: Ankara Anonim Türk Sigorta Şirketi | F10: =IFERROR(INDIRECT("'"&VLOOKUP($E$3,$BD$3:$BE$83,2,0)&"'!"&ADDRESS(IFERROR(MATCH(VLOOKUP(E10,$AZ$3:$BB$83,2,0),INDIRECT("'"&VLOOKUP($E$3,$BD$3:$BE$83,2,0)&"'!$B:$B"),0),MATCH(9003,INDIRECT("'"&VLOOKUP($E$3,$BD$3:$BE$83,2,0)&"'!$B:$B"),0)+1),MATCH(VLOOKUP($E$4,$BF$3:$BR$21,2,0),INDIRECT("'"&VLOOKUP($E$3,$BD$3:$BE$83,2,0)&"'!$5:$5"),0))),0)+IFERROR(INDIRECT("'"&VLOOKUP($E$3,$BD$3:$BE$83,2,0)&"'!"&ADDRESS(IFERROR(MATCH(VLOOKUP(E10,$AZ$3:$BB$83,2,0),INDIRECT("'"&VLOOKUP($E$3,$BD$3:$BE$83,2,0)&"'!$B:$B"),0),MATCH(9003,INDIRECT("'"&VLOOKUP($E$3,$BD$3:$BE$83,2,0)&"'!$B:$B"),0)+1),MATCH(VLOOKUP($E$4,$BF$3:$BR$21,3,0),INDIRECT("'"&VLOOKUP($E$3,$BD$3:$BE$83,2,0)&"'!$5:$5"),0))),0)+IFERROR(INDIRECT("'"&VLOOKUP($E$3,$BD$3:$BE$83,2,0)&"'!"&ADDRESS(IFERROR(MATCH(VLOOKUP(E10,$AZ$3:$BB$83,2,0),INDIRECT("'"&VLOOKUP($E$3,$BD$3:$BE$83,2,0)&"'!$B:$B"),0),MATCH(9003,INDIRECT("'"&VLOOKUP($E$3,$BD$3:$BE$83,2,0)&"'!$B:$B"),0)+1),MATCH(VLOOKUP($E$4,$BF$3:$BR$21,4,0),INDIRECT("'"&VLOOKUP($E$3,$BD$3:$BE$83,2,0)&"'!$5:$5"),0))),0)+IFERROR(INDIRECT("'"&VLOOKUP($E$3,$BD$3:$BE$83,2,0)&"'!"&ADDRESS(IFERROR(MATCH(VLOOKUP(E10,$AZ$3:$BB$83,2,0),INDIRECT("'"&VLOOKUP($E$3,$BD$3:$BE$83,2,0)&"'!$B:$B"),0),MATCH(9003,INDIRECT("'"&VLOOKUP($E$3,$BD$3:$BE$83,2,0)&"'!$B:$B"),0)+1),MATCH(VLOOKUP($E$4,$BF$3:$BR$21,5,0),INDIRECT("'"&VLOOKUP($E$3,$BD$3:$BE$83,2,0)&"'!$5:$5"),0))),0)+IFERROR(INDIRECT("'"&VLOOKUP($E$3,$BD$3:$BE$83,2,0)&"'!"&ADDRESS(IFERROR(MATCH(VLOOKUP(E10,$AZ$3:$BB$83,2,0),INDIRECT("'"&VLOOKUP($E$3,$BD$3:$BE$83,2,0)&"'!$B:$B"),0),MATCH(9003,INDIRECT("'"&VLOOKUP($E$3,$BD$3:$BE$83,2,0)&"'!$B:$B"),0)+1),MATCH(VLOOKUP($E$4,$BF$3:$BR$21,6,0),INDIRECT("'"&VLOOKUP($E$3,$BD$3:$BE$83,2,0)&"'!$5:$5"),0))),0)+IFERROR(INDIRECT("'"&VLOOKUP($E$3,$BD$3:$BE$83,2,0)&"'!"&ADDRESS(IFERROR(MATCH(VLOOKUP(E10,$AZ$3:$BB$83,2,0),INDIRECT("'"&VLOOKUP($E$3,$BD$3:$BE$83,2,0)&"'!$B:$B"),0),MATCH(9003,INDIRECT("'"&VLOOKUP($E$3,$BD$3:$BE$83,2,0)&"'!$B:$B"),0)+1),MATCH(VLOOKUP($E$4,$BF$3:$BR$21,7,0),INDIRECT("'"&VLOOKUP($E$3,$BD$3:$BE$83,2,0)&"'!$5:$5"),0))),0)+IFERROR(INDIRECT("'"&VLOOKUP($E$3,$BD$3:$BE$83,2,0)&"'!"&ADDRESS(IFERROR(MATCH(VLOOKUP(E10,$AZ$3:$BB$83,2,0),INDIRECT("'"&VLOOKUP($E$3,$BD$3:$BE$83,2,0)&"'!$B:$B"),0),MATCH(9003,INDIRECT("'"&VLOOKUP($E$3,$BD$3:$BE$83,2,0)&"'!$B:$B"),0)+1),MATCH(VLOOKUP($E$4,$BF$3:$BR$21,8,0),INDIRECT("'"&VLOOKUP($E$3,$BD$3:$BE$83,2,0)&"'!$5:$5"),0))),0)+IFERROR(INDIRECT("'"&VLOOKUP($E$3,$BD$3:$BE$83,2,0)&"'!"&ADDRESS(IFERROR(MATCH(VLOOKUP(E10,$AZ$3:$BB$83,2,0),INDIRECT("'"&VLOOKUP($E$3,$BD$3:$BE$83,2,0)&"'!$B:$B"),0),MATCH(9003,INDIRECT("'"&VLOOKUP($E$3,$BD$3:$BE$83,2,0)&"'!$B:$B"),0)+1),MATCH(VLOOKUP($E$4,$BF$3:$BR$21,9,0),INDIRECT("'"&VLOOKUP($E$3,$BD$3:$BE$83,2,0)&"'!$5:$5"),0))),0)+IFERROR(INDIRECT("'"&VLOOKUP($E$3,$BD$3:$BE$83,2,0)&"'!"&ADDRESS(IFERROR(MATCH(VLOOKUP(E10,$AZ$3:$BB$83,2,0),INDIRECT("'"&VLOOKUP($E$3,$BD$3:$BE$83,2,0)&"'!$B:$B"),0),MATCH(9003,INDIRECT("'"&VLOOKUP($E$3,$BD$3:$BE$83,2,0)&"'!$B:$B"),0)+1),MATCH(VLOOKUP($E$4,$BF$3:$BR$21,10,0),INDIRECT("'"&VLOOKUP($E$3,$BD$3:$BE$83,2,0)&"'!$5:$5"),0))),0)+IFERROR(INDIRECT("'"&VLOOKUP($E$3,$BD$3:$BE$83,2,0)&"'!"&ADDRESS(IFERROR(MATCH(VLOOKUP(E10,$AZ$3:$BB$83,2,0),INDIRECT("'"&VLOOKUP($E$3,$BD$3:$BE$83,2,0)&"'!$B:$B"),0),MATCH(9003,INDIRECT("'"&VLOOKUP($E$3,$BD$3:$BE$83,2,0)&"'!$B:$B"),0)+1),MATCH(VLOOKUP($E$4,$BF$3:$BR$21,11,0),INDIRECT("'"&VLOOKUP($E$3,$BD$3:$BE$83,2,0)&"'!$5:$5"),0))),0) -> 2.1194321e+10 | AZ10: Axa Sigorta AŞ | BA10: 1009 | BD10: Hava Araçları | BE10: HAVA ARAÇLARI | BF10: Net Kazanılan Primler | BG10: 600 | BH10: 601 | BI10: 602 | BJ10: 620 | BK10: 621 | BL10: 622
