Workbook
Name AltBranslar: '[1]Branş Kırılımlı Analiz'!$BF$3:$BF$52
Name AnaBranşlar: 'Branş Kırılımlı Analiz'!$BD$3:$BD$29
Name HAnaBranşlar: 'Hayat Branşlar'!$GC$1:$GC$4
Name HayatBranslar: '[1]Hayat Branşlar'!$KS$1:$KS$10
Name HDAnaBranşlar: 'Hayatdışı Branşlar'!$HL$2:$HL$22
Name HDBranslar: '[1]Hayatdışı Branşlar'!$KV$1:$KV$74
Name Hesaplama: '[1]Branş Kırılımlı Analiz'!$BH$3:$BH$15
Name Satış_Kanalı: '[1]Genel(4)'!$DH$1:$DH$92
Name Şirketler: 'Gelir Tablosu'!$BC$3:$BC$78

Sheet Gelir Tablosu
B3: Toplam (Hayat Dışı Şirketler+Hayat ve Emeklilik Şirketleri+Reasürans Şirketleri) | E3: TOPLAM (HAYAT DIŞI ŞİRKETLER+HAYAT VE EMEKLİLİK ŞİRKETLERİ+REASÜRANS ŞİRKETLERİ) | H3: Lütfen Seçimlerinizi Yapınız | BC3: Chubb European Group SE Merkezi Fransa Türkiye İstanbul Şubesi | BD3: 1001
B4: Gelir Tablosu - Aralık 2025 | E4: =+B4 -> Gelir Tablosu - Aralık 2025 | BC4: Aksigorta AŞ | BD4: 1003
BC5: Allianz Sigorta AŞ | BD5: 1004
B6: A- HAYAT DIŞI TEKNİK GELİR | C6: =C7+C11+C15+C19+C22+C25+C26+C27 -> 8.9262465e+11 | E6: A- HAYAT DIŞI TEKNİK GELİR | F6: =F7+F11+F15+F19+F22+F25+F26+F27 -> 8.9262465e+11 | BC6: Anadolu Anonim Türk Sigorta Şirketi | BD6: 1005
B7: 1- YAZILAN PRİMLER (REASÜRÖR PAYI DÜŞÜLMÜŞ OLARAK) | C7: =C8+C9+C10 -> 8.0395025e+11 | E7: 1- YAZILAN PRİMLER (REASÜRÖR PAYI DÜŞÜLMÜŞ OLARAK) | F7: =F8+F9+F10 -> 8.0395025e+11 | BC7: Ankara Anonim Türk Sigorta Şirketi | BD7: 1006
A8: 60001 | B8: a.) Brüt Yazılan Primler (+/-) | C8: =INDIRECT("'HAYATDISI'!"&ADDRESS(IFERROR(MATCH(VLOOKUP($B$3,$BC$3:$BE$150,2,0),HAYATDISI!$B:$B,0),MATCH(9003,HAYATDISI!$B:$B,0)+1),MATCH($A8,HAYATDISI!$5:$5,0))) -> 1.0899323e+12 | E8: a.) Brüt Yazılan Primler (+/-) | F8: =INDIRECT("'HAYATDISI'!"&ADDRESS(IFERROR(MATCH(VLOOKUP($E$3,$BC$3:$BE$150,2,0),HAYATDISI!$B:$B,0),MATCH(9003,HAYATDISI!$B:$B,0)+1),MATCH($A8,HAYATDISI!$5:$5,0))) -> 1.0899323e+12 | BC8: Atradius Crédito y Caución S.A. de Seguros y Reaseguros, İstanbul Şubesi | BD8: 1007
A9: 60002 | B9: b.) Reasüröre Devredilen Primler (+/-) | C9: =INDIRECT("'HAYATDISI'!"&ADDRESS(IFERROR(MATCH(VLOOKUP($B$3,$BC$3:$BE$150,2,0),HAYATDISI!$B:$B,0),MATCH(9003,HAYATDISI!$B:$B,0)+1),MATCH($A9,HAYATDISI!$5:$5,0))) -> -2.6180695e+11 | E9: b.) Reasüröre Devredilen Primler (+/-) | F9: =INDIRECT("'HAYATDISI'!"&ADDRESS(IFERROR(MATCH(VLOOKUP($E$3,$BC$3:$BE$150,2,0),HAYATDISI!$B:$B,0),MATCH(9003,HAYATDISI!$B:$B,0)+1),MATCH($A9,HAYATDISI!$5:$5,0))) -> -2.6180695e+11 | BC9: Unico Sigorta AŞ | BD9: 1008
A10: 60003 | B10: c.) SGK ya Aktarılan Primler (-); | C10: =INDIRECT("'HAYATDISI'!"&ADDRESS(IFERROR(MATCH(VLOOKUP($B$3,$BC$3:$BE$150,2,0),HAYATDISI!$B:$B,0),MATCH(9003,HAYATDISI!$B:$B,0)+1),MATCH($A10,HAYATDISI!$5:$5,0))) -> -2.4175084e+10 | E10: c.) SGK ya Aktarılan Primler (-); | F10: =INDIRECT("'HAYATDISI'!"&ADDRESS(IFERROR(MATCH(VLOOKUP($E$3,$BC$3:$BE$150,2,0),HAYATDISI!$B:$B,0),MATCH(9003,HAYATDISI!$B:$B,0)+1),MATCH($A10,HAYATDISI!$5:$5,0))) -> -2.4175084e+10 | BC10: Axa Sigorta AŞ | BD10: 1009
B11: 2. KAZANILMAMIŞ PRİMLER KARŞILIĞI (REASÜRÖR PAYI DÜŞÜLMÜŞ OLARAK) | C11: =C12+C13+C14 -> -4.4555866e+11 | E11: 2. KAZANILMAMIŞ PRİMLER KARŞILIĞI (REASÜRÖR PAYI DÜŞÜLMÜŞ OLARAK) | F11: =F12+F13+F14 -> -4.4555866e+11 | BC11: BNP Paribas Cardif Sigorta AŞ | BD11: 1010
A12: 601011 | B12: a.) Kazanılmamış Primler Karşılığı Brüt (+/-) | C12: =INDIRECT("'HAYATDISI'!"&ADDRESS(IFERROR(MATCH(VLOOKUP($B$3,$BC$3:$BE$150,2,0),HAYATDISI!$B:$B,0),MATCH(9003,HAYATDISI!$B:$B,0)+1),MATCH($A12,HAYATDISI!$5:$5,0))) -> -5.7771649e+11 | E12: a.) Kazanılmamış Primler Karşılığı Brüt (+/-) | F12: =INDIRECT("'HAYATDISI'!"&ADDRESS(IFERROR(MATCH(VLOOKUP($E$3,$BC$3:$BE$150,2,0),HAYATDISI!$B:$B,0),MATCH(9003,HAYATDISI!$B:$B,0)+1),MATCH($A12,HAYATDISI!$5:$5,0))) -> -5.7771649e+11 | BC12: Coface Sigorta AŞ | BD12: 1011
A13: 601021 | B13: b.) Kazanılmamış Prımler Karşılığında Reasürör Payı (+/-) | C13: =INDIRECT("'HAYATDISI'!"&ADDRESS(IFERROR(MATCH(VLOOKUP($B$3,$BC$3:$BE$150,2,0),HAYATDISI!$B:$B,0),MATCH(9003,HAYATDISI!$B:$B,0)+1),MATCH($A13,HAYATDISI!$5:$5,0))) -> 1.1925086e+11 | E13: b.) Kazanılmamış Prımler Karşılığında Reasürör Payı (+/-) | F13: =INDIRECT("'HAYATDISI'!"&ADDRESS(IFERROR(MATCH(VLOOKUP($E$3,$BC$3:$BE$150,2,0),HAYATDISI!$B:$B,0),MATCH(9003,HAYATDISI!$B:$B,0)+1),MATCH($A13,HAYATDISI!$5:$5,0))) -> 1.1925086e+11 | BC13: Corpus Sigorta AŞ | BD13: 1012
A14: 601031 | B14: c.) Kazanılmamış Prımler Karşılığında SGK Payı (+/-) | C14: =INDIRECT("'HAYATDISI'!"&ADDRESS(IFERROR(MATCH(VLOOKUP($B$3,$BC$3:$BE$150,2,0),HAYATDISI!$B:$B,0),MATCH(9003,HAYATDISI!$B:$B,0)+1),MATCH($A14,HAYATDISI!$5:$5,0))) -> 1.2906958e+10 | E14: c.) Kazanılmamış Prımler Karşılığında SGK Payı (+/-) | F14: =INDIRECT("'HAYATDISI'!"&ADDRESS(IFERROR(MATCH(VLOOKUP($E$3,$BC$3:$BE$150,2,0),HAYATDISI!$B:$B,0),MATCH(9003,HAYATDISI!$B:$B,0)+1),MATCH($A14,HAYATDISI!$5:$5,0))) -> 1.2906958e+10 | BC14: VHV Allgemeine Sigorta AŞ | BD14: 1013
B15: 3. DEVREDEN KAZANILMAMIŞ PRİMLER KARŞILIĞI (REASÜRÖR PAYI DÜŞÜLMÜŞ OLARAK) | C15: =C16+C17+C18 -> 3.1184984e+11 | E15: 3. DEVREDEN KAZANILMAMIŞ PRİMLER KARŞILIĞI (REASÜRÖR PAYI DÜŞÜLMÜŞ OLARAK) | F15: =F16+F17+F18 -> 3.1184984e+11 | BC15: Euler Hermes Sigorta AŞ | BD15: 1016
A16: 601012 | B16: a.) Devreden Kazanılmamış Primler Karşılığı Brüt (+/-) | C16: =INDIRECT("'HAYATDISI'!"&ADDRESS(IFERROR(MATCH(VLOOKUP($B$3,$BC$3:$BE$150,2,0),HAYATDISI!$B:$B,0),MATCH(9003,HAYATDISI!$B:$B,0)+1),MATCH($A16,HAYATDISI!$5:$5,0))) -> 4.1354959e+11 | E16: a.) Devreden Kazanılmamış Primler Karşılığı Brüt (+/-) | F16: =INDIRECT("'HAYATDISI'!"&ADDRESS(IFERROR(MATCH(VLOOKUP($E$3,$BC$3:$BE$150,2,0),HAYATDISI!$B:$B,0),MATCH(9003,HAYATDISI!$B:$B,0)+1),MATCH($A16,HAYATDISI!$5:$5,0))) -> 4.1354959e+11 | BC16: Eureko Sigorta AŞ | BD16: 1017
A17: 601022 | B17: b.) Devreden Kazanılmamış Prımler Karşılığında Reasürör Payı (+/-) | C17: =INDIRECT("'HAYATDISI'!"&ADDRESS(IFERROR(MATCH(VLOOKUP($B$3,$BC$3:$BE$150,2,0),HAYATDISI!$B:$B,0),MATCH(9003,HAYATDISI!$B:$B,0)+1),MATCH($A17,HAYATDISI!$5:$5,0))) -> -9.2788123e+10 | E17: b.) Devreden Kazanılmamış Prımler Karşılığında Reasürör Payı (+/-) | F17: =INDIRECT("'HAYATDISI'!"&ADDRESS(IFERROR(MATCH(VLOOKUP($E$3,$BC$3:$BE$150,2,0),HAYATDISI!$B:$B,0),MATCH(9003,HAYATDISI!$B:$B,0)+1),MATCH($A17,HAYATDISI!$5:$5,0))) -> -9.2788123e+10 | BC17: Referans Sigorta AŞ | BD17: 1018
A18: 601032 | B18: c.) Devreden Kazanılmamış Prımler Karşılığında SGK Payı (+/-) | C18: =INDIRECT("'HAYATDISI'!"&ADDRESS(IFERROR(MATCH(VLOOKUP($B$3,$BC$3:$BE$150,2,0),HAYATDISI!$B:$B,0),MATCH(9003,HAYATDISI!$B:$B,0)+1),MATCH($A18,HAYATDISI!$5:$5,0))) -> -8.9116236e+09 | E18: c.) Devreden Kazanılmamış Prımler Karşılığında SGK Payı (+/-) | F18: =INDIRECT("'HAYATDISI'!"&ADDRESS(IFERROR(MATCH(VLOOKUP($E$3,$BC$3:$BE$150,2,0),HAYATDISI!$B:$B,0),MATCH(9003,HAYATDISI!$B:$B,0)+1),MATCH($A18,HAYATDISI!$5:$5,0))) -> -8.9116236e+09 | BC18: Türkiye Sigorta AŞ | BD18: 1020
B19: 4. DEVAM EDEN RİSKLER KARŞILIĞI (REASÜRÖR PAYI DÜŞÜLMÜŞ OLARAK) | C19: =C20+C21 -> -1.5340625e+10 | E19: 4. DEVAM EDEN RİSKLER KARŞILIĞI (REASÜRÖR PAYI DÜŞÜLMÜŞ OLARAK) | F19: =F20+F21 -> -1.5340625e+10 | BC19: HDI Sigorta AŞ | BD19: 1022
A20: 602011 | B20: a.) Devam Eden Riskler Karşılığı Brüt (-) | C20: =INDIRECT("'HAYATDISI'!"&ADDRESS(IFERROR(MATCH(VLOOKUP($B$3,$BC$3:$BE$150,2,0),HAYATDISI!$B:$B,0),MATCH(9003,HAYATDISI!$B:$B,0)+1),MATCH($A20,HAYATDISI!$5:$5,0))) -> -1.8004616e+10 | E20: a.) Devam Eden Riskler Karşılığı Brüt (-) | F20: =INDIRECT("'HAYATDISI'!"&ADDRESS(IFERROR(MATCH(VLOOKUP($E$3,$BC$3:$BE$150,2,0),HAYATDISI!$B:$B,0),MATCH(9003,HAYATDISI!$B:$B,0)+1),MATCH($A20,HAYATDISI!$5:$5,0))) -> -1.8004616e+10 | BC20: Bereket Sigorta AŞ | BD20: 1025
A21: 602021 | B21: b.) Devam Eden Riskler Karşılığında Reasürör Payı (+) | C21: =INDIRECT("'HAYATDISI'!"&ADDRESS(IFERROR(MATCH(VLOOKUP($B$3,$BC$3:$BE$150,2,0),HAYATDISI!$B:$B,0),MATCH(9003,HAYATDISI!$B:$B,0)+1),MATCH($A21,HAYATDISI!$5:$5,0))) -> 2.6639917e+09 | E21: b.) Devam Eden Riskler Karşılığında Reasürör Payı (+) | F21: =INDIRECT("'HAYATDISI'!"&ADDRESS(IFERROR(MATCH(VLOOKUP($E$3,$BC$3:$BE$150,2,0),HAYATDISI!$B:$B,0),MATCH(9003,HAYATDISI!$B:$B,0)+1),MATCH($A21,HAYATDISI!$5:$5,0))) -> 2.6639917e+09 | BC21: Magdeburger Sigorta AŞ | BD21: 1027
B22: 5. DEVREDEN DEVAM EDEN RİSKLER KARŞILIĞI (REASÜRÖR PAYI DÜŞÜLMÜŞ OLARAK) | C22: =C23+C24 -> 1.0292798e+10 | E22: 5. DEVREDEN DEVAM EDEN RİSKLER KARŞILIĞI (REASÜRÖR PAYI DÜŞÜLMÜŞ OLARAK) | F22: =F23+F24 -> 1.0292798e+10 | BC22: Mapfre Sigorta AŞ | BD22: 1028
A23: 602012 | B23: a.) Devreden Devam Eden Riskler Karşılığı Brüt (+) | C23: =INDIRECT("'HAYATDISI'!"&ADDRESS(IFERROR(MATCH(VLOOKUP($B$3,$BC$3:$BE$150,2,0),HAYATDISI!$B:$B,0),MATCH(9003,HAYATDISI!$B:$B,0)+1),MATCH($A23,HAYATDISI!$5:$5,0))) -> 1.4092067e+10 | E23: a.) Devreden Devam Eden Riskler Karşılığı Brüt (+) | F23: =INDIRECT("'HAYATDISI'!"&ADDRESS(IFERROR(MATCH(VLOOKUP($E$3,$BC$3:$BE$150,2,0),HAYATDISI!$B:$B,0),MATCH(9003,HAYATDISI!$B:$B,0)+1),MATCH($A23,HAYATDISI!$5:$5,0))) -> 1.4092067e+10 | BC23: Neova Katılım Sigorta AŞ | BD23: 1030
A24: 602022 | B24: b.) Devreden Devam Eden Riskler Karşılığında Reasürör Payı (-) | C24: =INDIRECT("'HAYATDISI'!"&ADDRESS(IFERROR(MATCH(VLOOKUP($B$3,$BC$3:$BE$150,2,0),HAYATDISI!$B:$B,0),MATCH(9003,HAYATDISI!$B:$B,0)+1),MATCH($A24,HAYATDISI!$5:$5,0))) -> -3.7992689e+09 | E24: b.) Devreden Devam Eden Riskler Karşılığında Reasürör Payı (-) | F24: =INDIRECT("'HAYATDISI'!"&ADDRESS(IFERROR(MATCH(VLOOKUP($E$3,$BC$3:$BE$150,2,0),HAYATDISI!$B:$B,0),MATCH(9003,HAYATDISI!$B:$B,0)+1),MATCH($A24,HAYATDISI!$5:$5,0))) -> -3.7992689e+09 | BC24: Orient Sigorta AŞ | BD24: 1031
A25: 603 | B25: 6. TEKNİK OLMAYAN BÖLÜMDEN AKTARILAN YATIRIM GELİRLERİ | C25: =INDIRECT("'HAYATDISI'!"&ADDRESS(IFERROR(MATCH(VLOOKUP($B$3,$BC$3:$BE$150,2,0),HAYATDISI!$B:$B,0),MATCH(9003,HAYATDISI!$B:$B,0)+1),MATCH($A25,HAYATDISI!$5:$5,0))) -> 2.1345927e+11 | E25: 6. TEKNİK OLMAYAN BÖLÜMDEN AKTARILAN YATIRIM GELİRLERİ | F25: =INDIRECT("'HAYATDISI'!"&ADDRESS(IFERROR(MATCH(VLOOKUP($E$3,$BC$3:$BE$150,2,0),HAYATDISI!$B:$B,0),MATCH(9003,HAYATDISI!$B:$B,0)+1),MATCH($A25,HAYATDISI!$5:$5,0))) -> 2.1345927e+11 | BC25: Ray Sigorta AŞ | BD25: 1032
A26: 604 | B26: 7. DİĞER TEKNİK GELİRLER (REASÜRÖR PAYI DÜŞÜLMÜŞ OLARAK) | C26: =INDIRECT("'HAYATDISI'!"&ADDRESS(IFERROR(MATCH(VLOOKUP($B$3,$BC$3:$BE$150,2,0),HAYATDISI!$B:$B,0),MATCH(9003,HAYATDISI!$B:$B,0)+1),MATCH($A26,HAYATDISI!$5:$5,0))) -> 3.2822176e+09 | E26: 7. DİĞER TEKNİK GELİRLER (REASÜRÖR PAYI DÜŞÜLMÜŞ OLARAK) | F26: =INDIRECT("'HAYATDISI'!"&ADDRESS(IFERROR(MATCH(VLOOKUP($E$3,$BC$3:$BE$150,2,0),HAYATDISI!$B:$B,0),MATCH(9003,HAYATDISI!$B:$B,0)+1),MATCH($A26,HAYATDISI!$5:$5,0))) -> 3.2822176e+09 | BC26: Şeker Sigorta AŞ | BD26: 1034
A27: 605 | B27: 8. TAHAKKUK EDEN RÜCU VE SOVTAJ GELİRLERİ (+) | C27: =INDIRECT("'HAYATDISI'!"&ADDRESS(IFERROR(MATCH(VLOOKUP($B$3,$BC$3:$BE$150,2,0),HAYATDISI!$B:$B,0),MATCH(9003,HAYATDISI!$B:$B,0)+1),MATCH($A27,HAYATDISI!$5:$5,0))) -> 1.0689567e+10 | E27: 8. TAHAKKUK EDEN RÜCU VE SOVTAJ GELİRLERİ (+) | F27: =INDIRECT("'HAYATDISI'!"&ADDRESS(IFERROR(MATCH(VLOOKUP($E$3,$BC$3:$BE$150,2,0),HAYATDISI!$B:$B,0),MATCH(9003,HAYATDISI!$B:$B,0)+1),MATCH($A27,HAYATDISI!$5:$5,0))) -> 1.0689567e+10 | BC27: Sompo Sigorta AŞ | BD27: 1035
B28: B- HAYAT DIŞI TEKNİK GİDER | C28: =+C29+C32+C35+C38+C39+C43+C52+C55+C58 -> -7.4797446e+11 | E28: B- HAYAT DIŞI TEKNİK GİDER | F28: =+F29+F32+F35+F38+F39+F43+F52+F55+F58 -> -7.4797446e+11 | BC28: Doga Sigorta AŞ | BD28: 1036
B29: 1. ÖDENEN TAZMİNATLAR (REASÜRÖR PAYI DÜŞÜLMÜŞ OLARAK) | C29: =C30+C31 -> -3.9762945e+11 | E29: 1. ÖDENEN TAZMİNATLAR (REASÜRÖR PAYI DÜŞÜLMÜŞ OLARAK) | F29: =F30+F31 -> -3.9762945e+11 | BC29: Koru Sigorta AŞ | BD29: 1037
A30: 61001 | B30: a.) Brüt Ödenen Tazminatlar (+/-) | C30: =INDIRECT("'HAYATDISI'!"&ADDRESS(IFERROR(MATCH(VLOOKUP($B$3,$BC$3:$BE$150,2,0),HAYATDISI!$B:$B,0),MATCH(9003,HAYATDISI!$B:$B,0)+1),MATCH($A30,HAYATDISI!$5:$5,0))) -> -4.9226287e+11 | E30: a.) Brüt Ödenen Tazminatlar (+/-) | F30: =INDIRECT("'HAYATDISI'!"&ADDRESS(IFERROR(MATCH(VLOOKUP($E$3,$BC$3:$BE$150,2,0),HAYATDISI!$B:$B,0),MATCH(9003,HAYATDISI!$B:$B,0)+1),MATCH($A30,HAYATDISI!$5:$5,0))) -> -4.9226287e+11 | BC30: GIG Sigorta AŞ | BD30: 1038
A31: 61002 | B31: b.) Ödenen Tazminatlarda Reasürör Payı (+/-) | C31: =INDIRECT("'HAYATDISI'!"&ADDRESS(IFERROR(MATCH(VLOOKUP($B$3,$BC$3:$BE$150,2,0),HAYATDISI!$B:$B,0),MATCH(9003,HAYATDISI!$B:$B,0)+1),MATCH($A31,HAYATDISI!$5:$5,0))) -> 9.4633425e+10 | E31: b.) Ödenen Tazminatlarda Reasürör Payı (+/-) | F31: =INDIRECT("'HAYATDISI'!"&ADDRESS(IFERROR(MATCH(VLOOKUP($E$3,$BC$3:$BE$150,2,0),HAYATDISI!$B:$B,0),MATCH(9003,HAYATDISI!$B:$B,0)+1),MATCH($A31,HAYATDISI!$5:$5,0))) -> 9.4633425e+10 | BC31: Türk Nippon Sigorta AŞ | BD31: 1039
B32: 2. MUALLAK TAZMİNATLAR KARŞILIĞI (REASÜRÖR PAYI DÜŞÜLMÜŞ OLARAK) | C32: =C33+C34 -> -3.4486486e+11 | E32: 2. MUALLAK TAZMİNATLAR KARŞILIĞI (REASÜRÖR PAYI DÜŞÜLMÜŞ OLARAK) | F32: =F33+F34 -> -3.4486486e+11 | BC32: Türk P&I Sigorta AŞ | BD32: 1040
A33: 611011 | B33: a.) Muallak Tazminatlar Karşılığı Brüt (-) | C33: =INDIRECT("'HAYATDISI'!"&ADDRESS(IFERROR(MATCH(VLOOKUP($B$3,$BC$3:$BE$150,2,0),HAYATDISI!$B:$B,0),MATCH(9003,HAYATDISI!$B:$B,0)+1),MATCH($A33,HAYATDISI!$5:$5,0))) -> -4.663277e+11 | E33: a.) Muallak Tazminatlar Karşılığı Brüt (-) | F33: =INDIRECT("'HAYATDISI'!"&ADDRESS(IFERROR(MATCH(VLOOKUP($E$3,$BC$3:$BE$150,2,0),HAYATDISI!$B:$B,0),MATCH(9003,HAYATDISI!$B:$B,0)+1),MATCH($A33,HAYATDISI!$5:$5,0))) -> -4.663277e+11 | BC33: Zurich Sigorta AŞ | BD33: 1043
A34: 611021 | B34: b.) Muallak Tazminatlar Karşılığında Reasürör Payı (+) | C34: =INDIRECT("'HAYATDISI'!"&ADDRESS(IFERROR(MATCH(VLOOKUP($B$3,$BC$3:$BE$150,2,0),HAYATDISI!$B:$B,0),MATCH(9003,HAYATDISI!$B:$B,0)+1),MATCH($A34,HAYATDISI!$5:$5,0))) -> 1.2146284e+11 | E34: b.) Muallak Tazminatlar Karşılığında Reasürör Payı (+) | F34: =INDIRECT("'HAYATDISI'!"&ADDRESS(IFERROR(MATCH(VLOOKUP($E$3,$BC$3:$BE$150,2,0),HAYATDISI!$B:$B,0),MATCH(9003,HAYATDISI!$B:$B,0)+1),MATCH($A34,HAYATDISI!$5:$5,0))) -> 1.2146284e+11 | BC34: Ethica Sigorta AŞ | BD34: 1044
B35: 3. DEVREDEN MUALLAK HASARLAR KARŞILIĞI (REASÜRÖR PAYI DÜŞÜLMÜŞ OLARAK) | C35: =C36+C37 -> 2.0844309e+11 | E35: 3. DEVREDEN MUALLAK HASARLAR KARŞILIĞI (REASÜRÖR PAYI DÜŞÜLMÜŞ OLARAK) | F35: =F36+F37 -> 2.0844309e+11 | BC35: Quick Sigorta AŞ | BD35: 1045
A36: 611012 | B36: a) Devreden Muallak Tazminatlar Karşılığı Brüt (+); | C36: =INDIRECT("'HAYATDISI'!"&ADDRESS(IFERROR(MATCH(VLOOKUP($B$3,$BC$3:$BE$150,2,0),HAYATDISI!$B:$B,0),MATCH(9003,HAYATDISI!$B:$B,0)+1),MATCH($A36,HAYATDISI!$5:$5,0))) -> 3.1098398e+11 | E36: a) Devreden Muallak Tazminatlar Karşılığı Brüt (+); | F36: =INDIRECT("'HAYATDISI'!"&ADDRESS(IFERROR(MATCH(VLOOKUP($E$3,$BC$3:$BE$150,2,0),HAYATDISI!$B:$B,0),MATCH(9003,HAYATDISI!$B:$B,0)+1),MATCH($A36,HAYATDISI!$5:$5,0))) -> 3.1098398e+11 | BC36: SS Atlas Sigorta Kooperatifi | BD36: 1046
A37: 611022 | B37: b) Devreden Muallak Tazminatlar Karşılığında Reasürör Payı (-) | C37: =INDIRECT("'HAYATDISI'!"&ADDRESS(IFERROR(MATCH(VLOOKUP($B$3,$BC$3:$BE$150,2,0),HAYATDISI!$B:$B,0),MATCH(9003,HAYATDISI!$B:$B,0)+1),MATCH($A37,HAYATDISI!$5:$5,0))) -> -1.0254089e+11 | E37: b) Devreden Muallak Tazminatlar Karşılığında Reasürör Payı (-) | F37: =INDIRECT("'HAYATDISI'!"&ADDRESS(IFERROR(MATCH(VLOOKUP($E$3,$BC$3:$BE$150,2,0),HAYATDISI!$B:$B,0),MATCH(9003,HAYATDISI!$B:$B,0)+1),MATCH($A37,HAYATDISI!$5:$5,0))) -> -1.0254089e+11 | BC37: Türkiye Katılım Sigorta AŞ | BD37: 1048
A38: 612 | B38: 4. İKRAMİYE VE İNDİRİMLER KARŞILIĞINDA DEĞİŞİM (REASÜRÖR PAYI DÜŞÜLMÜŞ OLARAK) | C38: =INDIRECT("'HAYATDISI'!"&ADDRESS(IFERROR(MATCH(VLOOKUP($B$3,$BC$3:$BE$150,2,0),HAYATDISI!$B:$B,0),MATCH(9003,HAYATDISI!$B:$B,0)+1),MATCH($A38,HAYATDISI!$5:$5,0))) -> -1.3377768e+09 | E38: 4. İKRAMİYE VE İNDİRİMLER KARŞILIĞINDA DEĞİŞİM (REASÜRÖR PAYI DÜŞÜLMÜŞ OLARAK) | F38: =INDIRECT("'HAYATDISI'!"&ADDRESS(IFERROR(MATCH(VLOOKUP($E$3,$BC$3:$BE$150,2,0),HAYATDISI!$B:$B,0),MATCH(9003,HAYATDISI!$B:$B,0)+1),MATCH($A38,HAYATDISI!$5:$5,0))) -> -1.3377768e+09 | BC38: Ana Sigorta AŞ | BD38: 1049
B39: 5. DİĞER TEKNİK KARŞILIKLAR (REASÜRÖR PAYI VE DEVREDEN DÜŞÜLMÜŞ OLARAK) | C39: =C40+C41+C42 -> -6.3917729e+09 | E39: 5. DİĞER TEKNİK KARŞILIKLAR (REASÜRÖR PAYI VE DEVREDEN DÜŞÜLMÜŞ OLARAK) | F39: =F40+F41+F42 -> -6.3917729e+09 | BC39: Arex Sigorta AŞ | BD39: 1051
A40: 61301 | B40: a.) Dengeleme Karşılığında Değişim (Reasürör Payı ve Dev. Kısım Düşülmüş Olarak) (+/-) | C40: =INDIRECT("'HAYATDISI'!"&ADDRESS(IFERROR(MATCH(VLOOKUP($B$3,$BC$3:$BE$150,2,0),HAYATDISI!$B:$B,0),MATCH(9003,HAYATDISI!$B:$B,0)+1),MATCH($A40,HAYATDISI!$5:$5,0))) -> -6.3418841e+09 | E40: a.) Dengeleme Karşılığında Değişim (Reasürör Payı ve Dev. Kısım Düşülmüş Olarak) (+/-) | F40: =INDIRECT("'HAYATDISI'!"&ADDRESS(IFERROR(MATCH(VLOOKUP($E$3,$BC$3:$BE$150,2,0),HAYATDISI!$B:$B,0),MATCH(9003,HAYATDISI!$B:$B,0)+1),MATCH($A40,HAYATDISI!$5:$5,0))) -> -6.3418841e+09 | BC40: Prive Sigorta AŞ | BD40: 1052
A41: 61302 | B41: b.) Mali Riskler Karşılığında Değişim (Reasürör Payı ve Dev. Kısım Düşülmüş Olarak) (+/-) | C41: =INDIRECT("'HAYATDISI'!"&ADDRESS(IFERROR(MATCH(VLOOKUP($B$3,$BC$3:$BE$150,2,0),HAYATDISI!$B:$B,0),MATCH(9003,HAYATDISI!$B:$B,0)+1),MATCH($A41,HAYATDISI!$5:$5,0))) -> 0 | E41: b.) Mali Riskler Karşılığında Değişim (Reasürör Payı ve Dev. Kısım Düşülmüş Olarak) (+/-) | F41: =INDIRECT("'HAYATDISI'!"&ADDRESS(IFERROR(MATCH(VLOOKUP($E$3,$BC$3:$BE$150,2,0),HAYATDISI!$B:$B,0),MATCH(9003,HAYATDISI!$B:$B,0)+1),MATCH($A41,HAYATDISI!$5:$5,0))) -> 0 | BC41: Hepiyi Sigorta AŞ | BD41: 1053
A42: 61399 | B42: c.) Diğer Çeşitli Karşılıklarda Değişim (Reasürör Payı ve Dev. Kısım Düşülmüş Olarak) (+/-) | C42: =INDIRECT("'HAYATDISI'!"&ADDRESS(IFERROR(MATCH(VLOOKUP($B$3,$BC$3:$BE$150,2,0),HAYATDISI!$B:$B,0),MATCH(9003,HAYATDISI!$B:$B,0)+1),MATCH($A42,HAYATDISI!$5:$5,0))) -> -49888798 | E42: c.) Diğer Çeşitli Karşılıklarda Değişim (Reasürör Payı ve Dev. Kısım Düşülmüş Olarak) (+/-) | F42: =INDIRECT("'HAYATDISI'!"&ADDRESS(IFERROR(MATCH(VLOOKUP($E$3,$BC$3:$BE$150,2,0),HAYATDISI!$B:$B,0),MATCH(9003,HAYATDISI!$B:$B,0)+1),MATCH($A42,HAYATDISI!$5:$5,0))) -> -49888798 | BC42: Aveon Global Sigorta AŞ | BD42: 1054
B43: 6. FAALİYET GİDERLERİ (-) | C43: =SUM(C44:C51) -> -1.9197254e+11 | E43: 6. FAALİYET GİDERLERİ (-) | F43: =SUM(F44:F51) -> -1.9197254e+11 | BC43: AcnTurk Sigorta AŞ | BD43: 1055
A44: 61401 | B44: a.) Üretim Giderleri (-) | C44: =INDIRECT("'HAYATDISI'!"&ADDRESS(IFERROR(MATCH(VLOOKUP($B$3,$BC$3:$BE$150,2,0),HAYATDISI!$B:$B,0),MATCH(9003,HAYATDISI!$B:$B,0)+1),MATCH($A44,HAYATDISI!$5:$5,0))) -> -1.3169977e+11 | E44: a.) Üretim Giderleri (-) | F44: =INDIRECT("'HAYATDISI'!"&ADDRESS(IFERROR(MATCH(VLOOKUP($E$3,$BC$3:$BE$150,2,0),HAYATDISI!$B:$B,0),MATCH(9003,HAYATDISI!$B:$B,0)+1),MATCH($A44,HAYATDISI!$5:$5,0))) -> -1.3169977e+11 | BC44: Emaa Sigorta AŞ | BD44: 1056
A45: 61402 | B45: b.) Personele İlişkin Giderler (-) | C45: =INDIRECT("'HAYATDISI'!"&ADDRESS(IFERROR(MATCH(VLOOKUP($B$3,$BC$3:$BE$150,2,0),HAYATDISI!$B:$B,0),MATCH(9003,HAYATDISI!$B:$B,0)+1),MATCH($A45,HAYATDISI!$5:$5,0))) -> -4.773956e+10 | E45: b.) Personele İlişkin Giderler (-) | F45: =INDIRECT("'HAYATDISI'!"&ADDRESS(IFERROR(MATCH(VLOOKUP($E$3,$BC$3:$BE$150,2,0),HAYATDISI!$B:$B,0),MATCH(9003,HAYATDISI!$B:$B,0)+1),MATCH($A45,HAYATDISI!$5:$5,0))) -> -4.773956e+10 | BC45: HDI Katılım Sigorta AŞ | BD45: 1057
A46: 61403 | B46: c.) Yönetim Giderleri (-) | C46: =INDIRECT("'HAYATDISI'!"&ADDRESS(IFERROR(MATCH(VLOOKUP($B$3,$BC$3:$BE$150,2,0),HAYATDISI!$B:$B,0),MATCH(9003,HAYATDISI!$B:$B,0)+1),MATCH($A46,HAYATDISI!$5:$5,0))) -> -1.603104e+10 | E46: c.) Yönetim Giderleri (-) | F46: =INDIRECT("'HAYATDISI'!"&ADDRESS(IFERROR(MATCH(VLOOKUP($E$3,$BC$3:$BE$150,2,0),HAYATDISI!$B:$B,0),MATCH(9003,HAYATDISI!$B:$B,0)+1),MATCH($A46,HAYATDISI!$5:$5,0))) -> -1.603104e+10 | BC46: Fiba Sigorta AŞ | BD46: 1058
A47: 61404 | B47: d.) Araştırma ve Geliştirme Giderleri (-) | C47: =INDIRECT("'HAYATDISI'!"&ADDRESS(IFERROR(MATCH(VLOOKUP($B$3,$BC$3:$BE$150,2,0),HAYATDISI!$B:$B,0),MATCH(9003,HAYATDISI!$B:$B,0)+1),MATCH($A47,HAYATDISI!$5:$5,0))) -> -4764759.9 | E47: d.) Araştırma ve Geliştirme Giderleri (-) | F47: =INDIRECT("'HAYATDISI'!"&ADDRESS(IFERROR(MATCH(VLOOKUP($E$3,$BC$3:$BE$150,2,0),HAYATDISI!$B:$B,0),MATCH(9003,HAYATDISI!$B:$B,0)+1),MATCH($A47,HAYATDISI!$5:$5,0))) -> -4764759.9 | BC47: Turkcell Dijital Sigorta AŞ | BD47: 1059
A48: 61405 | B48: e.) Pazarlama ve Satış Giderleri (-) | C48: =INDIRECT("'HAYATDISI'!"&ADDRESS(IFERROR(MATCH(VLOOKUP($B$3,$BC$3:$BE$150,2,0),HAYATDISI!$B:$B,0),MATCH(9003,HAYATDISI!$B:$B,0)+1),MATCH($A48,HAYATDISI!$5:$5,0))) -> -7.2017646e+09 | E48: e.) Pazarlama ve Satış Giderleri (-) | F48: =INDIRECT("'HAYATDISI'!"&ADDRESS(IFERROR(MATCH(VLOOKUP($E$3,$BC$3:$BE$150,2,0),HAYATDISI!$B:$B,0),MATCH(9003,HAYATDISI!$B:$B,0)+1),MATCH($A48,HAYATDISI!$5:$5,0))) -> -7.2017646e+09 | BC48: Global World Sigorta AŞ | BD48: 1060
A49: 61406 | B49: f.) Dışarıdan Sağlanan Fayda ve Hizmet Giderleri (-) | C49: =INDIRECT("'HAYATDISI'!"&ADDRESS(IFERROR(MATCH(VLOOKUP($B$3,$BC$3:$BE$150,2,0),HAYATDISI!$B:$B,0),MATCH(9003,HAYATDISI!$B:$B,0)+1),MATCH($A49,HAYATDISI!$5:$5,0))) -> -9.3285535e+09 | E49: f.) Dışarıdan Sağlanan Fayda ve Hizmet Giderleri (-) | F49: =INDIRECT("'HAYATDISI'!"&ADDRESS(IFERROR(MATCH(VLOOKUP($E$3,$BC$3:$BE$150,2,0),HAYATDISI!$B:$B,0),MATCH(9003,HAYATDISI!$B:$B,0)+1),MATCH($A49,HAYATDISI!$5:$5,0))) -> -9.3285535e+09 | BC49: Medisa Sigorta AŞ | BD49: 1061
A50: 61407 | B50: g.) Reasürans Komisyonları Geliri (+/-) | C50: =INDIRECT("'HAYATDISI'!"&ADDRESS(IFERROR(MATCH(VLOOKUP($B$3,$BC$3:$BE$150,2,0),HAYATDISI!$B:$B,0),MATCH(9003,HAYATDISI!$B:$B,0)+1),MATCH($A50,HAYATDISI!$5:$5,0))) -> 2.8372099e+10 | E50: g.) Reasürans Komisyonları Geliri (+/-) | F50: =INDIRECT("'HAYATDISI'!"&ADDRESS(IFERROR(MATCH(VLOOKUP($E$3,$BC$3:$BE$150,2,0),HAYATDISI!$B:$B,0),MATCH(9003,HAYATDISI!$B:$B,0)+1),MATCH($A50,HAYATDISI!$5:$5,0))) -> 2.8372099e+10 | BC50: Bupa Acıbadem Sigorta AŞ | BD50: 2001
A51: 61408 | B51: h.) Diğer Faaliyet Giderleri (+/-) | C51: =INDIRECT("'HAYATDISI'!"&ADDRESS(IFERROR(MATCH(VLOOKUP($B$3,$BC$3:$BE$150,2,0),HAYATDISI!$B:$B,0),MATCH(9003,HAYATDISI!$B:$B,0)+1),MATCH($A51,HAYATDISI!$5:$5,0))) -> -8.339185e+09 | E51: h.) Diğer Faaliyet Giderleri (+/-) | F51: =INDIRECT("'HAYATDISI'!"&ADDRESS(IFERROR(MATCH(VLOOKUP($E$3,$BC$3:$BE$150,2,0),HAYATDISI!$B:$B,0),MATCH(9003,HAYATDISI!$B:$B,0)+1),MATCH($A51,HAYATDISI!$5:$5,0))) -> -8.339185e+09 | BC51: BNP Paribas Cardif Hayat Sigorta AŞ | BD51: 2002
B52: 7. MATEMATİK KARŞILIKLAR (REASÜRÖR PAYI DÜŞÜLMÜŞ OLARAK) | C52: =C53+C54 -> -2.8963378e+08 | E52: 7. MATEMATİK KARŞILIKLAR (REASÜRÖR PAYI DÜŞÜLMÜŞ OLARAK) | F52: =F53+F54 -> -2.8963378e+08 | BC52: Demir Sağlık ve Hayat Sigorta AŞ | BD52: 2005
A53: 615011 | B53: a.) Matematik Karşılıklar Brüt (-) | C53: =INDIRECT("'HAYATDISI'!"&ADDRESS(IFERROR(MATCH(VLOOKUP($B$3,$BC$3:$BE$150,2,0),HAYATDISI!$B:$B,0),MATCH(9003,HAYATDISI!$B:$B,0)+1),MATCH($A53,HAYATDISI!$5:$5,0))) -> -2.9472461e+08 | E53: a.) Matematik Karşılıklar Brüt (-) | F53: =INDIRECT("'HAYATDISI'!"&ADDRESS(IFERROR(MATCH(VLOOKUP($E$3,$BC$3:$BE$150,2,0),HAYATDISI!$B:$B,0),MATCH(9003,HAYATDISI!$B:$B,0)+1),MATCH($A53,HAYATDISI!$5:$5,0))) -> -2.9472461e+08 | BC53: Zurich Yaşam ve Emeklilik AŞ | BD53: 2006
A54: 615021 | B54: b.) Matematik Karşılıklarda Reasürör Payı (+) | C54: =INDIRECT("'HAYATDISI'!"&ADDRESS(IFERROR(MATCH(VLOOKUP($B$3,$BC$3:$BE$150,2,0),HAYATDISI!$B:$B,0),MATCH(9003,HAYATDISI!$B:$B,0)+1),MATCH($A54,HAYATDISI!$5:$5,0))) -> 5090836.7 | E54: b.) Matematik Karşılıklarda Reasürör Payı (+) | F54: =INDIRECT("'HAYATDISI'!"&ADDRESS(IFERROR(MATCH(VLOOKUP($E$3,$BC$3:$BE$150,2,0),HAYATDISI!$B:$B,0),MATCH(9003,HAYATDISI!$B:$B,0)+1),MATCH($A54,HAYATDISI!$5:$5,0))) -> 5090836.7 | BC54: Türkiye Katılım Hayat AŞ | BD54: 2007
B55: 8. DEVREDEN MATEMATİK KARŞILIKLAR (REASÜRÖR PAYI DÜŞÜLMÜŞ OLARAK) | C55: =C56+C57 -> 2.0396313e+08 | E55: 8. DEVREDEN MATEMATİK KARŞILIKLAR (REASÜRÖR PAYI DÜŞÜLMÜŞ OLARAK) | F55: =F56+F57 -> 2.0396313e+08 | BC55: Quick Hayat Sigorta AŞ | BD55: 2008
A56: 615012 | B56: a.) Devreden Matematik Karşılık Brüt (+) | C56: =INDIRECT("'HAYATDISI'!"&ADDRESS(IFERROR(MATCH(VLOOKUP($B$3,$BC$3:$BE$150,2,0),HAYATDISI!$B:$B,0),MATCH(9003,HAYATDISI!$B:$B,0)+1),MATCH($A56,HAYATDISI!$5:$5,0))) -> 2.0934139e+08 | E56: a.) Devreden Matematik Karşılık Brüt (+) | F56: =INDIRECT("'HAYATDISI'!"&ADDRESS(IFERROR(MATCH(VLOOKUP($E$3,$BC$3:$BE$150,2,0),HAYATDISI!$B:$B,0),MATCH(9003,HAYATDISI!$B:$B,0)+1),MATCH($A56,HAYATDISI!$5:$5,0))) -> 2.0934139e+08 | BC56: Viennalife Emeklilik ve Hayat AŞ | BD56: 3001
A57: 615022 | B57: b.) Devreden Matematik Karşılıklarda Reasürör Payı (-) | C57: =INDIRECT("'HAYATDISI'!"&ADDRESS(IFERROR(MATCH(VLOOKUP($B$3,$BC$3:$BE$150,2,0),HAYATDISI!$B:$B,0),MATCH(9003,HAYATDISI!$B:$B,0)+1),MATCH($A57,HAYATDISI!$5:$5,0))) -> -5378259 | E57: b.) Devreden Matematik Karşılıklarda Reasürör Payı (-) | F57: =INDIRECT("'HAYATDISI'!"&ADDRESS(IFERROR(MATCH(VLOOKUP($E$3,$BC$3:$BE$150,2,0),HAYATDISI!$B:$B,0),MATCH(9003,HAYATDISI!$B:$B,0)+1),MATCH($A57,HAYATDISI!$5:$5,0))) -> -5378259 | BC57: Allianz Hayat ve Emeklilik AŞ | BD57: 3002
A58: 619 | B58: 9. DİĞER TEKNİK GİDERLER (REASÜRÖR PAYI DÜŞÜLMÜŞ OLARAK) | C58: =INDIRECT("'HAYATDISI'!"&ADDRESS(IFERROR(MATCH(VLOOKUP($B$3,$BC$3:$BE$150,2,0),HAYATDISI!$B:$B,0),MATCH(9003,HAYATDISI!$B:$B,0)+1),MATCH($A58,HAYATDISI!$5:$5,0))) -> -1.4135496e+10 | E58: 9. DİĞER TEKNİK GİDERLER (REASÜRÖR PAYI DÜŞÜLMÜŞ OLARAK) | F58: =INDIRECT("'HAYATDISI'!"&ADDRESS(IFERROR(MATCH(VLOOKUP($E$3,$BC$3:$BE$150,2,0),HAYATDISI!$B:$B,0),MATCH(9003,HAYATDISI!$B:$B,0)+1),MATCH($A58,HAYATDISI!$5:$5,0))) -> -1.4135496e+10 | BC58: Allianz Yaşam ve Emeklilik AŞ | BD58: 3003
B59: C- TEKNİK BÖLÜM DENGESİ- HAYAT DIŞI (A+B) | C59: =C6+C28 -> 1.4465019e+11 | E59: C- TEKNİK BÖLÜM DENGESİ- HAYAT DIŞI (A+B) | F59: =F6+F28 -> 1.4465019e+11 | BC59: Anadolu Hayat Emeklilik AŞ | BD59: 3004
B60: D- HAYAT TEKNİK GELİR | C60: =C61+C64+C67+C70+C73+C76+C77+C78+C79 -> 1.9840499e+11 | E60: D- HAYAT TEKNİK GELİR | F60: =F61+F64+F67+F70+F73+F76+F77+F78+F79 -> 1.9840499e+11 | BC60: Bereket Emeklilik ve Hayat AŞ | BD60: 3005
B61: 1- YAZILAN PRİMLER (REASÜRÖR PAYI DÜŞÜLMÜŞ OLARAK) | C61: =C62+C63 -> 1.7161887e+11 | E61: 1- YAZILAN PRİMLER (REASÜRÖR PAYI DÜŞÜLMÜŞ OLARAK) | F61: =F62+F63 -> 1.7161887e+11 | BC61: AgeSA Emeklilik ve Hayat AŞ | BD61: 3006
A62: 62001 | B62: a.) Brüt Yazılan Primler (+/-) | C62: =INDIRECT("'HAYAT'!"&ADDRESS(IFERROR(MATCH(VLOOKUP($B$3,$BC$3:$BE$150,2,0),HAYAT!$B:$B,0),MATCH(9003,HAYAT!$B:$B,0)+1),MATCH($A62,HAYAT!$5:$5,0))) -> 1.7903556e+11 | E62: a.) Brüt Yazılan Primler (+/-) | F62: =INDIRECT("'HAYAT'!"&ADDRESS(IFERROR(MATCH(VLOOKUP($E$3,$BC$3:$BE$150,2,0),HAYAT!$B:$B,0),MATCH(9003,HAYAT!$B:$B,0)+1),MATCH($A62,HAYAT!$5:$5,0))) -> 1.7903556e+11 | BC62: Axa Hayat ve Emeklilik AŞ | BD62: 3007
A63: 62002 | B63: b.) Reasüröre Devredilen Primler (+/-) | C63: =INDIRECT("'HAYAT'!"&ADDRESS(IFERROR(MATCH(VLOOKUP($B$3,$BC$3:$BE$150,2,0),HAYAT!$B:$B,0),MATCH(9003,HAYAT!$B:$B,0)+1),MATCH($A63,HAYAT!$5:$5,0))) -> -7.4166853e+09 | E63: b.) Reasüröre Devredilen Primler (+/-) | F63: =INDIRECT("'HAYAT'!"&ADDRESS(IFERROR(MATCH(VLOOKUP($E$3,$BC$3:$BE$150,2,0),HAYAT!$B:$B,0),MATCH(9003,HAYAT!$B:$B,0)+1),MATCH($A63,HAYAT!$5:$5,0))) -> -7.4166853e+09 | BC63: BNP Paribas Cardif Emeklilik AŞ | BD63: 3008
B64: 2. KAZANILMAMIŞ PRİMLER KARŞILIĞI (REASÜRÖR PAYI DÜŞÜLMÜŞ OLARAK) | C64: =C65+C66 -> -2.6487064e+10 | E64: 2. KAZANILMAMIŞ PRİMLER KARŞILIĞI (REASÜRÖR PAYI DÜŞÜLMÜŞ OLARAK) | F64: =F65+F66 -> -2.6487064e+10 | BC64: QNB Sağlık Hayat Sigorta ve Emeklilik AŞ | BD64: 3009
A65: 621011 | B65: a.) Kazanılmamış Primler Karşılığı Brüt (+/-) | C65: =INDIRECT("'HAYAT'!"&ADDRESS(IFERROR(MATCH(VLOOKUP($B$3,$BC$3:$BE$150,2,0),HAYAT!$B:$B,0),MATCH(9003,HAYAT!$B:$B,0)+1),MATCH($A65,HAYAT!$5:$5,0))) -> -2.8406349e+10 | E65: a.) Kazanılmamış Primler Karşılığı Brüt (+/-) | F65: =INDIRECT("'HAYAT'!"&ADDRESS(IFERROR(MATCH(VLOOKUP($E$3,$BC$3:$BE$150,2,0),HAYAT!$B:$B,0),MATCH(9003,HAYAT!$B:$B,0)+1),MATCH($A65,HAYAT!$5:$5,0))) -> -2.8406349e+10 | BC65: Fiba Emeklilik ve Hayat AŞ | BD65: 3011
A66: 621021 | B66: b.) Kazanılmamış Prımler Karşılığında Reasürör Payı (+/-) | C66: =INDIRECT("'HAYAT'!"&ADDRESS(IFERROR(MATCH(VLOOKUP($B$3,$BC$3:$BE$150,2,0),HAYAT!$B:$B,0),MATCH(9003,HAYAT!$B:$B,0)+1),MATCH($A66,HAYAT!$5:$5,0))) -> 1.9192854e+09 | E66: b.) Kazanılmamış Prımler Karşılığında Reasürör Payı (+/-) | F66: =INDIRECT("'HAYAT'!"&ADDRESS(IFERROR(MATCH(VLOOKUP($E$3,$BC$3:$BE$150,2,0),HAYAT!$B:$B,0),MATCH(9003,HAYAT!$B:$B,0)+1),MATCH($A66,HAYAT!$5:$5,0))) -> 1.9192854e+09 | BC66: Garanti Emeklilik ve Hayat AŞ | BD66: 3012
B67: 3. DEVREDEN KAZANILMAMIŞ PRİMLER KARŞILIĞI (REASÜRÖR PAYI DÜŞÜLMÜŞ OLARAK) | C67: =C68+C69 -> 1.9147714e+10 | E67: 3. DEVREDEN KAZANILMAMIŞ PRİMLER KARŞILIĞI (REASÜRÖR PAYI DÜŞÜLMÜŞ OLARAK) | F67: =F68+F69 -> 1.9147714e+10 | BC67: Katılım Emeklilik ve Hayat AŞ | BD67: 3016
A68: 621012 | B68: a.) Devreden Kazanılmamış Primler Karşılığı Brüt (+/-) | C68: =INDIRECT("'HAYAT'!"&ADDRESS(IFERROR(MATCH(VLOOKUP($B$3,$BC$3:$BE$150,2,0),HAYAT!$B:$B,0),MATCH(9003,HAYAT!$B:$B,0)+1),MATCH($A68,HAYAT!$5:$5,0))) -> 2.0545991e+10 | E68: a.) Devreden Kazanılmamış Primler Karşılığı Brüt (+/-) | F68: =INDIRECT("'HAYAT'!"&ADDRESS(IFERROR(MATCH(VLOOKUP($E$3,$BC$3:$BE$150,2,0),HAYAT!$B:$B,0),MATCH(9003,HAYAT!$B:$B,0)+1),MATCH($A68,HAYAT!$5:$5,0))) -> 2.0545991e+10 | BC68: Metlife Emeklilik ve Hayat AŞ | BD68: 3017
A69: 621022 | B69: b.) Devreden Kazanılmamış Prımler Karşılığında Reasürör Payı (+/-) | C69: =INDIRECT("'HAYAT'!"&ADDRESS(IFERROR(MATCH(VLOOKUP($B$3,$BC$3:$BE$150,2,0),HAYAT!$B:$B,0),MATCH(9003,HAYAT!$B:$B,0)+1),MATCH($A69,HAYAT!$5:$5,0))) -> -1.3982772e+09 | E69: b.) Devreden Kazanılmamış Prımler Karşılığında Reasürör Payı (+/-) | F69: =INDIRECT("'HAYAT'!"&ADDRESS(IFERROR(MATCH(VLOOKUP($E$3,$BC$3:$BE$150,2,0),HAYAT!$B:$B,0),MATCH(9003,HAYAT!$B:$B,0)+1),MATCH($A69,HAYAT!$5:$5,0))) -> -1.3982772e+09 | BC69: Türkiye Hayat ve Emeklilik AŞ | BD69: 3018
B70: 4. DEVAM EDEN RİSKLER KARŞILIĞI (REASÜRÖR PAYI DÜŞÜLMÜŞ OLARAK) | C70: =C71+C72 -> 0 | E70: 4. DEVAM EDEN RİSKLER KARŞILIĞI (REASÜRÖR PAYI DÜŞÜLMÜŞ OLARAK) | F70: =F71+F72 -> 0 | BC70: Milli Reasürans TAŞ | BD70: 4002
A71: 622011 | B71: a.) Devam Eden Riskler Karşılığı Brüt (-) | C71: =INDIRECT("'HAYAT'!"&ADDRESS(IFERROR(MATCH(VLOOKUP($B$3,$BC$3:$BE$150,2,0),HAYAT!$B:$B,0),MATCH(9003,HAYAT!$B:$B,0)+1),MATCH($A71,HAYAT!$5:$5,0))) -> 0 | E71: a.) Devam Eden Riskler Karşılığı Brüt (-) | F71: =INDIRECT("'HAYAT'!"&ADDRESS(IFERROR(MATCH(VLOOKUP($E$3,$BC$3:$BE$150,2,0),HAYAT!$B:$B,0),MATCH(9003,HAYAT!$B:$B,0)+1),MATCH($A71,HAYAT!$5:$5,0))) -> 0 | BC71: VHV Reasürans AŞ | BD71: 4003
A72: 622021 | B72: b.) Devam Eden Riskler Karşılığında Reasürör Payı (+) | C72: =INDIRECT("'HAYAT'!"&ADDRESS(IFERROR(MATCH(VLOOKUP($B$3,$BC$3:$BE$150,2,0),HAYAT!$B:$B,0),MATCH(9003,HAYAT!$B:$B,0)+1),MATCH($A72,HAYAT!$5:$5,0))) -> 0 | E72: b.) Devam Eden Riskler Karşılığında Reasürör Payı (+) | F72: =INDIRECT("'HAYAT'!"&ADDRESS(IFERROR(MATCH(VLOOKUP($E$3,$BC$3:$BE$150,2,0),HAYAT!$B:$B,0),MATCH(9003,HAYAT!$B:$B,0)+1),MATCH($A72,HAYAT!$5:$5,0))) -> 0 | BC72: Türk Reasürans AŞ | BD72: 4004
B73: 5. DEVREDEN DEVAM EDEN RİSKLER KARŞILIĞI (REASÜRÖR PAYI DÜŞÜLMÜŞ OLARAK) | C73: =C74+C75 -> 0 | E73: 5. DEVREDEN DEVAM EDEN RİSKLER KARŞILIĞI (REASÜRÖR PAYI DÜŞÜLMÜŞ OLARAK) | F73: =F74+F75 -> 0 | BC73: Türk Katılım Reasürans AŞ | BD73: 4005
A74: 622012 | B74: a.) Devreden Devam Eden Riskler Karşılığı Brüt (+) | C74: =INDIRECT("'HAYAT'!"&ADDRESS(IFERROR(MATCH(VLOOKUP($B$3,$BC$3:$BE$150,2,0),HAYAT!$B:$B,0),MATCH(9003,HAYAT!$B:$B,0)+1),MATCH($A74,HAYAT!$5:$5,0))) -> 0 | E74: a.) Devreden Devam Eden Riskler Karşılığı Brüt (+) | F74: =INDIRECT("'HAYAT'!"&ADDRESS(IFERROR(MATCH(VLOOKUP($E$3,$BC$3:$BE$150,2,0),HAYAT!$B:$B,0),MATCH(9003,HAYAT!$B:$B,0)+1),MATCH($A74,HAYAT!$5:$5,0))) -> 0 | BC74: TOPLAM (HAYAT DIŞI ŞİRKETLER) | BD74: 9000
A75: 622022 | B75: b.) Devreden Devam Eden Riskler Karşılığında Reasürör Payı (-) | C75: =INDIRECT("'HAYAT'!"&ADDRESS(IFERROR(MATCH(VLOOKUP($B$3,$BC$3:$BE$150,2,0),HAYAT!$B:$B,0),MATCH(9003,HAYAT!$B:$B,0)+1),MATCH($A75,HAYAT!$5:$5,0))) -> 0 | E75: b.) Devreden Devam Eden Riskler Karşılığında Reasürör Payı (-) | F75: =INDIRECT("'HAYAT'!"&ADDRESS(IFERROR(MATCH(VLOOKUP($E$3,$BC$3:$BE$150,2,0),HAYAT!$B:$B,0),MATCH(9003,HAYAT!$B:$B,0)+1),MATCH($A75,HAYAT!$5:$5,0))) -> 0 | BC75: TOPLAM (HAYAT VE EMEKLİLİK ŞİRKETLERİ) | BD75: 9001
A76: 623 | B76: 6. HAYAT BRANŞI YATIRIM GELİRİ | C76: =INDIRECT("'HAYAT'!"&ADDRESS(IFERROR(MATCH(VLOOKUP($B$3,$BC$3:$BE$150,2,0),HAYAT!$B:$B,0),MATCH(9003,HAYAT!$B:$B,0)+1),MATCH($A76,HAYAT!$5:$5,0))) -> 3.2956725e+10 | E76: 6. HAYAT BRANŞI YATIRIM GELİRİ | F76: =INDIRECT("'HAYAT'!"&ADDRESS(IFERROR(MATCH(VLOOKUP($E$3,$BC$3:$BE$150,2,0),HAYAT!$B:$B,0),MATCH(9003,HAYAT!$B:$B,0)+1),MATCH($A76,HAYAT!$5:$5,0))) -> 3.2956725e+10 | BC76: TOPLAM (REASÜRANS ŞİRKETLERİ) | BD76: 9002
A77: 624 | B77: 7. YATIRIMLARDAKİ GERÇEKLEŞMEMİŞ KARLAR | C77: =INDIRECT("'HAYAT'!"&ADDRESS(IFERROR(MATCH(VLOOKUP($B$3,$BC$3:$BE$150,2,0),HAYAT!$B:$B,0),MATCH(9003,HAYAT!$B:$B,0)+1),MATCH($A77,HAYAT!$5:$5,0))) -> -79044.39 | E77: 7. YATIRIMLARDAKİ GERÇEKLEŞMEMİŞ KARLAR | F77: =INDIRECT("'HAYAT'!"&ADDRESS(IFERROR(MATCH(VLOOKUP($E$3,$BC$3:$BE$150,2,0),HAYAT!$B:$B,0),MATCH(9003,HAYAT!$B:$B,0)+1),MATCH($A77,HAYAT!$5:$5,0))) -> -79044.39 | BC77: TOPLAM (HAYAT DIŞI ŞİRKETLER+HAYAT VE EMEKLİLİK ŞİRKETLERİ) | BD77: 9003
A78: 625 | B78: 8. DİĞER TEKNİK GELİRLER (REASÜRÖR PAYI DÜŞÜLMÜŞ OLARAK) | C78: =INDIRECT("'HAYAT'!"&ADDRESS(IFERROR(MATCH(VLOOKUP($B$3,$BC$3:$BE$150,2,0),HAYAT!$B:$B,0),MATCH(9003,HAYAT!$B:$B,0)+1),MATCH($A78,HAYAT!$5:$5,0))) -> 1.1688274e+09 | E78: 8. DİĞER TEKNİK GELİRLER (REASÜRÖR PAYI DÜŞÜLMÜŞ OLARAK) | F78: =INDIRECT("'HAYAT'!"&ADDRESS(IFERROR(MATCH(VLOOKUP($E$3,$BC$3:$BE$150,2,0),HAYAT!$B:$B,0),MATCH(9003,HAYAT!$B:$B,0)+1),MATCH($A78,HAYAT!$5:$5,0))) -> 1.1688274e+09 | BC78: TOPLAM (HAYAT DIŞI ŞİRKETLER+HAYAT VE EMEKLİLİK ŞİRKETLERİ+REASÜRANS ŞİRKETLERİ)
A79: 626 | B79: 9. TAHAKKUK EDEN RÜCU GELİRLERİ (REASÜRÖR PAYI DÜŞÜLMÜŞ OLARAK) | C79: =INDIRECT("'HAYAT'!"&ADDRESS(IFERROR(MATCH(VLOOKUP($B$3,$BC$3:$BE$150,2,0),HAYAT!$B:$B,0),MATCH(9003,HAYAT!$B:$B,0)+1),MATCH($A79,HAYAT!$5:$5,0))) -> 0 | E79: 9. TAHAKKUK EDEN RÜCU GELİRLERİ (REASÜRÖR PAYI DÜŞÜLMÜŞ OLARAK) | F79: =INDIRECT("'HAYAT'!"&ADDRESS(IFERROR(MATCH(VLOOKUP($E$3,$BC$3:$BE$150,2,0),HAYAT!$B:$B,0),MATCH(9003,HAYAT!$B:$B,0)+1),MATCH($A79,HAYAT!$5:$5,0))) -> 0
B80: E- HAYAT TEKNİK GİDER | C80: =C81+C84+C87+C90+C91+C110+C111+C112+C94+C97+C101 -> -1.6140103e+11 | E80: E- HAYAT TEKNİK GİDER | F80: =F81+F84+F87+F90+F91+F110+F111+F112+F94+F97+F101 -> -1.6140103e+11
B81: 1. ÖDENEN TAZMİNATLAR (REASÜRÖR PAYI DÜŞÜLMÜŞ OLARAK) | C81: =C82+C83 -> -2.7920074e+10 | E81: 1. ÖDENEN TAZMİNATLAR (REASÜRÖR PAYI DÜŞÜLMÜŞ OLARAK) | F81: =F82+F83 -> -2.7920074e+10
A82: 63001 | B82: a.) Brüt Ödenen Tazminatlar (+/-) | C82: =INDIRECT("'HAYAT'!"&ADDRESS(IFERROR(MATCH(VLOOKUP($B$3,$BC$3:$BE$150,2,0),HAYAT!$B:$B,0),MATCH(9003,HAYAT!$B:$B,0)+1),MATCH($A82,HAYAT!$5:$5,0))) -> -2.9674738e+10 | E82: a.) Brüt Ödenen Tazminatlar (+/-) | F82: =INDIRECT("'HAYAT'!"&ADDRESS(IFERROR(MATCH(VLOOKUP($E$3,$BC$3:$BE$150,2,0),HAYAT!$B:$B,0),MATCH(9003,HAYAT!$B:$B,0)+1),MATCH($A82,HAYAT!$5:$5,0))) -> -2.9674738e+10
A83: 63002 | B83: b.) Ödenen Tazminatlarda Reasürör Payı (+/-) | C83: =INDIRECT("'HAYAT'!"&ADDRESS(IFERROR(MATCH(VLOOKUP($B$3,$BC$3:$BE$150,2,0),HAYAT!$B:$B,0),MATCH(9003,HAYAT!$B:$B,0)+1),MATCH($A83,HAYAT!$5:$5,0))) -> 1.7546642e+09 | E83: b.) Ödenen Tazminatlarda Reasürör Payı (+/-) | F83: =INDIRECT("'HAYAT'!"&ADDRESS(IFERROR(MATCH(VLOOKUP($E$3,$BC$3:$BE$150,2,0),HAYAT!$B:$B,0),MATCH(9003,HAYAT!$B:$B,0)+1),MATCH($A83,HAYAT!$5:$5,0))) -> 1.7546642e+09
B84: 2. MUALLAK TAZMİNATLAR KARŞILIĞI (REASÜRÖR PAYI DÜŞÜLMÜŞ OLARAK) | C84: =C85+C86 -> -7.4471703e+09 | E84: 2. MUALLAK TAZMİNATLAR KARŞILIĞI (REASÜRÖR PAYI DÜŞÜLMÜŞ OLARAK) | F84: =F85+F86 -> -7.4471703e+09
A85: 631011 | B85: a.) Muallak Tazminatlar Karşılığı Brüt (-) | C85: =INDIRECT("'HAYAT'!"&ADDRESS(IFERROR(MATCH(VLOOKUP($B$3,$BC$3:$BE$150,2,0),HAYAT!$B:$B,0),MATCH(9003,HAYAT!$B:$B,0)+1),MATCH($A85,HAYAT!$5:$5,0))) -> -9.5813656e+09 | E85: a.) Muallak Tazminatlar Karşılığı Brüt (-) | F85: =INDIRECT("'HAYAT'!"&ADDRESS(IFERROR(MATCH(VLOOKUP($E$3,$BC$3:$BE$150,2,0),HAYAT!$B:$B,0),MATCH(9003,HAYAT!$B:$B,0)+1),MATCH($A85,HAYAT!$5:$5,0))) -> -9.5813656e+09
A86: 631021 | B86: b.) Muallak Tazminatlar Karşılığında Reasürör Payı (+) | C86: =INDIRECT("'HAYAT'!"&ADDRESS(IFERROR(MATCH(VLOOKUP($B$3,$BC$3:$BE$150,2,0),HAYAT!$B:$B,0),MATCH(9003,HAYAT!$B:$B,0)+1),MATCH($A86,HAYAT!$5:$5,0))) -> 2.1341953e+09 | E86: b.) Muallak Tazminatlar Karşılığında Reasürör Payı (+) | F86: =INDIRECT("'HAYAT'!"&ADDRESS(IFERROR(MATCH(VLOOKUP($E$3,$BC$3:$BE$150,2,0),HAYAT!$B:$B,0),MATCH(9003,HAYAT!$B:$B,0)+1),MATCH($A86,HAYAT!$5:$5,0))) -> 2.1341953e+09
B87: 3. DEVREDEN MUALLAK HASARLAR KARŞILIĞI (REASÜRÖR PAYI DÜŞÜLMÜŞ OLARAK) | C87: =C88+C89 -> 5.2253417e+09 | E87: 3. DEVREDEN MUALLAK HASARLAR KARŞILIĞI (REASÜRÖR PAYI DÜŞÜLMÜŞ OLARAK) | F87: =F88+F89 -> 5.2253417e+09
A88: 631012 | B88: a) Devreden Muallak Tazminatlar Karşılığı Brüt (+); | C88: =INDIRECT("'HAYAT'!"&ADDRESS(IFERROR(MATCH(VLOOKUP($B$3,$BC$3:$BE$150,2,0),HAYAT!$B:$B,0),MATCH(9003,HAYAT!$B:$B,0)+1),MATCH($A88,HAYAT!$5:$5,0))) -> 6.6449557e+09 | E88: a) Devreden Muallak Tazminatlar Karşılığı Brüt (+); | F88: =INDIRECT("'HAYAT'!"&ADDRESS(IFERROR(MATCH(VLOOKUP($E$3,$BC$3:$BE$150,2,0),HAYAT!$B:$B,0),MATCH(9003,HAYAT!$B:$B,0)+1),MATCH($A88,HAYAT!$5:$5,0))) -> 6.6449557e+09
A89: 631022 | B89: b) Devreden Muallak Tazminatlar Karşılığında Reasürör Payı (-) | C89: =INDIRECT("'HAYAT'!"&ADDRESS(IFERROR(MATCH(VLOOKUP($B$3,$BC$3:$BE$150,2,0),HAYAT!$B:$B,0),MATCH(9003,HAYAT!$B:$B,0)+1),MATCH($A89,HAYAT!$5:$5,0))) -> -1.4196139e+09 | E89: b) Devreden Muallak Tazminatlar Karşılığında Reasürör Payı (-) | F89: =INDIRECT("'HAYAT'!"&ADDRESS(IFERROR(MATCH(VLOOKUP($E$3,$BC$3:$BE$150,2,0),HAYAT!$B:$B,0),MATCH(9003,HAYAT!$B:$B,0)+1),MATCH($A89,HAYAT!$5:$5,0))) -> -1.4196139e+09
A90: 632 | B90: 4. İKRAMİYE VE İNDİRİMLER KARŞILIĞINDA DEĞİŞİM (REASÜRÖR PAYI DÜŞÜLMÜŞ OLARAK) | C90: =INDIRECT("'HAYAT'!"&ADDRESS(IFERROR(MATCH(VLOOKUP($B$3,$BC$3:$BE$150,2,0),HAYAT!$B:$B,0),MATCH(9003,HAYAT!$B:$B,0)+1),MATCH($A90,HAYAT!$5:$5,0))) -> -1.1347291e+09 | E90: 4. İKRAMİYE VE İNDİRİMLER KARŞILIĞINDA DEĞİŞİM (REASÜRÖR PAYI DÜŞÜLMÜŞ OLARAK) | F90: =INDIRECT("'HAYAT'!"&ADDRESS(IFERROR(MATCH(VLOOKUP($E$3,$BC$3:$BE$150,2,0),HAYAT!$B:$B,0),MATCH(9003,HAYAT!$B:$B,0)+1),MATCH($A90,HAYAT!$5:$5,0))) -> -1.1347291e+09
B91: 5. MATEMATİK KARŞILIKLAR (REASÜRÖR PAYI DÜŞÜLMÜŞ OLARAK) | C91: =C92+C93 -> -1.8105545e+11 | E91: 5. MATEMATİK KARŞILIKLAR (REASÜRÖR PAYI DÜŞÜLMÜŞ OLARAK) | F91: =F92+F93 -> -1.8105545e+11
A92: 633011 | B92: a.) Matematik Karşılıklar Brüt (-) | C92: =INDIRECT("'HAYAT'!"&ADDRESS(IFERROR(MATCH(VLOOKUP($B$3,$BC$3:$BE$150,2,0),HAYAT!$B:$B,0),MATCH(9003,HAYAT!$B:$B,0)+1),MATCH($A92,HAYAT!$5:$5,0))) -> -1.8158651e+11 | E92: a.) Matematik Karşılıklar Brüt (-) | F92: =INDIRECT("'HAYAT'!"&ADDRESS(IFERROR(MATCH(VLOOKUP($E$3,$BC$3:$BE$150,2,0),HAYAT!$B:$B,0),MATCH(9003,HAYAT!$B:$B,0)+1),MATCH($A92,HAYAT!$5:$5,0))) -> -1.8158651e+11
A93: 633021 | B93: b.) Matematik Karşılıklarda Reasürör Payı (+) | C93: =INDIRECT("'HAYAT'!"&ADDRESS(IFERROR(MATCH(VLOOKUP($B$3,$BC$3:$BE$150,2,0),HAYAT!$B:$B,0),MATCH(9003,HAYAT!$B:$B,0)+1),MATCH($A93,HAYAT!$5:$5,0))) -> 5.3105183e+08 | E93: b.) Matematik Karşılıklarda Reasürör Payı (+) | F93: =INDIRECT("'HAYAT'!"&ADDRESS(IFERROR(MATCH(VLOOKUP($E$3,$BC$3:$BE$150,2,0),HAYAT!$B:$B,0),MATCH(9003,HAYAT!$B:$B,0)+1),MATCH($A93,HAYAT!$5:$5,0))) -> 5.3105183e+08
B94: 6. DEVREDEN MATEMATİK KARŞILIKLAR (REASÜRÖR PAYI DÜŞÜLMÜŞ OLARAK) | C94: =C95+C96 -> 1.0918032e+11 | E94: 6. DEVREDEN MATEMATİK KARŞILIKLAR (REASÜRÖR PAYI DÜŞÜLMÜŞ OLARAK) | F94: =F95+F96 -> 1.0918032e+11
A95: 633012 | B95: a.) Devreden Matematik Karşılık Brüt (+) | C95: =INDIRECT("'HAYAT'!"&ADDRESS(IFERROR(MATCH(VLOOKUP($B$3,$BC$3:$BE$150,2,0),HAYAT!$B:$B,0),MATCH(9003,HAYAT!$B:$B,0)+1),MATCH($A95,HAYAT!$5:$5,0))) -> 1.0957275e+11 | E95: a.) Devreden Matematik Karşılık Brüt (+) | F95: =INDIRECT("'HAYAT'!"&ADDRESS(IFERROR(MATCH(VLOOKUP($E$3,$BC$3:$BE$150,2,0),HAYAT!$B:$B,0),MATCH(9003,HAYAT!$B:$B,0)+1),MATCH($A95,HAYAT!$5:$5,0))) -> 1.0957275e+11
A96: 633022 | B96: b.) Devreden Matematik Karşılıklarda Reasürör Payı (-) | C96: =INDIRECT("'HAYAT'!"&ADDRESS(IFERROR(MATCH(VLOOKUP($B$3,$BC$3:$BE$150,2,0),HAYAT!$B:$B,0),MATCH(9003,HAYAT!$B:$B,0)+1),MATCH($A96,HAYAT!$5:$5,0))) -> -3.9242331e+08 | E96: b.) Devreden Matematik Karşılıklarda Reasürör Payı (-) | F96: =INDIRECT("'HAYAT'!"&ADDRESS(IFERROR(MATCH(VLOOKUP($E$3,$BC$3:$BE$150,2,0),HAYAT!$B:$B,0),MATCH(9003,HAYAT!$B:$B,0)+1),MATCH($A96,HAYAT!$5:$5,0))) -> -3.9242331e+08
B97: 7. DİĞER TEKNİK KARŞILIKLAR (REASÜRÖR PAYI VE DEVREDEN DÜŞÜLMÜŞ OLARAK) | C97: =C98+C99+C100 -> -8.0994079e+08 | E97: 7. DİĞER TEKNİK KARŞILIKLAR (REASÜRÖR PAYI VE DEVREDEN DÜŞÜLMÜŞ OLARAK) | F97: =F98+F99+F100 -> -8.0994079e+08
A98: 63501 | B98: a.) Dengeleme Karşılığında Değişim (Reasürör Payı ve Dev. Kısım Düşülmüş Olarak) (+/-) | C98: =INDIRECT("'HAYAT'!"&ADDRESS(IFERROR(MATCH(VLOOKUP($B$3,$BC$3:$BE$150,2,0),HAYAT!$B:$B,0),MATCH(9003,HAYAT!$B:$B,0)+1),MATCH($A98,HAYAT!$5:$5,0))) -> -8.0746349e+08 | E98: a.) Dengeleme Karşılığında Değişim (Reasürör Payı ve Dev. Kısım Düşülmüş Olarak) (+/-) | F98: =INDIRECT("'HAYAT'!"&ADDRESS(IFERROR(MATCH(VLOOKUP($E$3,$BC$3:$BE$150,2,0),HAYAT!$B:$B,0),MATCH(9003,HAYAT!$B:$B,0)+1),MATCH($A98,HAYAT!$5:$5,0))) -> -8.0746349e+08
A99: 63502 | B99: b.) Mali Riskler Karşılığında Değişim (Reasürör Payı ve Dev. Kısım Düşülmüş Olarak) (+/-) | C99: =INDIRECT("'HAYAT'!"&ADDRESS(IFERROR(MATCH(VLOOKUP($B$3,$BC$3:$BE$150,2,0),HAYAT!$B:$B,0),MATCH(9003,HAYAT!$B:$B,0)+1),MATCH($A99,HAYAT!$5:$5,0))) -> 0 | E99: b.) Mali Riskler Karşılığında Değişim (Reasürör Payı ve Dev. Kısım Düşülmüş Olarak) (+/-) | F99: =INDIRECT("'HAYAT'!"&ADDRESS(IFERROR(MATCH(VLOOKUP($E$3,$BC$3:$BE$150,2,0),HAYAT!$B:$B,0),MATCH(9003,HAYAT!$B:$B,0)+1),MATCH($A99,HAYAT!$5:$5,0))) -> 0
A100: 63599 | B100: c.) Diğer Çeşitli Karşılıklarda Değişim (Reasürör Payı ve Dev. Kısım Düşülmüş Olarak) (+/-) | C100: =INDIRECT("'HAYAT'!"&ADDRESS(IFERROR(MATCH(VLOOKUP($B$3,$BC$3:$BE$150,2,0),HAYAT!$B:$B,0),MATCH(9003,HAYAT!$B:$B,0)+1),MATCH($A100,HAYAT!$5:$5,0))) -> -2477297.2 | E100: c.) Diğer Çeşitli Karşılıklarda Değişim (Reasürör Payı ve Dev. Kısım Düşülmüş Olarak) (+/-) | F100: =INDIRECT("'HAYAT'!"&ADDRESS(IFERROR(MATCH(VLOOKUP($E$3,$BC$3:$BE$150,2,0),HAYAT!$B:$B,0),MATCH(9003,HAYAT!$B:$B,0)+1),MATCH($A100,HAYAT!$5:$5,0))) -> -2477297.2
B101: 8. FAALİYET GİDERLERİ (-) | C101: =SUM(C102:C109) -> -5.7065652e+10 | E101: 8. FAALİYET GİDERLERİ (-) | F101: =SUM(F102:F109) -> -5.7065652e+10
A102: 63601 | B102: a.) Üretim Giderleri (-) | C102: =INDIRECT("'HAYAT'!"&ADDRESS(IFERROR(MATCH(VLOOKUP($B$3,$BC$3:$BE$150,2,0),HAYAT!$B:$B,0),MATCH(9003,HAYAT!$B:$B,0)+1),MATCH($A102,HAYAT!$5:$5,0))) -> -4.2964475e+10 | E102: a.) Üretim Giderleri (-) | F102: =INDIRECT("'HAYAT'!"&ADDRESS(IFERROR(MATCH(VLOOKUP($E$3,$BC$3:$BE$150,2,0),HAYAT!$B:$B,0),MATCH(9003,HAYAT!$B:$B,0)+1),MATCH($A102,HAYAT!$5:$5,0))) -> -4.2964475e+10
...

Sheet Branş Kırılımlı Analiz
B3: Hayat Dışı | E3: Hayat Dışı | H3: Lütfen Seçimlerinizi Yapınız | AZ3: Chubb European Group SE Merkezi Fransa Türkiye İstanbul Şubesi | BA3: 1001 | BD3: Hayat Dışı | BE3: HAYATDISI | BF3: Brüt Yazılan Primler | BG3: 60001 | BH3: 62001
B4: Brüt Yazılan Primler | E4: Brüt Yazılan Primler | AZ4: Aksigorta AŞ | BA4: 1003 | BD4: Hayat | BE4: HAYAT | BF4: Brüt Kazanılan Primler | BG4: 60001 | BH4: 62001 | BI4: 60003 | BJ4: 60101 | BK4: 62101 | BL4: 60103 | BM4: 60201 | BN4: 62201
AZ5: Allianz Sigorta AŞ | BA5: 1004 | BD5: Kaza | BE5: KAZA | BF5: Brüt Ödenen Tazminatlar | BG5: 61001 | BH5: 63001
B6: Chubb European Group SE Merkezi Fransa Türkiye İstanbul Şubesi | C6: =IFERROR(INDIRECT("'"&VLOOKUP($B$3,$BD$3:$BE$83,2,0)&"'!"&ADDRESS(IFERROR(MATCH(VLOOKUP(B6,$AZ$3:$BB$83,2,0),INDIRECT("'"&VLOOKUP($B$3,$BD$3:$BE$83,2,0)&"'!$B:$B"),0),MATCH(9003,INDIRECT("'"&VLOOKUP($B$3,$BD$3:$BE$83,2,0)&"'!$B:$B"),0)+1),MATCH(VLOOKUP($B$4,$BF$3:$BR$21,2,0),INDIRECT("'"&VLOOKUP($B$3,$BD$3:$BE$83,2,0)&"'!$5:$5"),0))),0)+IFERROR(INDIRECT("'"&VLOOKUP($B$3,$BD$3:$BE$83,2,0)&"'!"&ADDRESS(IFERROR(MATCH(VLOOKUP(B6,$AZ$3:$BB$83,2,0),INDIRECT("'"&VLOOKUP($B$3,$BD$3:$BE$83,2,0)&"'!$B:$B"),0),MATCH(9003,INDIRECT("'"&VLOOKUP($B$3,$BD$3:$BE$83,2,0)&"'!$B:$B"),0)+1),MATCH(VLOOKUP($B$4,$BF$3:$BR$21,3,0),INDIRECT("'"&VLOOKUP($B$3,$BD$3:$BE$83,2,0)&"'!$5:$5"),0))),0)+IFERROR(INDIRECT("'"&VLOOKUP($B$3,$BD$3:$BE$83,2,0)&"'!"&ADDRESS(IFERROR(MATCH(VLOOKUP(B6,$AZ$3:$BB$83,2,0),INDIRECT("'"&VLOOKUP($B$3,$BD$3:$BE$83,2,0)&"'!$B:$B"),0),MATCH(9003,INDIRECT("'"&VLOOKUP($B$3,$BD$3:$BE$83,2,0)&"'!$B:$B"),0)+1),MATCH(VLOOKUP($B$4,$BF$3:$BR$21,4,0),INDIRECT("'"&VLOOKUP($B$3,$BD$3:$BE$83,2,0)&"'!$5:$5"),0))),0)+IFERROR(INDIRECT("'"&VLOOKUP($B$3,$BD$3:$BE$83,2,0)&"'!"&ADDRESS(IFERROR(MATCH(VLOOKUP(B6,$AZ$3:$BB$83,2,0),INDIRECT("'"&VLOOKUP($B$3,$BD$3:$BE$83,2,0)&"'!$B:$B"),0),MATCH(9003,INDIRECT("'"&VLOOKUP($B$3,$BD$3:$BE$83,2,0)&"'!$B:$B"),0)+1),MATCH(VLOOKUP($B$4,$BF$3:$BR$21,5,0),INDIRECT("'"&VLOOKUP($B$3,$BD$3:$BE$83,2,0)&"'!$5:$5"),0))),0)+IFERROR(INDIRECT("'"&VLOOKUP($B$3,$BD$3:$BE$83,2,0)&"'!"&ADDRESS(IFERROR(MATCH(VLOOKUP(B6,$AZ$3:$BB$83,2,0),INDIRECT("'"&VLOOKUP($B$3,$BD$3:$BE$83,2,0)&"'!$B:$B"),0),MATCH(9003,INDIRECT("'"&VLOOKUP($B$3,$BD$3:$BE$83,2,0)&"'!$B:$B"),0)+1),MATCH(VLOOKUP($B$4,$BF$3:$BR$21,6,0),INDIRECT("'"&VLOOKUP($B$3,$BD$3:$BE$83,2,0)&"'!$5:$5"),0))),0)+IFERROR(INDIRECT("'"&VLOOKUP($B$3,$BD$3:$BE$83,2,0)&"'!"&ADDRESS(IFERROR(MATCH(VLOOKUP(B6,$AZ$3:$BB$83,2,0),INDIRECT("'"&VLOOKUP($B$3,$BD$3:$BE$83,2,0)&"'!$B:$B"),0),MATCH(9003,INDIRECT("'"&VLOOKUP($B$3,$BD$3:$BE$83,2,0)&"'!$B:$B"),0)+1),MATCH(VLOOKUP($B$4,$BF$3:$BR$21,7,0),INDIRECT("'"&VLOOKUP($B$3,$BD$3:$BE$83,2,0)&"'!$5:$5"),0))),0)+IFERROR(INDIRECT("'"&VLOOKUP($B$3,$BD$3:$BE$83,2,0)&"'!"&ADDRESS(IFERROR(MATCH(VLOOKUP(B6,$AZ$3:$BB$83,2,0),INDIRECT("'"&VLOOKUP($B$3,$BD$3:$BE$83,2,0)&"'!$B:$B"),0),MATCH(9003,INDIRECT("'"&VLOOKUP($B$3,$BD$3:$BE$83,2,0)&"'!$B:$B"),0)+1),MATCH(VLOOKUP($B$4,$BF$3:$BR$21,8,0),INDIRECT("'"&VLOOKUP($B$3,$BD$3:$BE$83,2,0)&"'!$5:$5"),0))),0)+IFERROR(INDIRECT("'"&VLOOKUP($B$3,$BD$3:$BE$83,2,0)&"'!"&ADDRESS(IFERROR(MATCH(VLOOKUP(B6,$AZ$3:$BB$83,2,0),INDIRECT("'"&VLOOKUP($B$3,$BD$3:$BE$83,2,0)&"'!$B:$B"),0),MATCH(9003,INDIRECT("'"&VLOOKUP($B$3,$BD$3:$BE$83,2,0)&"'!$B:$B"),0)+1),MATCH(VLOOKUP($B$4,$BF$3:$BR$21,9,0),INDIRECT("'"&VLOOKUP($B$3,$BD$3:$BE$83,2,0)&"'!$5:$5"),0))),0)+IFERROR(INDIRECT("'"&VLOOKUP($B$3,$BD$3:$BE$83,2,0)&"'!"&ADDRESS(IFERROR(MATCH(VLOOKUP(B6,$AZ$3:$BB$83,2,0),INDIRECT("'"&VLOOKUP($B$3,$BD$3:$BE$83,2,0)&"'!$B:$B"),0),MATCH(9003,INDIRECT("'"&VLOOKUP($B$3,$BD$3:$BE$83,2,0)&"'!$B:$B"),0)+1),MATCH(VLOOKUP($B$4,$BF$3:$BR$21,10,0),INDIRECT("'"&VLOOKUP($B$3,$BD$3:$BE$83,2,0)&"'!$5:$5"),0))),0)+IFERROR(INDIRECT("'"&VLOOKUP($B$3,$BD$3:$BE$83,2,0)&"'!"&ADDRESS(IFERROR(MATCH(VLOOKUP(B6,$AZ$3:$BB$83,2,0),INDIRECT("'"&VLOOKUP($B$3,$BD$3:$BE$83,2,0)&"'!$B:$B"),0),MATCH(9003,INDIRECT("'"&VLOOKUP($B$3,$BD$3:$BE$83,2,0)&"'!$B:$B"),0)+1),MATCH(VLOOKUP($B$4,$BF$3:$BR$21,11,0),INDIRECT("'"&VLOOKUP($B$3,$BD$3:$BE$83,2,0)&"'!$5:$5"),0))),0) -> 2.3425154e+09 | E6: Chubb European Group SE Merkezi Fransa Türkiye İstanbul Şubesi | F6: =IFERROR(INDIRECT("'"&VLOOKUP($E$3,$BD$3:$BE$83,2,0)&"'!"&ADDRESS(IFERROR(MATCH(VLOOKUP(E6,$AZ$3:$BB$83,2,0),INDIRECT("'"&VLOOKUP($E$3,$BD$3:$BE$83,2,0)&"'!$B:$B"),0),MATCH(9003,INDIRECT("'"&VLOOKUP($E$3,$BD$3:$BE$83,2,0)&"'!$B:$B"),0)+1),MATCH(VLOOKUP($E$4,$BF$3:$BR$21,2,0),INDIRECT("'"&VLOOKUP($E$3,$BD$3:$BE$83,2,0)&"'!$5:$5"),0))),0)+IFERROR(INDIRECT("'"&VLOOKUP($E$3,$BD$3:$BE$83,2,0)&"'!"&ADDRESS(IFERROR(MATCH(VLOOKUP(E6,$AZ$3:$BB$83,2,0),INDIRECT("'"&VLOOKUP($E$3,$BD$3:$BE$83,2,0)&"'!$B:$B"),0),MATCH(9003,INDIRECT("'"&VLOOKUP($E$3,$BD$3:$BE$83,2,0)&"'!$B:$B"),0)+1),MATCH(VLOOKUP($E$4,$BF$3:$BR$21,3,0),INDIRECT("'"&VLOOKUP($E$3,$BD$3:$BE$83,2,0)&"'!$5:$5"),0))),0)+IFERROR(INDIRECT("'"&VLOOKUP($E$3,$BD$3:$BE$83,2,0)&"'!"&ADDRESS(IFERROR(MATCH(VLOOKUP(E6,$AZ$3:$BB$83,2,0),INDIRECT("'"&VLOOKUP($E$3,$BD$3:$BE$83,2,0)&"'!$B:$B"),0),MATCH(9003,INDIRECT("'"&VLOOKUP($E$3,$BD$3:$BE$83,2,0)&"'!$B:$B"),0)+1),MATCH(VLOOKUP($E$4,$BF$3:$BR$21,4,0),INDIRECT("'"&VLOOKUP($E$3,$BD$3:$BE$83,2,0)&"'!$5:$5"),0))),0)+IFERROR(INDIRECT("'"&VLOOKUP($E$3,$BD$3:$BE$83,2,0)&"'!"&ADDRESS(IFERROR(MATCH(VLOOKUP(E6,$AZ$3:$BB$83,2,0),INDIRECT("'"&VLOOKUP($E$3,$BD$3:$BE$83,2,0)&"'!$B:$B"),0),MATCH(9003,INDIRECT("'"&VLOOKUP($E$3,$BD$3:$BE$83,2,0)&"'!$B:$B"),0)+1),MATCH(VLOOKUP($E$4,$BF$3:$BR$21,5,0),INDIRECT("'"&VLOOKUP($E$3,$BD$3:$BE$83,2,0)&"'!$5:$5"),0))),0)+IFERROR(INDIRECT("'"&VLOOKUP($E$3,$BD$3:$BE$83,2,0)&"'!"&ADDRESS(IFERROR(MATCH(VLOOKUP(E6,$AZ$3:$BB$83,2,0),INDIRECT("'"&VLOOKUP($E$3,$BD$3:$BE$83,2,0)&"'!$B:$B"),0),MATCH(9003,INDIRECT("'"&VLOOKUP($E$3,$BD$3:$BE$83,2,0)&"'!$B:$B"),0)+1),MATCH(VLOOKUP($E$4,$BF$3:$BR$21,6,0),INDIRECT("'"&VLOOKUP($E$3,$BD$3:$BE$83,2,0)&"'!$5:$5"),0))),0)+IFERROR(INDIRECT("'"&VLOOKUP($E$3,$BD$3:$BE$83,2,0)&"'!"&ADDRESS(IFERROR(MATCH(VLOOKUP(E6,$AZ$3:$BB$83,2,0),INDIRECT("'"&VLOOKUP($E$3,$BD$3:$BE$83,2,0)&"'!$B:$B"),0),MATCH(9003,INDIRECT("'"&VLOOKUP($E$3,$BD$3:$BE$83,2,0)&"'!$B:$B"),0)+1),MATCH(VLOOKUP($E$4,$BF$3:$BR$21,7,0),INDIRECT("'"&VLOOKUP($E$3,$BD$3:$BE$83,2,0)&"'!$5:$5"),0))),0)+IFERROR(INDIRECT("'"&VLOOKUP($E$3,$BD$3:$BE$83,2,0)&"'!"&ADDRESS(IFERROR(MATCH(VLOOKUP(E6,$AZ$3:$BB$83,2,0),INDIRECT("'"&VLOOKUP($E$3,$BD$3:$BE$83,2,0)&"'!$B:$B"),0),MATCH(9003,INDIRECT("'"&VLOOKUP($E$3,$BD$3:$BE$83,2,0)&"'!$B:$B"),0)+1),MATCH(VLOOKUP($E$4,$BF$3:$BR$21,8,0),INDIRECT("'"&VLOOKUP($E$3,$BD$3:$BE$83,2,0)&"'!$5:$5"),0))),0)+IFERROR(INDIRECT("'"&VLOOKUP($E$3,$BD$3:$BE$83,2,0)&"'!"&ADDRESS(IFERROR(MATCH(VLOOKUP(E6,$AZ$3:$BB$83,2,0),INDIRECT("'"&VLOOKUP($E$3,$BD$3:$BE$83,2,0)&"'!$B:$B"),0),MATCH(9003,INDIRECT("'"&VLOOKUP($E$3,$BD$3:$BE$83,2,0)&"'!$B:$B"),0)+1),MATCH(VLOOKUP($E$4,$BF$3:$BR$21,9,0),INDIRECT("'"&VLOOKUP($E$3,$BD$3:$BE$83,2,0)&"'!$5:$5"),0))),0)+IFERROR(INDIRECT("'"&VLOOKUP($E$3,$BD$3:$BE$83,2,0)&"'!"&ADDRESS(IFERROR(MATCH(VLOOKUP(E6,$AZ$3:$BB$83,2,0),INDIRECT("'"&VLOOKUP($E$3,$BD$3:$BE$83,2,0)&"'!$B:$B"),0),MATCH(9003,INDIRECT("'"&VLOOKUP($E$3,$BD$3:$BE$83,2,0)&"'!$B:$B"),0)+1),MATCH(VLOOKUP($E$4,$BF$3:$BR$21,10,0),INDIRECT("'"&VLOOKUP($E$3,$BD$3:$BE$83,2,0)&"'!$5:$5"),0))),0)+IFERROR(INDIRECT("'"&VLOOKUP($E$3,$BD$3:$BE$83,2,0)&"'!"&ADDRESS(IFERROR(MATCH(VLOOKUP(E6,$AZ$3:$BB$83,2,0),INDIRECT("'"&VLOOKUP($E$3,$BD$3:$BE$83,2,0)&"'!$B:$B"),0),MATCH(9003,INDIRECT("'"&VLOOKUP($E$3,$BD$3:$BE$83,2,0)&"'!$B:$B"),0)+1),MATCH(VLOOKUP($E$4,$BF$3:$BR$21,11,0),INDIRECT("'"&VLOOKUP($E$3,$BD$3:$BE$83,2,0)&"'!$5:$5"),0))),0) -> 2.3425154e+09 | AZ6: Anadolu Anonim Türk Sigorta Şirketi | BA6: 1005 | BD6: Hastalık-Sağlık | BE6: HASTALIK-SAĞLIK | BF6: Brüt Muallak Tazminatlar | BG6: 611011 | BH6: 631011
B7: Aksigorta AŞ | C7: =IFERROR(INDIRECT("'"&VLOOKUP($B$3,$BD$3:$BE$83,2,0)&"'!"&ADDRESS(IFERROR(MATCH(VLOOKUP(B7,$AZ$3:$BB$83,2,0),INDIRECT("'"&VLOOKUP($B$3,$BD$3:$BE$83,2,0)&"'!$B:$B"),0),MATCH(9003,INDIRECT("'"&VLOOKUP($B$3,$BD$3:$BE$83,2,0)&"'!$B:$B"),0)+1),MATCH(VLOOKUP($B$4,$BF$3:$BR$21,2,0),INDIRECT("'"&VLOOKUP($B$3,$BD$3:$BE$83,2,0)&"'!$5:$5"),0))),0)+IFERROR(INDIRECT("'"&VLOOKUP($B$3,$BD$3:$BE$83,2,0)&"'!"&ADDRESS(IFERROR(MATCH(VLOOKUP(B7,$AZ$3:$BB$83,2,0),INDIRECT("'"&VLOOKUP($B$3,$BD$3:$BE$83,2,0)&"'!$B:$B"),0),MATCH(9003,INDIRECT("'"&VLOOKUP($B$3,$BD$3:$BE$83,2,0)&"'!$B:$B"),0)+1),MATCH(VLOOKUP($B$4,$BF$3:$BR$21,3,0),INDIRECT("'"&VLOOKUP($B$3,$BD$3:$BE$83,2,0)&"'!$5:$5"),0))),0)+IFERROR(INDIRECT("'"&VLOOKUP($B$3,$BD$3:$BE$83,2,0)&"'!"&ADDRESS(IFERROR(MATCH(VLOOKUP(B7,$AZ$3:$BB$83,2,0),INDIRECT("'"&VLOOKUP($B$3,$BD$3:$BE$83,2,0)&"'!$B:$B"),0),MATCH(9003,INDIRECT("'"&VLOOKUP($B$3,$BD$3:$BE$83,2,0)&"'!$B:$B"),0)+1),MATCH(VLOOKUP($B$4,$BF$3:$BR$21,4,0),INDIRECT("'"&VLOOKUP($B$3,$BD$3:$BE$83,2,0)&"'!$5:$5"),0))),0)+IFERROR(INDIRECT("'"&VLOOKUP($B$3,$BD$3:$BE$83,2,0)&"'!"&ADDRESS(IFERROR(MATCH(VLOOKUP(B7,$AZ$3:$BB$83,2,0),INDIRECT("'"&VLOOKUP($B$3,$BD$3:$BE$83,2,0)&"'!$B:$B"),0),MATCH(9003,INDIRECT("'"&VLOOKUP($B$3,$BD$3:$BE$83,2,0)&"'!$B:$B"),0)+1),MATCH(VLOOKUP($B$4,$BF$3:$BR$21,5,0),INDIRECT("'"&VLOOKUP($B$3,$BD$3:$BE$83,2,0)&"'!$5:$5"),0))),0)+IFERROR(INDIRECT("'"&VLOOKUP($B$3,$BD$3:$BE$83,2,0)&"'!"&ADDRESS(IFERROR(MATCH(VLOOKUP(B7,$AZ$3:$BB$83,2,0),INDIRECT("'"&VLOOKUP($B$3,$BD$3:$BE$83,2,0)&"'!$B:$B"),0),MATCH(9003,INDIRECT("'"&VLOOKUP($B$3,$BD$3:$BE$83,2,0)&"'!$B:$B"),0)+1),MATCH(VLOOKUP($B$4,$BF$3:$BR$21,6,0),INDIRECT("'"&VLOOKUP($B$3,$BD$3:$BE$83,2,0)&"'!$5:$5"),0))),0)+IFERROR(INDIRECT("'"&VLOOKUP($B$3,$BD$3:$BE$83,2,0)&"'!"&ADDRESS(IFERROR(MATCH(VLOOKUP(B7,$AZ$3:$BB$83,2,0),INDIRECT("'"&VLOOKUP($B$3,$BD$3:$BE$83,2,0)&"'!$B:$B"),0),MATCH(9003,INDIRECT("'"&VLOOKUP($B$3,$BD$3:$BE$83,2,0)&"'!$B:$B"),0)+1),MATCH(VLOOKUP($B$4,$BF$3:$BR$21,7,0),INDIRECT("'"&VLOOKUP($B$3,$BD$3:$BE$83,2,0)&"'!$5:$5"),0))),0)+IFERROR(INDIRECT("'"&VLOOKUP($B$3,$BD$3:$BE$83,2,0)&"'!"&ADDRESS(IFERROR(MATCH(VLOOKUP(B7,$AZ$3:$BB$83,2,0),INDIRECT("'"&VLOOKUP($B$3,$BD$3:$BE$83,2,0)&"'!$B:$B"),0),MATCH(9003,INDIRECT("'"&VLOOKUP($B$3,$BD$3:$BE$83,2,0)&"'!$B:$B"),0)+1),MATCH(VLOOKUP($B$4,$BF$3:$BR$21,8,0),INDIRECT("'"&VLOOKUP($B$3,$BD$3:$BE$83,2,0)&"'!$5:$5"),0))),0)+IFERROR(INDIRECT("'"&VLOOKUP($B$3,$BD$3:$BE$83,2,0)&"'!"&ADDRESS(IFERROR(MATCH(VLOOKUP(B7,$AZ$3:$BB$83,2,0),INDIRECT("'"&VLOOKUP($B$3,$BD$3:$BE$83,2,0)&"'!$B:$B"),0),MATCH(9003,INDIRECT("'"&VLOOKUP($B$3,$BD$3:$BE$83,2,0)&"'!$B:$B"),0)+1),MATCH(VLOOKUP($B$4,$BF$3:$BR$21,9,0),INDIRECT("'"&VLOOKUP($B$3,$BD$3:$BE$83,2,0)&"'!$5:$5"),0))),0)+IFERROR(INDIRECT("'"&VLOOKUP($B$3,$BD$3:$BE$83,2,0)&"'!"&ADDRESS(IFERROR(MATCH(VLOOKUP(B7,$AZ$3:$BB$83,2,0),INDIRECT("'"&VLOOKUP($B$3,$BD$3:$BE$83,2,0)&"'!$B:$B"),0),MATCH(9003,INDIRECT("'"&VLOOKUP($B$3,$BD$3:$BE$83,2,0)&"'!$B:$B"),0)+1),MATCH(VLOOKUP($B$4,$BF$3:$BR$21,10,0),INDIRECT("'"&VLOOKUP($B$3,$BD$3:$BE$83,2,0)&"'!$5:$5"),0))),0)+IFERROR(INDIRECT("'"&VLOOKUP($B$3,$BD$3:$BE$83,2,0)&"'!"&ADDRESS(IFERROR(MATCH(VLOOKUP(B7,$AZ$3:$BB$83,2,0),INDIRECT("'"&VLOOKUP($B$3,$BD$3:$BE$83,2,0)&"'!$B:$B"),0),MATCH(9003,INDIRECT("'"&VLOOKUP($B$3,$BD$3:$BE$83,2,0)&"'!$B:$B"),0)+1),MATCH(VLOOKUP($B$4,$BF$3:$BR$21,11,0),INDIRECT("'"&VLOOKUP($B$3,$BD$3:$BE$83,2,0)&"'!$5:$5"),0))),0) -> 3.5101022e+10 | E7: Aksigorta AŞ | F7: =IFERROR(INDIRECT("'"&VLOOKUP($E$3,$BD$3:$BE$83,2,0)&"'!"&ADDRESS(IFERROR(MATCH(VLOOKUP(E7,$AZ$3:$BB$83,2,0),INDIRECT("'"&VLOOKUP($E$3,$BD$3:$BE$83,2,0)&"'!$B:$B"),0),MATCH(9003,INDIRECT("'"&VLOOKUP($E$3,$BD$3:$BE$83,2,0)&"'!$B:$B"),0)+1),MATCH(VLOOKUP($E$4,$BF$3:$BR$21,2,0),INDIRECT("'"&VLOOKUP($E$3,$BD$3:$BE$83,2,0)&"'!$5:$5"),0))),0)+IFERROR(INDIRECT("'"&VLOOKUP($E$3,$BD$3:$BE$83,2,0)&"'!"&ADDRESS(IFERROR(MATCH(VLOOKUP(E7,$AZ$3:$BB$83,2,0),INDIRECT("'"&VLOOKUP($E$3,$BD$3:$BE$83,2,0)&"'!$B:$B"),0),MATCH(9003,INDIRECT("'"&VLOOKUP($E$3,$BD$3:$BE$83,2,0)&"'!$B:$B"),0)+1),MATCH(VLOOKUP($E$4,$BF$3:$BR$21,3,0),INDIRECT("'"&VLOOKUP($E$3,$BD$3:$BE$83,2,0)&"'!$5:$5"),0))),0)+IFERROR(INDIRECT("'"&VLOOKUP($E$3,$BD$3:$BE$83,2,0)&"'!"&ADDRESS(IFERROR(MATCH(VLOOKUP(E7,$AZ$3:$BB$83,2,0),INDIRECT("'"&VLOOKUP($E$3,$BD$3:$BE$83,2,0)&"'!$B:$B"),0),MATCH(9003,INDIRECT("'"&VLOOKUP($E$3,$BD$3:$BE$83,2,0)&"'!$B:$B"),0)+1),MATCH(VLOOKUP($E$4,$BF$3:$BR$21,4,0),INDIRECT("'"&VLOOKUP($E$3,$BD$3:$BE$83,2,0)&"'!$5:$5"),0))),0)+IFERROR(INDIRECT("'"&VLOOKUP($E$3,$BD$3:$BE$83,2,0)&"'!"&ADDRESS(IFERROR(MATCH(VLOOKUP(E7,$AZ$3:$BB$83,2,0),INDIRECT("'"&VLOOKUP($E$3,$BD$3:$BE$83,2,0)&"'!$B:$B"),0),MATCH(9003,INDIRECT("'"&VLOOKUP($E$3,$BD$3:$BE$83,2,0)&"'!$B:$B"),0)+1),MATCH(VLOOKUP($E$4,$BF$3:$BR$21,5,0),INDIRECT("'"&VLOOKUP($E$3,$BD$3:$BE$83,2,0)&"'!$5:$5"),0))),0)+IFERROR(INDIRECT("'"&VLOOKUP($E$3,$BD$3:$BE$83,2,0)&"'!"&ADDRESS(IFERROR(MATCH(VLOOKUP(E7,$AZ$3:$BB$83,2,0),INDIRECT("'"&VLOOKUP($E$3,$BD$3:$BE$83,2,0)&"'!$B:$B"),0),MATCH(9003,INDIRECT("'"&VLOOKUP($E$3,$BD$3:$BE$83,2,0)&"'!$B:$B"),0)+1),MATCH(VLOOKUP($E$4,$BF$3:$BR$21,6,0),INDIRECT("'"&VLOOKUP($E$3,$BD$3:$BE$83,2,0)&"'!$5:$5"),0))),0)+IFERROR(INDIRECT("'"&VLOOKUP($E$3,$BD$3:$BE$83,2,0)&"'!"&ADDRESS(IFERROR(MATCH(VLOOKUP(E7,$AZ$3:$BB$83,2,0),INDIRECT("'"&VLOOKUP($E$3,$BD$3:$BE$83,2,0)&"'!$B:$B"),0),MATCH(9003,INDIRECT("'"&VLOOKUP($E$3,$BD$3:$BE$83,2,0)&"'!$B:$B"),0)+1),MATCH(VLOOKUP($E$4,$BF$3:$BR$21,7,0),INDIRECT("'"&VLOOKUP($E$3,$BD$3:$BE$83,2,0)&"'!$5:$5"),0))),0)+IFERROR(INDIRECT("'"&VLOOKUP($E$3,$BD$3:$BE$83,2,0)&"'!"&ADDRESS(IFERROR(MATCH(VLOOKUP(E7,$AZ$3:$BB$83,2,0),INDIRECT("'"&VLOOKUP($E$3,$BD$3:$BE$83,2,0)&"'!$B:$B"),0),MATCH(9003,INDIRECT("'"&VLOOKUP($E$3,$BD$3:$BE$83,2,0)&"'!$B:$B"),0)+1),MATCH(VLOOKUP($E$4,$BF$3:$BR$21,8,0),INDIRECT("'"&VLOOKUP($E$3,$BD$3:$BE$83,2,0)&"'!$5:$5"),0))),0)+IFERROR(INDIRECT("'"&VLOOKUP($E$3,$BD$3:$BE$83,2,0)&"'!"&ADDRESS(IFERROR(MATCH(VLOOKUP(E7,$AZ$3:$BB$83,2,0),INDIRECT("'"&VLOOKUP($E$3,$BD$3:$BE$83,2,0)&"'!$B:$B"),0),MATCH(9003,INDIRECT("'"&VLOOKUP($E$3,$BD$3:$BE$83,2,0)&"'!$B:$B"),0)+1),MATCH(VLOOKUP($E$4,$BF$3:$BR$21,9,0),INDIRECT("'"&VLOOKUP($E$3,$BD$3:$BE$83,2,0)&"'!$5:$5"),0))),0)+IFERROR(INDIRECT("'"&VLOOKUP($E$3,$BD$3:$BE$83,2,0)&"'!"&ADDRESS(IFERROR(MATCH(VLOOKUP(E7,$AZ$3:$BB$83,2,0),INDIRECT("'"&VLOOKUP($E$3,$BD$3:$BE$83,2,0)&"'!$B:$B"),0),MATCH(9003,INDIRECT("'"&VLOOKUP($E$3,$BD$3:$BE$83,2,0)&"'!$B:$B"),0)+1),MATCH(VLOOKUP($E$4,$BF$3:$BR$21,10,0),INDIRECT("'"&VLOOKUP($E$3,$BD$3:$BE$83,2,0)&"'!$5:$5"),0))),0)+IFERROR(INDIRECT("'"&VLOOKUP($E$3,$BD$3:$BE$83,2,0)&"'!"&ADDRESS(IFERROR(MATCH(VLOOKUP(E7,$AZ$3:$BB$83,2,0),INDIRECT("'"&VLOOKUP($E$3,$BD$3:$BE$83,2,0)&"'!$B:$B"),0),MATCH(9003,INDIRECT("'"&VLOOKUP($E$3,$BD$3:$BE$83,2,0)&"'!$B:$B"),0)+1),MATCH(VLOOKUP($E$4,$BF$3:$BR$21,11,0),INDIRECT("'"&VLOOKUP($E$3,$BD$3:$BE$83,2,0)&"'!$5:$5"),0))),0) -> 3.5101022e+10 | AZ7: Ankara Anonim Türk Sigorta Şirketi | BA7: 1006 | BD7: Kara Araçları | BE7: KARA ARAÇLARI | BF7: Brüt Raporlanmayan Tazminatlar | BG7: 61101102 | BH7: 63101102
B8: Allianz Sigorta AŞ | C8: =IFERROR(INDIRECT("'"&VLOOKUP($B$3,$BD$3:$BE$83,2,0)&"'!"&ADDRESS(IFERROR(MATCH(VLOOKUP(B8,$AZ$3:$BB$83,2,0),INDIRECT("'"&VLOOKUP($B$3,$BD$3:$BE$83,2,0)&"'!$B:$B"),0),MATCH(9003,INDIRECT("'"&VLOOKUP($B$3,$BD$3:$BE$83,2,0)&"'!$B:$B"),0)+1),MATCH(VLOOKUP($B$4,$BF$3:$BR$21,2,0),INDIRECT("'"&VLOOKUP($B$3,$BD$3:$BE$83,2,0)&"'!$5:$5"),0))),0)+IFERROR(INDIRECT("'"&VLOOKUP($B$3,$BD$3:$BE$83,2,0)&"'!"&ADDRESS(IFERROR(MATCH(VLOOKUP(B8,$AZ$3:$BB$83,2,0),INDIRECT("'"&VLOOKUP($B$3,$BD$3:$BE$83,2,0)&"'!$B:$B"),0),MATCH(9003,INDIRECT("'"&VLOOKUP($B$3,$BD$3:$BE$83,2,0)&"'!$B:$B"),0)+1),MATCH(VLOOKUP($B$4,$BF$3:$BR$21,3,0),INDIRECT("'"&VLOOKUP($B$3,$BD$3:$BE$83,2,0)&"'!$5:$5"),0))),0)+IFERROR(INDIRECT("'"&VLOOKUP($B$3,$BD$3:$BE$83,2,0)&"'!"&ADDRESS(IFERROR(MATCH(VLOOKUP(B8,$AZ$3:$BB$83,2,0),INDIRECT("'"&VLOOKUP($B$3,$BD$3:$BE$83,2,0)&"'!$B:$B"),0),MATCH(9003,INDIRECT("'"&VLOOKUP($B$3,$BD$3:$BE$83,2,0)&"'!$B:$B"),0)+1),MATCH(VLOOKUP($B$4,$BF$3:$BR$21,4,0),INDIRECT("'"&VLOOKUP($B$3,$BD$3:$BE$83,2,0)&"'!$5:$5"),0))),0)+IFERROR(INDIRECT("'"&VLOOKUP($B$3,$BD$3:$BE$83,2,0)&"'!"&ADDRESS(IFERROR(MATCH(VLOOKUP(B8,$AZ$3:$BB$83,2,0),INDIRECT("'"&VLOOKUP($B$3,$BD$3:$BE$83,2,0)&"'!$B:$B"),0),MATCH(9003,INDIRECT("'"&VLOOKUP($B$3,$BD$3:$BE$83,2,0)&"'!$B:$B"),0)+1),MATCH(VLOOKUP($B$4,$BF$3:$BR$21,5,0),INDIRECT("'"&VLOOKUP($B$3,$BD$3:$BE$83,2,0)&"'!$5:$5"),0))),0)+IFERROR(INDIRECT("'"&VLOOKUP($B$3,$BD$3:$BE$83,2,0)&"'!"&ADDRESS(IFERROR(MATCH(VLOOKUP(B8,$AZ$3:$BB$83,2,0),INDIRECT("'"&VLOOKUP($B$3,$BD$3:$BE$83,2,0)&"'!$B:$B"),0),MATCH(9003,INDIRECT("'"&VLOOKUP($B$3,$BD$3:$BE$83,2,0)&"'!$B:$B"),0)+1),MATCH(VLOOKUP($B$4,$BF$3:$BR$21,6,0),INDIRECT("'"&VLOOKUP($B$3,$BD$3:$BE$83,2,0)&"'!$5:$5"),0))),0)+IFERROR(INDIRECT("'"&VLOOKUP($B$3,$BD$3:$BE$83,2,0)&"'!"&ADDRESS(IFERROR(MATCH(VLOOKUP(B8,$AZ$3:$BB$83,2,0),INDIRECT("'"&VLOOKUP($B$3,$BD$3:$BE$83,2,0)&"'!$B:$B"),0),MATCH(9003,INDIRECT("'"&VLOOKUP($B$3,$BD$3:$BE$83,2,0)&"'!$B:$B"),0)+1),MATCH(VLOOKUP($B$4,$BF$3:$BR$21,7,0),INDIRECT("'"&VLOOKUP($B$3,$BD$3:$BE$83,2,0)&"'!$5:$5"),0))),0)+IFERROR(INDIRECT("'"&VLOOKUP($B$3,$BD$3:$BE$83,2,0)&"'!"&ADDRESS(IFERROR(MATCH(VLOOKUP(B8,$AZ$3:$BB$83,2,0),INDIRECT("'"&VLOOKUP($B$3,$BD$3:$BE$83,2,0)&"'!$B:$B"),0),MATCH(9003,INDIRECT("'"&VLOOKUP($B$3,$BD$3:$BE$83,2,0)&"'!$B:$B"),0)+1),MATCH(VLOOKUP($B$4,$BF$3:$BR$21,8,0),INDIRECT("'"&VLOOKUP($B$3,$BD$3:$BE$83,2,0)&"'!$5:$5"),0))),0)+IFERROR(INDIRECT("'"&VLOOKUP($B$3,$BD$3:$BE$83,2,0)&"'!"&ADDRESS(IFERROR(MATCH(VLOOKUP(B8,$AZ$3:$BB$83,2,0),INDIRECT("'"&VLOOKUP($B$3,$BD$3:$BE$83,2,0)&"'!$B:$B"),0),MATCH(9003,INDIRECT("'"&VLOOKUP($B$3,$BD$3:$BE$83,2,0)&"'!$B:$B"),0)+1),MATCH(VLOOKUP($B$4,$BF$3:$BR$21,9,0),INDIRECT("'"&VLOOKUP($B$3,$BD$3:$BE$83,2,0)&"'!$5:$5"),0))),0)+IFERROR(INDIRECT("'"&VLOOKUP($B$3,$BD$3:$BE$83,2,0)&"'!"&ADDRESS(IFERROR(MATCH(VLOOKUP(B8,$AZ$3:$BB$83,2,0),INDIRECT("'"&VLOOKUP($B$3,$BD$3:$BE$83,2,0)&"'!$B:$B"),0),MATCH(9003,INDIRECT("'"&VLOOKUP($B$3,$BD$3:$BE$83,2,0)&"'!$B:$B"),0)+1),MATCH(VLOOKUP($B$4,$BF$3:$BR$21,10,0),INDIRECT("'"&VLOOKUP($B$3,$BD$3:$BE$83,2,0)&"'!$5:$5"),0))),0)+IFERROR(INDIRECT("'"&VLOOKUP($B$3,$BD$3:$BE$83,2,0)&"'!"&ADDRESS(IFERROR(MATCH(VLOOKUP(B8,$AZ$3:$BB$83,2,0),INDIRECT("'"&VLOOKUP($B$3,$BD$3:$BE$83,2,0)&"'!$B:$B"),0),MATCH(9003,INDIRECT("'"&VLOOKUP($B$3,$BD$3:$BE$83,2,0)&"'!$B:$B"),0)+1),MATCH(VLOOKUP($B$4,$BF$3:$BR$21,11,0),INDIRECT("'"&VLOOKUP($B$3,$BD$3:$BE$83,2,0)&"'!$5:$5"),0))),0) -> 1.1538452e+11 | E8: Allianz Sigorta AŞ | F8: =IFERROR(INDIRECT("'"&VLOOKUP($E$3,$BD$3:$BE$83,2,0)&"'!"&ADDRESS(IFERROR(MATCH(VLOOKUP(E8,$AZ$3:$BB$83,2,0),INDIRECT("'"&VLOOKUP($E$3,$BD$3:$BE$83,2,0)&"'!$B:$B"),0),MATCH(9003,INDIRECT("'"&VLOOKUP($E$3,$BD$3:$BE$83,2,0)&"'!$B:$B"),0)+1),MATCH(VLOOKUP($E$4,$BF$3:$BR$21,2,0),INDIRECT("'"&VLOOKUP($E$3,$BD$3:$BE$83,2,0)&"'!$5:$5"),0))),0)+IFERROR(INDIRECT("'"&VLOOKUP($E$3,$BD$3:$BE$83,2,0)&"'!"&ADDRESS(IFERROR(MATCH(VLOOKUP(E8,$AZ$3:$BB$83,2,0),INDIRECT("'"&VLOOKUP($E$3,$BD$3:$BE$83,2,0)&"'!$B:$B"),0),MATCH(9003,INDIRECT("'"&VLOOKUP($E$3,$BD$3:$BE$83,2,0)&"'!$B:$B"),0)+1),MATCH(VLOOKUP($E$4,$BF$3:$BR$21,3,0),INDIRECT("'"&VLOOKUP($E$3,$BD$3:$BE$83,2,0)&"'!$5:$5"),0))),0)+IFERROR(INDIRECT("'"&VLOOKUP($E$3,$BD$3:$BE$83,2,0)&"'!"&ADDRESS(IFERROR(MATCH(VLOOKUP(E8,$AZ$3:$BB$83,2,0),INDIRECT("'"&VLOOKUP($E$3,$BD$3:$BE$83,2,0)&"'!$B:$B"),0),MATCH(9003,INDIRECT("'"&VLOOKUP($E$3,$BD$3:$BE$83,2,0)&"'!$B:$B"),0)+1),MATCH(VLOOKUP($E$4,$BF$3:$BR$21,4,0),INDIRECT("'"&VLOOKUP($E$3,$BD$3:$BE$83,2,0)&"'!$5:$5"),0))),0)+IFERROR(INDIRECT("'"&VLOOKUP($E$3,$BD$3:$BE$83,2,0)&"'!"&ADDRESS(IFERROR(MATCH(VLOOKUP(E8,$AZ$3:$BB$83,2,0),INDIRECT("'"&VLOOKUP($E$3,$BD$3:$BE$83,2,0)&"'!$B:$B"),0),MATCH(9003,INDIRECT("'"&VLOOKUP($E$3,$BD$3:$BE$83,2,0)&"'!$B:$B"),0)+1),MATCH(VLOOKUP($E$4,$BF$3:$BR$21,5,0),INDIRECT("'"&VLOOKUP($E$3,$BD$3:$BE$83,2,0)&"'!$5:$5"),0))),0)+IFERROR(INDIRECT("'"&VLOOKUP($E$3,$BD$3:$BE$83,2,0)&"'!"&ADDRESS(IFERROR(MATCH(VLOOKUP(E8,$AZ$3:$BB$83,2,0),INDIRECT("'"&VLOOKUP($E$3,$BD$3:$BE$83,2,0)&"'!$B:$B"),0),MATCH(9003,INDIRECT("'"&VLOOKUP($E$3,$BD$3:$BE$83,2,0)&"'!$B:$B"),0)+1),MATCH(VLOOKUP($E$4,$BF$3:$BR$21,6,0),INDIRECT("'"&VLOOKUP($E$3,$BD$3:$BE$83,2,0)&"'!$5:$5"),0))),0)+IFERROR(INDIRECT("'"&VLOOKUP($E$3,$BD$3:$BE$83,2,0)&"'!"&ADDRESS(IFERROR(MATCH(VLOOKUP(E8,$AZ$3:$BB$83,2,0),INDIRECT("'"&VLOOKUP($E$3,$BD$3:$BE$83,2,0)&"'!$B:$B"),0),MATCH(9003,INDIRECT("'"&VLOOKUP($E$3,$BD$3:$BE$83,2,0)&"'!$B:$B"),0)+1),MATCH(VLOOKUP($E$4,$BF$3:$BR$21,7,0),INDIRECT("'"&VLOOKUP($E$3,$BD$3:$BE$83,2,0)&"'!$5:$5"),0))),0)+IFERROR(INDIRECT("'"&VLOOKUP($E$3,$BD$3:$BE$83,2,0)&"'!"&ADDRESS(IFERROR(MATCH(VLOOKUP(E8,$AZ$3:$BB$83,2,0),INDIRECT("'"&VLOOKUP($E$3,$BD$3:$BE$83,2,0)&"'!$B:$B"),0),MATCH(9003,INDIRECT("'"&VLOOKUP($E$3,$BD$3:$BE$83,2,0)&"'!$B:$B"),0)+1),MATCH(VLOOKUP($E$4,$BF$3:$BR$21,8,0),INDIRECT("'"&VLOOKUP($E$3,$BD$3:$BE$83,2,0)&"'!$5:$5"),0))),0)+IFERROR(INDIRECT("'"&VLOOKUP($E$3,$BD$3:$BE$83,2,0)&"'!"&ADDRESS(IFERROR(MATCH(VLOOKUP(E8,$AZ$3:$BB$83,2,0),INDIRECT("'"&VLOOKUP($E$3,$BD$3:$BE$83,2,0)&"'!$B:$B"),0),MATCH(9003,INDIRECT("'"&VLOOKUP($E$3,$BD$3:$BE$83,2,0)&"'!$B:$B"),0)+1),MATCH(VLOOKUP($E$4,$BF$3:$BR$21,9,0),INDIRECT("'"&VLOOKUP($E$3,$BD$3:$BE$83,2,0)&"'!$5:$5"),0))),0)+IFERROR(INDIRECT("'"&VLOOKUP($E$3,$BD$3:$BE$83,2,0)&"'!"&ADDRESS(IFERROR(MATCH(VLOOKUP(E8,$AZ$3:$BB$83,2,0),INDIRECT("'"&VLOOKUP($E$3,$BD$3:$BE$83,2,0)&"'!$B:$B"),0),MATCH(9003,INDIRECT("'"&VLOOKUP($E$3,$BD$3:$BE$83,2,0)&"'!$B:$B"),0)+1),MATCH(VLOOKUP($E$4,$BF$3:$BR$21,10,0),INDIRECT("'"&VLOOKUP($E$3,$BD$3:$BE$83,2,0)&"'!$5:$5"),0))),0)+IFERROR(INDIRECT("'"&VLOOKUP($E$3,$BD$3:$BE$83,2,0)&"'!"&ADDRESS(IFERROR(MATCH(VLOOKUP(E8,$AZ$3:$BB$83,2,0),INDIRECT("'"&VLOOKUP($E$3,$BD$3:$BE$83,2,0)&"'!$B:$B"),0),MATCH(9003,INDIRECT("'"&VLOOKUP($E$3,$BD$3:$BE$83,2,0)&"'!$B:$B"),0)+1),MATCH(VLOOKUP($E$4,$BF$3:$BR$21,11,0),INDIRECT("'"&VLOOKUP($E$3,$BD$3:$BE$83,2,0)&"'!$5:$5"),0))),0) -> 1.1538452e+11 | AZ8: Atradius Crédito y Caución S.A. de Seguros y Reaseguros, İstanbul Şubesi | BA8: 1007 | BD8: Kasko | BE8: KASKO | BF8: Brüt Gerçekleşen Hasarlar | BG8: 61001 | BH8: 63001 | BI8: 61101 | BJ8: 63101
B9: Anadolu Anonim Türk Sigorta Şirketi | C9: =IFERROR(INDIRECT("'"&VLOOKUP($B$3,$BD$3:$BE$83,2,0)&"'!"&ADDRESS(IFERROR(MATCH(VLOOKUP(B9,$AZ$3:$BB$83,2,0),INDIRECT("'"&VLOOKUP($B$3,$BD$3:$BE$83,2,0)&"'!$B:$B"),0),MATCH(9003,INDIRECT("'"&VLOOKUP($B$3,$BD$3:$BE$83,2,0)&"'!$B:$B"),0)+1),MATCH(VLOOKUP($B$4,$BF$3:$BR$21,2,0),INDIRECT("'"&VLOOKUP($B$3,$BD$3:$BE$83,2,0)&"'!$5:$5"),0))),0)+IFERROR(INDIRECT("'"&VLOOKUP($B$3,$BD$3:$BE$83,2,0)&"'!"&ADDRESS(IFERROR(MATCH(VLOOKUP(B9,$AZ$3:$BB$83,2,0),INDIRECT("'"&VLOOKUP($B$3,$BD$3:$BE$83,2,0)&"'!$B:$B"),0),MATCH(9003,INDIRECT("'"&VLOOKUP($B$3,$BD$3:$BE$83,2,0)&"'!$B:$B"),0)+1),MATCH(VLOOKUP($B$4,$BF$3:$BR$21,3,0),INDIRECT("'"&VLOOKUP($B$3,$BD$3:$BE$83,2,0)&"'!$5:$5"),0))),0)+IFERROR(INDIRECT("'"&VLOOKUP($B$3,$BD$3:$BE$83,2,0)&"'!"&ADDRESS(IFERROR(MATCH(VLOOKUP(B9,$AZ$3:$BB$83,2,0),INDIRECT("'"&VLOOKUP($B$3,$BD$3:$BE$83,2,0)&"'!$B:$B"),0),MATCH(9003,INDIRECT("'"&VLOOKUP($B$3,$BD$3:$BE$83,2,0)&"'!$B:$B"),0)+1),MATCH(VLOOKUP($B$4,$BF$3:$BR$21,4,0),INDIRECT("'"&VLOOKUP($B$3,$BD$3:$BE$83,2,0)&"'!$5:$5"),0))),0)+IFERROR(INDIRECT("'"&VLOOKUP($B$3,$BD$3:$BE$83,2,0)&"'!"&ADDRESS(IFERROR(MATCH(VLOOKUP(B9,$AZ$3:$BB$83,2,0),INDIRECT("'"&VLOOKUP($B$3,$BD$3:$BE$83,2,0)&"'!$B:$B"),0),MATCH(9003,INDIRECT("'"&VLOOKUP($B$3,$BD$3:$BE$83,2,0)&"'!$B:$B"),0)+1),MATCH(VLOOKUP($B$4,$BF$3:$BR$21,5,0),INDIRECT("'"&VLOOKUP($B$3,$BD$3:$BE$83,2,0)&"'!$5:$5"),0))),0)+IFERROR(INDIRECT("'"&VLOOKUP($B$3,$BD$3:$BE$83,2,0)&"'!"&ADDRESS(IFERROR(MATCH(VLOOKUP(B9,$AZ$3:$BB$83,2,0),INDIRECT("'"&VLOOKUP($B$3,$BD$3:$BE$83,2,0)&"'!$B:$B"),0),MATCH(9003,INDIRECT("'"&VLOOKUP($B$3,$BD$3:$BE$83,2,0)&"'!$B:$B"),0)+1),MATCH(VLOOKUP($B$4,$BF$3:$BR$21,6,0),INDIRECT("'"&VLOOKUP($B$3,$BD$3:$BE$83,2,0)&"'!$5:$5"),0))),0)+IFERROR(INDIRECT("'"&VLOOKUP($B$3,$BD$3:$BE$83,2,0)&"'!"&ADDRESS(IFERROR(MATCH(VLOOKUP(B9,$AZ$3:$BB$83,2,0),INDIRECT("'"&VLOOKUP($B$3,$BD$3:$BE$83,2,0)&"'!$B:$B"),0),MATCH(9003,INDIRECT("'"&VLOOKUP($B$3,$BD$3:$BE$83,2,0)&"'!$B:$B"),0)+1),MATCH(VLOOKUP($B$4,$BF$3:$BR$21,7,0),INDIRECT("'"&VLOOKUP($B$3,$BD$3:$BE$83,2,0)&"'!$5:$5"),0))),0)+IFERROR(INDIRECT("'"&VLOOKUP($B$3,$BD$3:$BE$83,2,0)&"'!"&ADDRESS(IFERROR(MATCH(VLOOKUP(B9,$AZ$3:$BB$83,2,0),INDIRECT("'"&VLOOKUP($B$3,$BD$3:$BE$83,2,0)&"'!$B:$B"),0),MATCH(9003,INDIRECT("'"&VLOOKUP($B$3,$BD$3:$BE$83,2,0)&"'!$B:$B"),0)+1),MATCH(VLOOKUP($B$4,$BF$3:$BR$21,8,0),INDIRECT("'"&VLOOKUP($B$3,$BD$3:$BE$83,2,0)&"'!$5:$5"),0))),0)+IFERROR(INDIRECT("'"&VLOOKUP($B$3,$BD$3:$BE$83,2,0)&"'!"&ADDRESS(IFERROR(MATCH(VLOOKUP(B9,$AZ$3:$BB$83,2,0),INDIRECT("'"&VLOOKUP($B$3,$BD$3:$BE$83,2,0)&"'!$B:$B"),0),MATCH(9003,INDIRECT("'"&VLOOKUP($B$3,$BD$3:$BE$83,2,0)&"'!$B:$B"),0)+1),MATCH(VLOOKUP($B$4,$BF$3:$BR$21,9,0),INDIRECT("'"&VLOOKUP($B$3,$BD$3:$BE$83,2,0)&"'!$5:$5"),0))),0)+IFERROR(INDIRECT("'"&VLOOKUP($B$3,$BD$3:$BE$83,2,0)&"'!"&ADDRESS(IFERROR(MATCH(VLOOKUP(B9,$AZ$3:$BB$83,2,0),INDIRECT("'"&VLOOKUP($B$3,$BD$3:$BE$83,2,0)&"'!$B:$B"),0),MATCH(9003,INDIRECT("'"&VLOOKUP($B$3,$BD$3:$BE$83,2,0)&"'!$B:$B"),0)+1),MATCH(VLOOKUP($B$4,$BF$3:$BR$21,10,0),INDIRECT("'"&VLOOKUP($B$3,$BD$3:$BE$83,2,0)&"'!$5:$5"),0))),0)+IFERROR(INDIRECT("'"&VLOOKUP($B$3,$BD$3:$BE$83,2,0)&"'!"&ADDRESS(IFERROR(MATCH(VLOOKUP(B9,$AZ$3:$BB$83,2,0),INDIRECT("'"&VLOOKUP($B$3,$BD$3:$BE$83,2,0)&"'!$B:$B"),0),MATCH(9003,INDIRECT("'"&VLOOKUP($B$3,$BD$3:$BE$83,2,0)&"'!$B:$B"),0)+1),MATCH(VLOOKUP($B$4,$BF$3:$BR$21,11,0),INDIRECT("'"&VLOOKUP($B$3,$BD$3:$BE$83,2,0)&"'!$5:$5"),0))),0) -> 9.7883127e+10 | E9: Anadolu Anonim Türk Sigorta Şirketi | F9: =IFERROR(INDIRECT("'"&VLOOKUP($E$3,$BD$3:$BE$83,2,0)&"'!"&ADDRESS(IFERROR(MATCH(VLOOKUP(E9,$AZ$3:$BB$83,2,0),INDIRECT("'"&VLOOKUP($E$3,$BD$3:$BE$83,2,0)&"'!$B:$B"),0),MATCH(9003,INDIRECT("'"&VLOOKUP($E$3,$BD$3:$BE$83,2,0)&"'!$B:$B"),0)+1),MATCH(VLOOKUP($E$4,$BF$3:$BR$21,2,0),INDIRECT("'"&VLOOKUP($E$3,$BD$3:$BE$83,2,0)&"'!$5:$5"),0))),0)+IFERROR(INDIRECT("'"&VLOOKUP($E$3,$BD$3:$BE$83,2,0)&"'!"&ADDRESS(IFERROR(MATCH(VLOOKUP(E9,$AZ$3:$BB$83,2,0),INDIRECT("'"&VLOOKUP($E$3,$BD$3:$BE$83,2,0)&"'!$B:$B"),0),MATCH(9003,INDIRECT("'"&VLOOKUP($E$3,$BD$3:$BE$83,2,0)&"'!$B:$B"),0)+1),MATCH(VLOOKUP($E$4,$BF$3:$BR$21,3,0),INDIRECT("'"&VLOOKUP($E$3,$BD$3:$BE$83,2,0)&"'!$5:$5"),0))),0)+IFERROR(INDIRECT("'"&VLOOKUP($E$3,$BD$3:$BE$83,2,0)&"'!"&ADDRESS(IFERROR(MATCH(VLOOKUP(E9,$AZ$3:$BB$83,2,0),INDIRECT("'"&VLOOKUP($E$3,$BD$3:$BE$83,2,0)&"'!$B:$B"),0),MATCH(9003,INDIRECT("'"&VLOOKUP($E$3,$BD$3:$BE$83,2,0)&"'!$B:$B"),0)+1),MATCH(VLOOKUP($E$4,$BF$3:$BR$21,4,0),INDIRECT("'"&VLOOKUP($E$3,$BD$3:$BE$83,2,0)&"'!$5:$5"),0))),0)+IFERROR(INDIRECT("'"&VLOOKUP($E$3,$BD$3:$BE$83,2,0)&"'!"&ADDRESS(IFERROR(MATCH(VLOOKUP(E9,$AZ$3:$BB$83,2,0),INDIRECT("'"&VLOOKUP($E$3,$BD$3:$BE$83,2,0)&"'!$B:$B"),0),MATCH(9003,INDIRECT("'"&VLOOKUP($E$3,$BD$3:$BE$83,2,0)&"'!$B:$B"),0)+1),MATCH(VLOOKUP($E$4,$BF$3:$BR$21,5,0),INDIRECT("'"&VLOOKUP($E$3,$BD$3:$BE$83,2,0)&"'!$5:$5"),0))),0)+IFERROR(INDIRECT("'"&VLOOKUP($E$3,$BD$3:$BE$83,2,0)&"'!"&ADDRESS(IFERROR(MATCH(VLOOKUP(E9,$AZ$3:$BB$83,2,0),INDIRECT("'"&VLOOKUP($E$3,$BD$3:$BE$83,2,0)&"'!$B:$B"),0),MATCH(9003,INDIRECT("'"&VLOOKUP($E$3,$BD$3:$BE$83,2,0)&"'!$B:$B"),0)+1),MATCH(VLOOKUP($E$4,$BF$3:$BR$21,6,0),INDIRECT("'"&VLOOKUP($E$3,$BD$3:$BE$83,2,0)&"'!$5:$5"),0))),0)+IFERROR(INDIRECT("'"&VLOOKUP($E$3,$BD$3:$BE$83,2,0)&"'!"&ADDRESS(IFERROR(MATCH(VLOOKUP(E9,$AZ$3:$BB$83,2,0),INDIRECT("'"&VLOOKUP($E$3,$BD$3:$BE$83,2,0)&"'!$B:$B"),0),MATCH(9003,INDIRECT("'"&VLOOKUP($E$3,$BD$3:$BE$83,2,0)&"'!$B:$B"),0)+1),MATCH(VLOOKUP($E$4,$BF$3:$BR$21,7,0),INDIRECT("'"&VLOOKUP($E$3,$BD$3:$BE$83,2,0)&"'!$5:$5"),0))),0)+IFERROR(INDIRECT("'"&VLOOKUP($E$3,$BD$3:$BE$83,2,0)&"'!"&ADDRESS(IFERROR(MATCH(VLOOKUP(E9,$AZ$3:$BB$83,2,0),INDIRECT("'"&VLOOKUP($E$3,$BD$3:$BE$83,2,0)&"'!$B:$B"),0),MATCH(9003,INDIRECT("'"&VLOOKUP($E$3,$BD$3:$BE$83,2,0)&"'!$B:$B"),0)+1),MATCH(VLOOKUP($E$4,$BF$3:$BR$21,8,0),INDIRECT("'"&VLOOKUP($E$3,$BD$3:$BE$83,2,0)&"'!$5:$5"),0))),0)+IFERROR(INDIRECT("'"&VLOOKUP($E$3,$BD$3:$BE$83,2,0)&"'!"&ADDRESS(IFERROR(MATCH(VLOOKUP(E9,$AZ$3:$BB$83,2,0),INDIRECT("'"&VLOOKUP($E$3,$BD$3:$BE$83,2,0)&"'!$B:$B"),0),MATCH(9003,INDIRECT("'"&VLOOKUP($E$3,$BD$3:$BE$83,2,0)&"'!$B:$B"),0)+1),MATCH(VLOOKUP($E$4,$BF$3:$BR$21,9,0),INDIRECT("'"&VLOOKUP($E$3,$BD$3:$BE$83,2,0)&"'!$5:$5"),0))),0)+IFERROR(INDIRECT("'"&VLOOKUP($E$3,$BD$3:$BE$83,2,0)&"'!"&ADDRESS(IFERROR(MATCH(VLOOKUP(E9,$AZ$3:$BB$83,2,0),INDIRECT("'"&VLOOKUP($E$3,$BD$3:$BE$83,2,0)&"'!$B:$B"),0),MATCH(9003,INDIRECT("'"&VLOOKUP($E$3,$BD$3:$BE$83,2,0)&"'!$B:$B"),0)+1),MATCH(VLOOKUP($E$4,$BF$3:$BR$21,10,0),INDIRECT("'"&VLOOKUP($E$3,$BD$3:$BE$83,2,0)&"'!$5:$5"),0))),0)+IFERROR(INDIRECT("'"&VLOOKUP($E$3,$BD$3:$BE$83,2,0)&"'!"&ADDRESS(IFERROR(MATCH(VLOOKUP(E9,$AZ$3:$BB$83,2,0),INDIRECT("'"&VLOOKUP($E$3,$BD$3:$BE$83,2,0)&"'!$B:$B"),0),MATCH(9003,INDIRECT("'"&VLOOKUP($E$3,$BD$3:$BE$83,2,0)&"'!$B:$B"),0)+1),MATCH(VLOOKUP($E$4,$BF$3:$BR$21,11,0),INDIRECT("'"&VLOOKUP($E$3,$BD$3:$BE$83,2,0)&"'!$5:$5"),0))),0) -> 9.7883127e+10 | AZ9: Unico Sigorta AŞ | BA9: 1008 | BD9: Raylı Araçlar | BE9: RAYLI ARAÇLAR | BF9: Net Yazılan Primler | BG9: 600 | BH9: 620
B10: Ankara Anonim Türk Sigorta Şirketi | C10: =IFERROR(INDIRECT("'"&VLOOKUP($B$3,$BD$3:$BE$83,2,0)&"'!"&ADDRESS(IFERROR(MATCH(VLOOKUP(B10,$AZ$3:$BB$83,2,0),INDIRECT("'"&VLOOKUP($B$3,$BD$3:$BE$83,2,0)&"'!$B:$B"),0),MATCH(9003,INDIRECT("'"&VLOOKUP($B$3,$BD$3:$BE$83,2,0)&"'!$B:$B"),0)+1),MATCH(VLOOKUP($B$4,$BF$3:$BR$21,2,0),INDIRECT("'"&VLOOKUP($B$3,$BD$3:$BE$83,2,0)&"'!$5:$5"),0))),0)+IFERROR(INDIRECT("'"&VLOOKUP($B$3,$BD$3:$BE$83,2,0)&"'!"&ADDRESS(IFERROR(MATCH(VLOOKUP(B10,$AZ$3:$BB$83,2,0),INDIRECT("'"&VLOOKUP($B$3,$BD$3:$BE$83,2,0)&"'!$B:$B"),0),MATCH(9003,INDIRECT("'"&VLOOKUP($B$3,$BD$3:$BE$83,2,0)&"'!$B:$B"),0)+1),MATCH(VLOOKUP($B$4,$BF$3:$BR$21,3,0),INDIRECT("'"&VLOOKUP($B$3,$BD$3:$BE$83,2,0)&"'!$5:$5"),0))),0)+IFERROR(INDIRECT("'"&VLOOKUP($B$3,$BD$3:$BE$83,2,0)&"'!"&ADDRESS(IFERROR(MATCH(VLOOKUP(B10,$AZ$3:$BB$83,2,0),INDIRECT("'"&VLOOKUP($B$3,$BD$3:$BE$83,2,0)&"'!$B:$B"),0),MATCH(9003,INDIRECT("'"&VLOOKUP($B$3,$BD$3:$BE$83,2,0)&"'!$B:$B"),0)+1),MATCH(VLOOKUP($B$4,$BF$3:$BR$21,4,0),INDIRECT("'"&VLOOKUP($B$3,$BD$3:$BE$83,2,0)&"'!$5:$5"),0))),0)+IFERROR(INDIRECT("'"&VLOOKUP($B$3,$BD$3:$BE$83,2,0)&"'!"&ADDRESS(IFERROR(MATCH(VLOOKUP(B10,$AZ$3:$BB$83,2,0),INDIRECT("'"&VLOOKUP($B$3,$BD$3:$BE$83,2,0)&"'!$B:$B"),0),MATCH(9003,INDIRECT("'"&VLOOKUP($B$3,$BD$3:$BE$83,2,0)&"'!$B:$B"),0)+1),MATCH(VLOOKUP($B$4,$BF$3:$BR$21,5,0),INDIRECT("'"&VLOOKUP($B$3,$BD$3:$BE$83,2,0)&"'!$5:$5"),0))),0)+IFERROR(INDIRECT("'"&VLOOKUP($B$3,$BD$3:$BE$83,2,0)&"'!"&ADDRESS(IFERROR(MATCH(VLOOKUP(B10,$AZ$3:$BB$83,2,0),INDIRECT("'"&VLOOKUP($B$3,$BD$3:$BE$83,2,0)&"'!$B:$B"),0),MATCH(9003,INDIRECT("'"&VLOOKUP($B$3,$BD$3:$BE$83,2,0)&"'!$B:$B"),0)+1),MATCH(VLOOKUP($B$4,$BF$3:$BR$21,6,0),INDIRECT("'"&VLOOKUP($B$3,$BD$3:$BE$83,2,0)&"'!$5:$5"),0))),0)+IFERROR(INDIRECT("'"&VLOOKUP($B$3,$BD$3:$BE$83,2,0)&"'!"&ADDRESS(IFERROR(MATCH(VLOOKUP(B10,$AZ$3:$BB$83,2,0),INDIRECT("'"&VLOOKUP($B$3,$BD$3:$BE$83,2,0)&"'!$B:$B"),0),MATCH(9003,INDIRECT("'"&VLOOKUP($B$3,$BD$3:$BE$83,2,0)&"'!$B:$B"),0)+1),MATCH(VLOOKUP($B$4,$BF$3:$BR$21,7,0),INDIRECT("'"&VLOOKUP($B$3,$BD$3:$BE$83,2,0)&"'!$5:$5"),0))),0)+IFERROR(INDIRECT("'"&VLOOKUP($B$3,$BD$3:$BE$83,2,0)&"'!"&ADDRESS(IFERROR(MATCH(VLOOKUP(B10,$AZ$3:$BB$83,2,0),INDIRECT("'"&VLOOKUP($B$3,$BD$3:$BE$83,2,0)&"'!$B:$B"),0),MATCH(9003,INDIRECT("'"&VLOOKUP($B$3,$BD$3:$BE$83,2,0)&"'!$B:$B"),0)+1),MATCH(VLOOKUP($B$4,$BF$3:$BR$21,8,0),INDIRECT("'"&VLOOKUP($B$3,$BD$3:$BE$83,2,0)&"'!$5:$5"),0))),0)+IFERROR(INDIRECT("'"&VLOOKUP($B$3,$BD$3:$BE$83,2,0)&"'!"&ADDRESS(IFERROR(MATCH(VLOOKUP(B10,$AZ$3:$BB$83,2,0),INDIRECT("'"&VLOOKUP($B$3,$BD$3:$BE$83,2,0)&"'!$B:$B"),0),MATCH(9003,INDIRECT("'"&VLOOKUP($B$3,$BD$3:$BE$83,2,0)&"'!$B:$B"),0)+1),MATCH(VLOOKUP($B$4,$BF$3:$BR$21,9,0),INDIRECT("'"&VLOOKUP($B$3,$BD$3:$BE$83,2,0)&"'!$5:$5"),0))),0)+IFERROR(INDIRECT("'"&VLOOKUP($B$3,$BD$3:$BE$83,2,0)&"'!"&ADDRESS(IFERROR(MATCH(VLOOKUP(B10,$AZ$3:$BB$83,2,0),INDIRECT("'"&VLOOKUP($B$3,$BD$3:$BE$83,2,0)&"'!$B:$B"),0),MATCH(9003,INDIRECT("'"&VLOOKUP($B$3,$BD$3:$BE$83,2,0)&"'!$B:$B"),0)+1),MATCH(VLOOKUP($B$4,$BF$3:$BR$21,10,0),INDIRECT("'"&VLOOKUP($B$3,$BD$3:$BE$83,2,0)&"'!$5:$5"),0))),0)+IFERROR(INDIRECT("'"&VLOOKUP($B$3,$BD$3:$BE$83,2,0)&"'!"&ADDRESS(IFERROR(MATCH(VLOOKUP(B10,$AZ$3:$BB$83,2,0),INDIRECT("'"&VLOOKUP($B$3,$BD$3:$BE$83,2,0)&"'!$B:$B"),0),MATCH(9003,INDIRECT("'"&VLOOKUP($B$3,$BD$3:$BE$83,2,0)&"'!$B:$B"),0)+1),MATCH(VLOOKUP($B$4,$BF$3:$BR$21,11,0),INDIRECT("'"&VLOOKUP($B$3,$BD$3:$BE$83,2,0)&"'!$5:$5"),0))),0) -> 2.1194321e+10 | E10: Ankara Anonim Türk Sigorta Şirketi | F10: =IFERROR(INDIRECT("'"&VLOOKUP($E$3,$BD$3:$BE$83,2,0)&"'!"&ADDRESS(IFERROR(MATCH(VLOOKUP(E10,$AZ$3:$BB$83,2,0),INDIRECT("'"&VLOOKUP($E$3,$BD$3:$BE$83,2,0)&"'!$B:$B"),0),MATCH(9003,INDIRECT("'"&VLOOKUP($E$3,$BD$3:$BE$83,2,0)&"'!$B:$B"),0)+1),MATCH(VLOOKUP($E$4,$BF$3:$BR$21,2,0),INDIRECT("'"&VLOOKUP($E$3,$BD$3:$BE$83,2,0)&"'!$5:$5"),0))),0)+IFERROR(INDIRECT("'"&VLOOKUP($E$3,$BD$3:$BE$83,2,0)&"'!"&ADDRESS(IFERROR(MATCH(VLOOKUP(E10,$AZ$3:$BB$83,2,0),INDIRECT("'"&VLOOKUP($E$3,$BD$3:$BE$83,2,0)&"'!$B:$B"),0),MATCH(9003,INDIRECT("'"&VLOOKUP($E$3,$BD$3:$BE$83,2,0)&"'!$B:$B"),0)+1),MATCH(VLOOKUP($E$4,$BF$3:$BR$21,3,0),INDIRECT("'"&VLOOKUP($E$3,$BD$3:$BE$83,2,0)&"'!$5:$5"),0))),0)+IFERROR(INDIRECT("'"&VLOOKUP($E$3,$BD$3:$BE$83,2,0)&"'!"&ADDRESS(IFERROR(MATCH(VLOOKUP(E10,$AZ$3:$BB$83,2,0),INDIRECT("'"&VLOOKUP($E$3,$BD$3:$BE$83,2,0)&"'!$B:$B"),0),MATCH(9003,INDIRECT("'"&VLOOKUP($E$3,$BD$3:$BE$83,2,0)&"'!$B:$B"),0)+1),MATCH(VLOOKUP($E$4,$BF$3:$BR$21,4,0),INDIRECT("'"&VLOOKUP($E$3,$BD$3:$BE$83,2,0)&"'!$5:$5"),0))),0)+IFERROR(INDIRECT("'"&VLOOKUP($E$3,$BD$3:$BE$83,2,0)&"'!"&ADDRESS(IFERROR(MATCH(VLOOKUP(E10,$AZ$3:$BB$83,2,0),INDIRECT("'"&VLOOKUP($E$3,$BD$3:$BE$83,2,0)&"'!$B:$B"),0),MATCH(9003,INDIRECT("'"&VLOOKUP($E$3,$BD$3:$BE$83,2,0)&"'!$B:$B"),0)+1),MATCH(VLOOKUP($E$4,$BF$3:$BR$21,5,0),INDIRECT("'"&VLOOKUP($E$3,$BD$3:$BE$83,2,0)&"'!$5:$5"),0))),0)+IFERROR(INDIRECT("'"&VLOOKUP($E$3,$BD$3:$BE$83,2,0)&"'!"&ADDRESS(IFERROR(MATCH(VLOOKUP(E10,$AZ$3:$BB$83,2,0),INDIRECT("'"&VLOOKUP($E$3,$BD$3:$BE$83,2,0)&"'!$B:$B"),0),MATCH(9003,INDIRECT("'"&VLOOKUP($E$3,$BD$3:$BE$83,2,0)&"'!$B:$B"),0)+1),MATCH(VLOOKUP($E$4,$BF$3:$BR$21,6,0),INDIRECT("'"&VLOOKUP($E$3,$BD$3:$BE$83,2,0)&"'!$5:$5"),0))),0)+IFERROR(INDIRECT("'"&VLOOKUP($E$3,$BD$3:$BE$83,2,0)&"'!"&ADDRESS(IFERROR(MATCH(VLOOKUP(E10,$AZ$3:$BB$83,2,0),INDIRECT("'"&VLOOKUP($E$3,$BD$3:$BE$83,2,0)&"'!$B:$B"),0),MATCH(9003,INDIRECT("'"&VLOOKUP($E$3,$BD$3:$BE$83,2,0)&"'!$B:$B"),0)+1),MATCH(VLOOKUP($E$4,$BF$3:$BR$21,7,0),INDIRECT("'"&VLOOKUP($E$3,$BD$3:$BE$83,2,0)&"'!$5:$5"),0))),0)+IFERROR(INDIRECT("'"&VLOOKUP($E$3,$BD$3:$BE$83,2,0)&"'!"&ADDRESS(IFERROR(MATCH(VLOOKUP(E10,$AZ$3:$BB$83,2,0),INDIRECT("'"&VLOOKUP($E$3,$BD$3:$BE$83,2,0)&"'!$B:$B"),0),MATCH(9003,INDIRECT("'"&VLOOKUP($E$3,$BD$3:$BE$83,2,0)&"'!$B:$B"),0)+1),MATCH(VLOOKUP($E$4,$BF$3:$BR$21,8,0),INDIRECT("'"&VLOOKUP($E$3,$BD$3:$BE$83,2,0)&"'!$5:$5"),0))),0)+IFERROR(INDIRECT("'"&VLOOKUP($E$3,$BD$3:$BE$83,2,0)&"'!"&ADDRESS(IFERROR(MATCH(VLOOKUP(E10,$AZ$3:$BB$83,2,0),INDIRECT("'"&VLOOKUP($E$3,$BD$3:$BE$83,2,0)&"'!$B:$B"),0),MATCH(9003,INDIRECT("'"&VLOOKUP($E$3,$BD$3:$BE$83,2,0)&"'!$B:$B"),0)+1),MATCH(VLOOKUP($E$4,$BF$3:$BR$21,9,0),INDIRECT("'"&VLOOKUP($E$3,$BD$3:$BE$83,2,0)&"'!$5:$5"),0))),0)+IFERROR(INDIRECT("'"&VLOOKUP($E$3,$BD$3:$BE$83,2,0)&"'!"&ADDRESS(IFERROR(MATCH(VLOOKUP(E10,$AZ$3:$BB$83,2,0),INDIRECT("'"&VLOOKUP($E$3,$BD$3:$BE$83,2,0)&"'!$B:$B"),0),MATCH(9003,INDIRECT("'"&VLOOKUP($E$3,$BD$3:$BE$83,2,0)&"'!$B:$B"),0)+1),MATCH(VLOOKUP($E$4,$BF$3:$BR$21,10,0),INDIRECT("'"&VLOOKUP($E$3,$BD$3:$BE$83,2,0)&"'!$5:$5"),0))),0)+IFERROR(INDIRECT("'"&VLOOKUP($E$3,$BD$3:$BE$83,2,0)&"'!"&ADDRESS(IFERROR(MATCH(VLOOKUP(E10,$AZ$3:$BB$83,2,0),INDIRECT("'"&VLOOKUP($E$3,$BD$3:$BE$83,2,0)&"'!$B:$B"),0),MATCH(9003,INDIRECT("'"&VLOOKUP($E$3,$BD$3:$BE$83,2,0)&"'!$B:$B"),0)+1),MATCH(VLOOKUP($E$4,$BF$3:$BR$21,11,0),INDIRECT("'"&VLOOKUP($E$3,$BD$3:$BE$83,2,0)&"'!$5:$5"),0))),0) -> 2.1194321e+10 | AZ10: Axa Sigorta AŞ | BA10: 1009 | BD10: Hava Araçları | BE10: HAVA ARAÇLARI | BF10: Net Kazanılan Primler | BG10: 600 | BH10: 601 | BI10: 602 | BJ10: 620 | BK10: 621 | BL10: 622
B11: Atradius Crédito y Caución S.A. de Seguros y Reaseguros, İstanbul Şubesi | C11: =IFERROR(INDIRECT("'"&VLOOKUP($B$3,$BD$3:$BE$83,2,0)&"'!"&ADDRESS(IFERROR(MATCH(VLOOKUP(B11,$AZ$3:$BB$83,2,0),INDIRECT("'"&VLOOKUP($B$3,$BD$3:$BE$83,2,0)&"'!$B:$B"),0),MATCH(9003,INDIRECT("'"&VLOOKUP($B$3,$BD$3:$BE$83,2,0)&"'!$B:$B"),0)+1),MATCH(VLOOKUP($B$4,$BF$3:$BR$21,2,0),INDIRECT("'"&VLOOKUP($B$3,$BD$3:$BE$83,2,0)&"'!$5:$5"),0))),0)+IFERROR(INDIRECT("'"&VLOOKUP($B$3,$BD$3:$BE$83,2,0)&"'!"&ADDRESS(IFERROR(MATCH(VLOOKUP(B11,$AZ$3:$BB$83,2,0),INDIRECT("'"&VLOOKUP($B$3,$BD$3:$BE$83,2,0)&"'!$B:$B"),0),MATCH(9003,INDIRECT("'"&VLOOKUP($B$3,$BD$3:$BE$83,2,0)&"'!$B:$B"),0)+1),MATCH(VLOOKUP($B$4,$BF$3:$BR$21,3,0),INDIRECT("'"&VLOOKUP($B$3,$BD$3:$BE$83,2,0)&"'!$5:$5"),0))),0)+IFERROR(INDIRECT("'"&VLOOKUP($B$3,$BD$3:$BE$83,2,0)&"'!"&ADDRESS(IFERROR(MATCH(VLOOKUP(B11,$AZ$3:$BB$83,2,0),INDIRECT("'"&VLOOKUP($B$3,$BD$3:$BE$83,2,0)&"'!$B:$B"),0),MATCH(9003,INDIRECT("'"&VLOOKUP($B$3,$BD$3:$BE$83,2,0)&"'!$B:$B"),0)+1),MATCH(VLOOKUP($B$4,$BF$3:$BR$21,4,0),INDIRECT("'"&VLOOKUP($B$3,$BD$3:$BE$83,2,0)&"'!$5:$5"),0))),0)+IFERROR(INDIRECT("'"&VLOOKUP($B$3,$BD$3:$BE$83,2,0)&"'!"&ADDRESS(IFERROR(MATCH(VLOOKUP(B11,$AZ$3:$BB$83,2,0),INDIRECT("'"&VLOOKUP($B$3,$BD$3:$BE$83,2,0)&"'!$B:$B"),0),MATCH(9003,INDIRECT("'"&VLOOKUP($B$3,$BD$3:$BE$83,2,0)&"'!$B:$B"),0)+1),MATCH(VLOOKUP($B$4,$BF$3:$BR$21,5,0),INDIRECT("'"&VLOOKUP($B$3,$BD$3:$BE$83,2,0)&"'!$5:$5"),0))),0)+IFERROR(INDIRECT("'"&VLOOKUP($B$3,$BD$3:$BE$83,2,0)&"'!"&ADDRESS(IFERROR(MATCH(VLOOKUP(B11,$AZ$3:$BB$83,2,0),INDIRECT("'"&VLOOKUP($B$3,$BD$3:$BE$83,2,0)&"'!$B:$B"),0),MATCH(9003,INDIRECT("'"&VLOOKUP($B$3,$BD$3:$BE$83,2,0)&"'!$B:$B"),0)+1),MATCH(VLOOKUP($B$4,$BF$3:$BR$21,6,0),INDIRECT("'"&VLOOKUP($B$3,$BD$3:$BE$83,2,0)&"'!$5:$5"),0))),0)+IFERROR(INDIRECT("'"&VLOOKUP($B$3,$BD$3:$BE$83,2,0)&"'!"&ADDRESS(IFERROR(MATCH(VLOOKUP(B11,$AZ$3:$BB$83,2,0),INDIRECT("'"&VLOOKUP($B$3,$BD$3:$BE$83,2,0)&"'!$B:$B"),0),MATCH(9003,INDIRECT("'"&VLOOKUP($B$3,$BD$3:$BE$83,2,0)&"'!$B:$B"),0)+1),MATCH(VLOOKUP($B$4,$BF$3:$BR$21,7,0),INDIRECT("'"&VLOOKUP($B$3,$BD$3:$BE$83,2,0)&"'!$5:$5"),0))),0)+IFERROR(INDIRECT("'"&VLOOKUP($B$3,$BD$3:$BE$83,2,0)&"'!"&ADDRESS(IFERROR(MATCH(VLOOKUP(B11,$AZ$3:$BB$83,2,0),INDIRECT("'"&VLOOKUP($B$3,$BD$3:$BE$83,2,0)&"'!$B:$B"),0),MATCH(9003,INDIRECT("'"&VLOOKUP($B$3,$BD$3:$BE$83,2,0)&"'!$B:$B"),0)+1),MATCH(VLOOKUP($B$4,$BF$3:$BR$21,8,0),INDIRECT("'"&VLOOKUP($B$3,$BD$3:$BE$83,2,0)&"'!$5:$5"),0))),0)+IFERROR(INDIRECT("'"&VLOOKUP($B$3,$BD$3:$BE$83,2,0)&"'!"&ADDRESS(IFERROR(MATCH(VLOOKUP(B11,$AZ$3:$BB$83,2,0),INDIRECT("'"&VLOOKUP($B$3,$BD$3:$BE$83,2,0)&"'!$B:$B"),0),MATCH(9003,INDIRECT("'"&VLOOKUP($B$3,$BD$3:$BE$83,2,0)&"'!$B:$B"),0)+1),MATCH(VLOOKUP($B$4,$BF$3:$BR$21,9,0),INDIRECT("'"&VLOOKUP($B$3,$BD$3:$BE$83,2,0)&"'!$5:$5"),0))),0)+IFERROR(INDIRECT("'"&VLOOKUP($B$3,$BD$3:$BE$83,2,0)&"'!"&ADDRESS(IFERROR(MATCH(VLOOKUP(B11,$AZ$3:$BB$83,2,0),INDIRECT("'"&VLOOKUP($B$3,$BD$3:$BE$83,2,0)&"'!$B:$B"),0),MATCH(9003,INDIRECT("'"&VLOOKUP($B$3,$BD$3:$BE$83,2,0)&"'!$B:$B"),0)+1),MATCH(VLOOKUP($B$4,$BF$3:$BR$21,10,0),INDIRECT("'"&VLOOKUP($B$3,$BD$3:$BE$83,2,0)&"'!$5:$5"),0))),0)+IFERROR(INDIRECT("'"&VLOOKUP($B$3,$BD$3:$BE$83,2,0)&"'!"&ADDRESS(IFERROR(MATCH(VLOOKUP(B11,$AZ$3:$BB$83,2,0),INDIRECT("'"&VLOOKUP($B$3,$BD$3:$BE$83,2,0)&"'!$B:$B"),0),MATCH(9003,INDIRECT("'"&VLOOKUP($B$3,$BD$3:$BE$83,2,0)&"'!$B:$B"),0)+1),MATCH(VLOOKUP($B$4,$BF$3:$BR$21,11,0),INDIRECT("'"&VLOOKUP($B$3,$BD$3:$BE$83,2,0)&"'!$5:$5"),0))),0) -> 7.5454381e+08 | E11: Atradius Crédito y Caución S.A. de Seguros y Reaseguros, İstanbul Şubesi | F11: =IFERROR(INDIRECT("'"&VLOOKUP($E$3,$BD$3:$BE$83,2,0)&"'!"&ADDRESS(IFERROR(MATCH(VLOOKUP(E11,$AZ$3:$BB$83,2,0),INDIRECT("'"&VLOOKUP($E$3,$BD$3:$BE$83,2,0)&"'!$B:$B"),0),MATCH(9003,INDIRECT("'"&VLOOKUP($E$3,$BD$3:$BE$83,2,0)&"'!$B:$B"),0)+1),MATCH(VLOOKUP($E$4,$BF$3:$BR$21,2,0),INDIRECT("'"&VLOOKUP($E$3,$BD$3:$BE$83,2,0)&"'!$5:$5"),0))),0)+IFERROR(INDIRECT("'"&VLOOKUP($E$3,$BD$3:$BE$83,2,0)&"'!"&ADDRESS(IFERROR(MATCH(VLOOKUP(E11,$AZ$3:$BB$83,2,0),INDIRECT("'"&VLOOKUP($E$3,$BD$3:$BE$83,2,0)&"'!$B:$B"),0),MATCH(9003,INDIRECT("'"&VLOOKUP($E$3,$BD$3:$BE$83,2,0)&"'!$B:$B"),0)+1),MATCH(VLOOKUP($E$4,$BF$3:$BR$21,3,0),INDIRECT("'"&VLOOKUP($E$3,$BD$3:$BE$83,2,0)&"'!$5:$5"),0))),0)+IFERROR(INDIRECT("'"&VLOOKUP($E$3,$BD$3:$BE$83,2,0)&"'!"&ADDRESS(IFERROR(MATCH(VLOOKUP(E11,$AZ$3:$BB$83,2,0),INDIRECT("'"&VLOOKUP($E$3,$BD$3:$BE$83,2,0)&"'!$B:$B"),0),MATCH(9003,INDIRECT("'"&VLOOKUP($E$3,$BD$3:$BE$83,2,0)&"'!$B:$B"),0)+1),MATCH(VLOOKUP($E$4,$BF$3:$BR$21,4,0),INDIRECT("'"&VLOOKUP($E$3,$BD$3:$BE$83,2,0)&"'!$5:$5"),0))),0)+IFERROR(INDIRECT("'"&VLOOKUP($E$3,$BD$3:$BE$83,2,0)&"'!"&ADDRESS(IFERROR(MATCH(VLOOKUP(E11,$AZ$3:$BB$83,2,0),INDIRECT("'"&VLOOKUP($E$3,$BD$3:$BE$83,2,0)&"'!$B:$B"),0),MATCH(9003,INDIRECT("'"&VLOOKUP($E$3,$BD$3:$BE$83,2,0)&"'!$B:$B"),0)+1),MATCH(VLOOKUP($E$4,$BF$3:$BR$21,5,0),INDIRECT("'"&VLOOKUP($E$3,$BD$3:$BE$83,2,0)&"'!$5:$5"),0))),0)+IFERROR(INDIRECT("'"&VLOOKUP($E$3,$BD$3:$BE$83,2,0)&"'!"&ADDRESS(IFERROR(MATCH(VLOOKUP(E11,$AZ$3:$BB$83,2,0),INDIRECT("'"&VLOOKUP($E$3,$BD$3:$BE$83,2,0)&"'!$B:$B"),0),MATCH(9003,INDIRECT("'"&VLOOKUP($E$3,$BD$3:$BE$83,2,0)&"'!$B:$B"),0)+1),MATCH(VLOOKUP($E$4,$BF$3:$BR$21,6,0),INDIRECT("'"&VLOOKUP($E$3,$BD$3:$BE$83,2,0)&"'!$5:$5"),0))),0)+IFERROR(INDIRECT("'"&VLOOKUP($E$3,$BD$3:$BE$83,2,0)&"'!"&ADDRESS(IFERROR(MATCH(VLOOKUP(E11,$AZ$3:$BB$83,2,0),INDIRECT("'"&VLOOKUP($E$3,$BD$3:$BE$83,2,0)&"'!$B:$B"),0),MATCH(9003,INDIRECT("'"&VLOOKUP($E$3,$BD$3:$BE$83,2,0)&"'!$B:$B"),0)+1),MATCH(VLOOKUP($E$4,$BF$3:$BR$21,7,0),INDIRECT("'"&VLOOKUP($E$3,$BD$3:$BE$83,2,0)&"'!$5:$5"),0))),0)+IFERROR(INDIRECT("'"&VLOOKUP($E$3,$BD$3:$BE$83,2,0)&"'!"&ADDRESS(IFERROR(MATCH(VLOOKUP(E11,$AZ$3:$BB$83,2,0),INDIRECT("'"&VLOOKUP($E$3,$BD$3:$BE$83,2,0)&"'!$B:$B"),0),MATCH(9003,INDIRECT("'"&VLOOKUP($E$3,$BD$3:$BE$83,2,0)&"'!$B:$B"),0)+1),MATCH(VLOOKUP($E$4,$BF$3:$BR$21,8,0),INDIRECT("'"&VLOOKUP($E$3,$BD$3:$BE$83,2,0)&"'!$5:$5"),0))),0)+IFERROR(INDIRECT("'"&VLOOKUP($E$3,$BD$3:$BE$83,2,0)&"'!"&ADDRESS(IFERROR(MATCH(VLOOKUP(E11,$AZ$3:$BB$83,2,0),INDIRECT("'"&VLOOKUP($E$3,$BD$3:$BE$83,2,0)&"'!$B:$B"),0),MATCH(9003,INDIRECT("'"&VLOOKUP($E$3,$BD$3:$BE$83,2,0)&"'!$B:$B"),0)+1),MATCH(VLOOKUP($E$4,$BF$3:$BR$21,9,0),INDIRECT("'"&VLOOKUP($E$3,$BD$3:$BE$83,2,0)&"'!$5:$5"),0))),0)+IFERROR(INDIRECT("'"&VLOOKUP($E$3,$BD$3:$BE$83,2,0)&"'!"&ADDRESS(IFERROR(MATCH(VLOOKUP(E11,$AZ$3:$BB$83,2,0),INDIRECT("'"&VLOOKUP($E$3,$BD$3:$BE$83,2,0)&"'!$B:$B"),0),MATCH(9003,INDIRECT("'"&VLOOKUP($E$3,$BD$3:$BE$83,2,0)&"'!$B:$B"),0)+1),MATCH(VLOOKUP($E$4,$BF$3:$BR$21,10,0),INDIRECT("'"&VLOOKUP($E$3,$BD$3:$BE$83,2,0)&"'!$5:$5"),0))),0)+IFERROR(INDIRECT("'"&VLOOKUP($E$3,$BD$3:$BE$83,2,0)&"'!"&ADDRESS(IFERROR(MATCH(VLOOKUP(E11,$AZ$3:$BB$83,2,0),INDIRECT("'"&VLOOKUP($E$3,$BD$3:$BE$83,2,0)&"'!$B:$B"),0),MATCH(9003,INDIRECT("'"&VLOOKUP($E$3,$BD$3:$BE$83,2,0)&"'!$B:$B"),0)+1),MATCH(VLOOKUP($E$4,$BF$3:$BR$21,11,0),INDIRECT("'"&VLOOKUP($E$3,$BD$3:$BE$83,2,0)&"'!$5:$5"),0))),0) -> 7.5454381e+08 | AZ11: BNP Paribas Cardif Sigorta AŞ | BA11: 1010 | BD11: Su Araçları | BE11: SU ARAÇLARI | BF11: Net Ödenen Tazminatlar | BG11: 610 | BH11: 630
B12: Unico Sigorta AŞ | C12: =IFERROR(INDIRECT("'"&VLOOKUP($B$3,$BD$3:$BE$83,2,0)&"'!"&ADDRESS(IFERROR(MATCH(VLOOKUP(B12,$AZ$3:$BB$83,2,0),INDIRECT("'"&VLOOKUP($B$3,$BD$3:$BE$83,2,0)&"'!$B:$B"),0),MATCH(9003,INDIRECT("'"&VLOOKUP($B$3,$BD$3:$BE$83,2,0)&"'!$B:$B"),0)+1),MATCH(VLOOKUP($B$4,$BF$3:$BR$21,2,0),INDIRECT("'"&VLOOKUP($B$3,$BD$3:$BE$83,2,0)&"'!$5:$5"),0))),0)+IFERROR(INDIRECT("'"&VLOOKUP($B$3,$BD$3:$BE$83,2,0)&"'!"&ADDRESS(IFERROR(MATCH(VLOOKUP(B12,$AZ$3:$BB$83,2,0),INDIRECT("'"&VLOOKUP($B$3,$BD$3:$BE$83,2,0)&"'!$B:$B"),0),MATCH(9003,INDIRECT("'"&VLOOKUP($B$3,$BD$3:$BE$83,2,0)&"'!$B:$B"),0)+1),MATCH(VLOOKUP($B$4,$BF$3:$BR$21,3,0),INDIRECT("'"&VLOOKUP($B$3,$BD$3:$BE$83,2,0)&"'!$5:$5"),0))),0)+IFERROR(INDIRECT("'"&VLOOKUP($B$3,$BD$3:$BE$83,2,0)&"'!"&ADDRESS(IFERROR(MATCH(VLOOKUP(B12,$AZ$3:$BB$83,2,0),INDIRECT("'"&VLOOKUP($B$3,$BD$3:$BE$83,2,0)&"'!$B:$B"),0),MATCH(9003,INDIRECT("'"&VLOOKUP($B$3,$BD$3:$BE$83,2,0)&"'!$B:$B"),0)+1),MATCH(VLOOKUP($B$4,$BF$3:$BR$21,4,0),INDIRECT("'"&VLOOKUP($B$3,$BD$3:$BE$83,2,0)&"'!$5:$5"),0))),0)+IFERROR(INDIRECT("'"&VLOOKUP($B$3,$BD$3:$BE$83,2,0)&"'!"&ADDRESS(IFERROR(MATCH(VLOOKUP(B12,$AZ$3:$BB$83,2,0),INDIRECT("'"&VLOOKUP($B$3,$BD$3:$BE$83,2,0)&"'!$B:$B"),0),MATCH(9003,INDIRECT("'"&VLOOKUP($B$3,$BD$3:$BE$83,2,0)&"'!$B:$B"),0)+1),MATCH(VLOOKUP($B$4,$BF$3:$BR$21,5,0),INDIRECT("'"&VLOOKUP($B$3,$BD$3:$BE$83,2,0)&"'!$5:$5"),0))),0)+IFERROR(INDIRECT("'"&VLOOKUP($B$3,$BD$3:$BE$83,2,0)&"'!"&ADDRESS(IFERROR(MATCH(VLOOKUP(B12,$AZ$3:$BB$83,2,0),INDIRECT("'"&VLOOKUP($B$3,$BD$3:$BE$83,2,0)&"'!$B:$B"),0),MATCH(9003,INDIRECT("'"&VLOOKUP($B$3,$BD$3:$BE$83,2,0)&"'!$B:$B"),0)+1),MATCH(VLOOKUP($B$4,$BF$3:$BR$21,6,0),INDIRECT("'"&VLOOKUP($B$3,$BD$3:$BE$83,2,0)&"'!$5:$5"),0))),0)+IFERROR(INDIRECT("'"&VLOOKUP($B$3,$BD$3:$BE$83,2,0)&"'!"&ADDRESS(IFERROR(MATCH(VLOOKUP(B12,$AZ$3:$BB$83,2,0),INDIRECT("'"&VLOOKUP($B$3,$BD$3:$BE$83,2,0)&"'!$B:$B"),0),MATCH(9003,INDIRECT("'"&VLOOKUP($B$3,$BD$3:$BE$83,2,0)&"'!$B:$B"),0)+1),MATCH(VLOOKUP($B$4,$BF$3:$BR$21,7,0),INDIRECT("'"&VLOOKUP($B$3,$BD$3:$BE$83,2,0)&"'!$5:$5"),0))),0)+IFERROR(INDIRECT("'"&VLOOKUP($B$3,$BD$3:$BE$83,2,0)&"'!"&ADDRESS(IFERROR(MATCH(VLOOKUP(B12,$AZ$3:$BB$83,2,0),INDIRECT("'"&VLOOKUP($B$3,$BD$3:$BE$83,2,0)&"'!$B:$B"),0),MATCH(9003,INDIRECT("'"&VLOOKUP($B$3,$BD$3:$BE$83,2,0)&"'!$B:$B"),0)+1),MATCH(VLOOKUP($B$4,$BF$3:$BR$21,8,0),INDIRECT("'"&VLOOKUP($B$3,$BD$3:$BE$83,2,0)&"'!$5:$5"),0))),0)+IFERROR(INDIRECT("'"&VLOOKUP($B$3,$BD$3:$BE$83,2,0)&"'!"&ADDRESS(IFERROR(MATCH(VLOOKUP(B12,$AZ$3:$BB$83,2,0),INDIRECT("'"&VLOOKUP($B$3,$BD$3:$BE$83,2,0)&"'!$B:$B"),0),MATCH(9003,INDIRECT("'"&VLOOKUP($B$3,$BD$3:$BE$83,2,0)&"'!$B:$B"),0)+1),MATCH(VLOOKUP($B$4,$BF$3:$BR$21,9,0),INDIRECT("'"&VLOOKUP($B$3,$BD$3:$BE$83,2,0)&"'!$5:$5"),0))),0)+IFERROR(INDIRECT("'"&VLOOKUP($B$3,$BD$3:$BE$83,2,0)&"'!"&ADDRESS(IFERROR(MATCH(VLOOKUP(B12,$AZ$3:$BB$83,2,0),INDIRECT("'"&VLOOKUP($B$3,$BD$3:$BE$83,2,0)&"'!$B:$B"),0),MATCH(9003,INDIRECT("'"&VLOOKUP($B$3,$BD$3:$BE$83,2,0)&"'!$B:$B"),0)+1),MATCH(VLOOKUP($B$4,$BF$3:$BR$21,10,0),INDIRECT("'"&VLOOKUP($B$3,$BD$3:$BE$83,2,0)&"'!$5:$5"),0))),0)+IFERROR(INDIRECT("'"&VLOOKUP($B$3,$BD$3:$BE$83,2,0)&"'!"&ADDRESS(IFERROR(MATCH(VLOOKUP(B12,$AZ$3:$BB$83,2,0),INDIRECT("'"&VLOOKUP($B$3,$BD$3:$BE$83,2,0)&"'!$B:$B"),0),MATCH(9003,INDIRECT("'"&VLOOKUP($B$3,$BD$3:$BE$83,2,0)&"'!$B:$B"),0)+1),MATCH(VLOOKUP($B$4,$BF$3:$BR$21,11,0),INDIRECT("'"&VLOOKUP($B$3,$BD$3:$BE$83,2,0)&"'!$5:$5"),0))),0) -> 2.215673e+10 | E12: Unico Sigorta AŞ | F12: =IFERROR(INDIRECT("'"&VLOOKUP($E$3,$BD$3:$BE$83,2,0)&"'!"&ADDRESS(IFERROR(MATCH(VLOOKUP(E12,$AZ$3:$BB$83,2,0),INDIRECT("'"&VLOOKUP($E$3,$BD$3:$BE$83,2,0)&"'!$B:$B"),0),MATCH(9003,INDIRECT("'"&VLOOKUP($E$3,$BD$3:$BE$83,2,0)&"'!$B:$B"),0)+1),MATCH(VLOOKUP($E$4,$BF$3:$BR$21,2,0),INDIRECT("'"&VLOOKUP($E$3,$BD$3:$BE$83,2,0)&"'!$5:$5"),0))),0)+IFERROR(INDIRECT("'"&VLOOKUP($E$3,$BD$3:$BE$83,2,0)&"'!"&ADDRESS(IFERROR(MATCH(VLOOKUP(E12,$AZ$3:$BB$83,2,0),INDIRECT("'"&VLOOKUP($E$3,$BD$3:$BE$83,2,0)&"'!$B:$B"),0),MATCH(9003,INDIRECT("'"&VLOOKUP($E$3,$BD$3:$BE$83,2,0)&"'!$B:$B"),0)+1),MATCH(VLOOKUP($E$4,$BF$3:$BR$21,3,0),INDIRECT("'"&VLOOKUP($E$3,$BD$3:$BE$83,2,0)&"'!$5:$5"),0))),0)+IFERROR(INDIRECT("'"&VLOOKUP($E$3,$BD$3:$BE$83,2,0)&"'!"&ADDRESS(IFERROR(MATCH(VLOOKUP(E12,$AZ$3:$BB$83,2,0),INDIRECT("'"&VLOOKUP($E$3,$BD$3:$BE$83,2,0)&"'!$B:$B"),0),MATCH(9003,INDIRECT("'"&VLOOKUP($E$3,$BD$3:$BE$83,2,0)&"'!$B:$B"),0)+1),MATCH(VLOOKUP($E$4,$BF$3:$BR$21,4,0),INDIRECT("'"&VLOOKUP($E$3,$BD$3:$BE$83,2,0)&"'!$5:$5"),0))),0)+IFERROR(INDIRECT("'"&VLOOKUP($E$3,$BD$3:$BE$83,2,0)&"'!"&ADDRESS(IFERROR(MATCH(VLOOKUP(E12,$AZ$3:$BB$83,2,0),INDIRECT("'"&VLOOKUP($E$3,$BD$3:$BE$83,2,0)&"'!$B:$B"),0),MATCH(9003,INDIRECT("'"&VLOOKUP($E$3,$BD$3:$BE$83,2,0)&"'!$B:$B"),0)+1),MATCH(VLOOKUP($E$4,$BF$3:$BR$21,5,0),INDIRECT("'"&VLOOKUP($E$3,$BD$3:$BE$83,2,0)&"'!$5:$5"),0))),0)+IFERROR(INDIRECT("'"&VLOOKUP($E$3,$BD$3:$BE$83,2,0)&"'!"&ADDRESS(IFERROR(MATCH(VLOOKUP(E12,$AZ$3:$BB$83,2,0),INDIRECT("'"&VLOOKUP($E$3,$BD$3:$BE$83,2,0)&"'!$B:$B"),0),MATCH(9003,INDIRECT("'"&VLOOKUP($E$3,$BD$3:$BE$83,2,0)&"'!$B:$B"),0)+1),MATCH(VLOOKUP($E$4,$BF$3:$BR$21,6,0),INDIRECT("'"&VLOOKUP($E$3,$BD$3:$BE$83,2,0)&"'!$5:$5"),0))),0)+IFERROR(INDIRECT("'"&VLOOKUP($E$3,$BD$3:$BE$83,2,0)&"'!"&ADDRESS(IFERROR(MATCH(VLOOKUP(E12,$AZ$3:$BB$83,2,0),INDIRECT("'"&VLOOKUP($E$3,$BD$3:$BE$83,2,0)&"'!$B:$B"),0),MATCH(9003,INDIRECT("'"&VLOOKUP($E$3,$BD$3:$BE$83,2,0)&"'!$B:$B"),0)+1),MATCH(VLOOKUP($E$4,$BF$3:$BR$21,7,0),INDIRECT("'"&VLOOKUP($E$3,$BD$3:$BE$83,2,0)&"'!$5:$5"),0))),0)+IFERROR(INDIRECT("'"&VLOOKUP($E$3,$BD$3:$BE$83,2,0)&"'!"&ADDRESS(IFERROR(MATCH(VLOOKUP(E12,$AZ$3:$BB$83,2,0),INDIRECT("'"&VLOOKUP($E$3,$BD$3:$BE$83,2,0)&"'!$B:$B"),0),MATCH(9003,INDIRECT("'"&VLOOKUP($E$3,$BD$3:$BE$83,2,0)&"'!$B:$B"),0)+1),MATCH(VLOOKUP($E$4,$BF$3:$BR$21,8,0),INDIRECT("'"&VLOOKUP($E$3,$BD$3:$BE$83,2,0)&"'!$5:$5"),0))),0)+IFERROR(INDIRECT("'"&VLOOKUP($E$3,$BD$3:$BE$83,2,0)&"'!"&ADDRESS(IFERROR(MATCH(VLOOKUP(E12,$AZ$3:$BB$83,2,0),INDIRECT("'"&VLOOKUP($E$3,$BD$3:$BE$83,2,0)&"'!$B:$B"),0),MATCH(9003,INDIRECT("'"&VLOOKUP($E$3,$BD$3:$BE$83,2,0)&"'!$B:$B"),0)+1),MATCH(VLOOKUP($E$4,$BF$3:$BR$21,9,0),INDIRECT("'"&VLOOKUP($E$3,$BD$3:$BE$83,2,0)&"'!$5:$5"),0))),0)+IFERROR(INDIRECT("'"&VLOOKUP($E$3,$BD$3:$BE$83,2,0)&"'!"&ADDRESS(IFERROR(MATCH(VLOOKUP(E12,$AZ$3:$BB$83,2,0),INDIRECT("'"&VLOOKUP($E$3,$BD$3:$BE$83,2,0)&"'!$B:$B"),0),MATCH(9003,INDIRECT("'"&VLOOKUP($E$3,$BD$3:$BE$83,2,0)&"'!$B:$B"),0)+1),MATCH(VLOOKUP($E$4,$BF$3:$BR$21,10,0),INDIRECT("'"&VLOOKUP($E$3,$BD$3:$BE$83,2,0)&"'!$5:$5"),0))),0)+IFERROR(INDIRECT("'"&VLOOKUP($E$3,$BD$3:$BE$83,2,0)&"'!"&ADDRESS(IFERROR(MATCH(VLOOKUP(E12,$AZ$3:$BB$83,2,0),INDIRECT("'"&VLOOKUP($E$3,$BD$3:$BE$83,2,0)&"'!$B:$B"),0),MATCH(9003,INDIRECT("'"&VLOOKUP($E$3,$BD$3:$BE$83,2,0)&"'!$B:$B"),0)+1),MATCH(VLOOKUP($E$4,$BF$3:$BR$21,11,0),INDIRECT("'"&VLOOKUP($E$3,$BD$3:$BE$83,2,0)&"'!$5:$5"),0))),0) -> 2.215673e+10 | AZ12: Coface Sigorta AŞ | BA12: 1011 | BD12: Nakliyat | BE12: NAKLİYAT | BF12: Net Muallak Tazminatlar | BG12: 611011 | BH12: 631011 | BI12: 611021 | BJ12: 631021
B13: Axa Sigorta AŞ | C13: =IFERROR(INDIRECT("'"&VLOOKUP($B$3,$BD$3:$BE$83,2,0)&"'!"&ADDRESS(IFERROR(MATCH(VLOOKUP(B13,$AZ$3:$BB$83,2,0),INDIRECT("'"&VLOOKUP($B$3,$BD$3:$BE$83,2,0)&"'!$B:$B"),0),MATCH(9003,INDIRECT("'"&VLOOKUP($B$3,$BD$3:$BE$83,2,0)&"'!$B:$B"),0)+1),MATCH(VLOOKUP($B$4,$BF$3:$BR$21,2,0),INDIRECT("'"&VLOOKUP($B$3,$BD$3:$BE$83,2,0)&"'!$5:$5"),0))),0)+IFERROR(INDIRECT("'"&VLOOKUP($B$3,$BD$3:$BE$83,2,0)&"'!"&ADDRESS(IFERROR(MATCH(VLOOKUP(B13,$AZ$3:$BB$83,2,0),INDIRECT("'"&VLOOKUP($B$3,$BD$3:$BE$83,2,0)&"'!$B:$B"),0),MATCH(9003,INDIRECT("'"&VLOOKUP($B$3,$BD$3:$BE$83,2,0)&"'!$B:$B"),0)+1),MATCH(VLOOKUP($B$4,$BF$3:$BR$21,3,0),INDIRECT("'"&VLOOKUP($B$3,$BD$3:$BE$83,2,0)&"'!$5:$5"),0))),0)+IFERROR(INDIRECT("'"&VLOOKUP($B$3,$BD$3:$BE$83,2,0)&"'!"&ADDRESS(IFERROR(MATCH(VLOOKUP(B13,$AZ$3:$BB$83,2,0),INDIRECT("'"&VLOOKUP($B$3,$BD$3:$BE$83,2,0)&"'!$B:$B"),0),MATCH(9003,INDIRECT("'"&VLOOKUP($B$3,$BD$3:$BE$83,2,0)&"'!$B:$B"),0)+1),MATCH(VLOOKUP($B$4,$BF$3:$BR$21,4,0),INDIRECT("'"&VLOOKUP($B$3,$BD$3:$BE$83,2,0)&"'!$5:$5"),0))),0)+IFERROR(INDIRECT("'"&VLOOKUP($B$3,$BD$3:$BE$83,2,0)&"'!"&ADDRESS(IFERROR(MATCH(VLOOKUP(B13,$AZ$3:$BB$83,2,0),INDIRECT("'"&VLOOKUP($B$3,$BD$3:$BE$83,2,0)&"'!$B:$B"),0),MATCH(9003,INDIRECT("'"&VLOOKUP($B$3,$BD$3:$BE$83,2,0)&"'!$B:$B"),0)+1),MATCH(VLOOKUP($B$4,$BF$3:$BR$21,5,0),INDIRECT("'"&VLOOKUP($B$3,$BD$3:$BE$83,2,0)&"'!$5:$5"),0))),0)+IFERROR(INDIRECT("'"&VLOOKUP($B$3,$BD$3:$BE$83,2,0)&"'!"&ADDRESS(IFERROR(MATCH(VLOOKUP(B13,$AZ$3:$BB$83,2,0),INDIRECT("'"&VLOOKUP($B$3,$BD$3:$BE$83,2,0)&"'!$B:$B"),0),MATCH(9003,INDIRECT("'"&VLOOKUP($B$3,$BD$3:$BE$83,2,0)&"'!$B:$B"),0)+1),MATCH(VLOOKUP($B$4,$BF$3:$BR$21,6,0),INDIRECT("'"&VLOOKUP($B$3,$BD$3:$BE$83,2,0)&"'!$5:$5"),0))),0)+IFERROR(INDIRECT("'"&VLOOKUP($B$3,$BD$3:$BE$83,2,0)&"'!"&ADDRESS(IFERROR(MATCH(VLOOKUP(B13,$AZ$3:$BB$83,2,0),INDIRECT("'"&VLOOKUP($B$3,$BD$3:$BE$83,2,0)&"'!$B:$B"),0),MATCH(9003,INDIRECT("'"&VLOOKUP($B$3,$BD$3:$BE$83,2,0)&"'!$B:$B"),0)+1),MATCH(VLOOKUP($B$4,$BF$3:$BR$21,7,0),INDIRECT("'"&VLOOKUP($B$3,$BD$3:$BE$83,2,0)&"'!$5:$5"),0))),0)+IFERROR(INDIRECT("'"&VLOOKUP($B$3,$BD$3:$BE$83,2,0)&"'!"&ADDRESS(IFERROR(MATCH(VLOOKUP(B13,$AZ$3:$BB$83,2,0),INDIRECT("'"&VLOOKUP($B$3,$BD$3:$BE$83,2,0)&"'!$B:$B"),0),MATCH(9003,INDIRECT("'"&VLOOKUP($B$3,$BD$3:$BE$83,2,0)&"'!$B:$B"),0)+1),MATCH(VLOOKUP($B$4,$BF$3:$BR$21,8,0),INDIRECT("'"&VLOOKUP($B$3,$BD$3:$BE$83,2,0)&"'!$5:$5"),0))),0)+IFERROR(INDIRECT("'"&VLOOKUP($B$3,$BD$3:$BE$83,2,0)&"'!"&ADDRESS(IFERROR(MATCH(VLOOKUP(B13,$AZ$3:$BB$83,2,0),INDIRECT("'"&VLOOKUP($B$3,$BD$3:$BE$83,2,0)&"'!$B:$B"),0),MATCH(9003,INDIRECT("'"&VLOOKUP($B$3,$BD$3:$BE$83,2,0)&"'!$B:$B"),0)+1),MATCH(VLOOKUP($B$4,$BF$3:$BR$21,9,0),INDIRECT("'"&VLOOKUP($B$3,$BD$3:$BE$83,2,0)&"'!$5:$5"),0))),0)+IFERROR(INDIRECT("'"&VLOOKUP($B$3,$BD$3:$BE$83,2,0)&"'!"&ADDRESS(IFERROR(MATCH(VLOOKUP(B13,$AZ$3:$BB$83,2,0),INDIRECT("'"&VLOOKUP($B$3,$BD$3:$BE$83,2,0)&"'!$B:$B"),0),MATCH(9003,INDIRECT("'"&VLOOKUP($B$3,$BD$3:$BE$83,2,0)&"'!$B:$B"),0)+1),MATCH(VLOOKUP($B$4,$BF$3:$BR$21,10,0),INDIRECT("'"&VLOOKUP($B$3,$BD$3:$BE$83,2,0)&"'!$5:$5"),0))),0)+IFERROR(INDIRECT("'"&VLOOKUP($B$3,$BD$3:$BE$83,2,0)&"'!"&ADDRESS(IFERROR(MATCH(VLOOKUP(B13,$AZ$3:$BB$83,2,0),INDIRECT("'"&VLOOKUP($B$3,$BD$3:$BE$83,2,0)&"'!$B:$B"),0),MATCH(9003,INDIRECT("'"&VLOOKUP($B$3,$BD$3:$BE$83,2,0)&"'!$B:$B"),0)+1),MATCH(VLOOKUP($B$4,$BF$3:$BR$21,11,0),INDIRECT("'"&VLOOKUP($B$3,$BD$3:$BE$83,2,0)&"'!$5:$5"),0))),0) -> 9.0254767e+10 | E13: Axa Sigorta AŞ | F13: =IFERROR(INDIRECT("'"&VLOOKUP($E$3,$BD$3:$BE$83,2,0)&"'!"&ADDRESS(IFERROR(MATCH(VLOOKUP(E13,$AZ$3:$BB$83,2,0),INDIRECT("'"&VLOOKUP($E$3,$BD$3:$BE$83,2,0)&"'!$B:$B"),0),MATCH(9003,INDIRECT("'"&VLOOKUP($E$3,$BD$3:$BE$83,2,0)&"'!$B:$B"),0)+1),MATCH(VLOOKUP($E$4,$BF$3:$BR$21,2,0),INDIRECT("'"&VLOOKUP($E$3,$BD$3:$BE$83,2,0)&"'!$5:$5"),0))),0)+IFERROR(INDIRECT("'"&VLOOKUP($E$3,$BD$3:$BE$83,2,0)&"'!"&ADDRESS(IFERROR(MATCH(VLOOKUP(E13,$AZ$3:$BB$83,2,0),INDIRECT("'"&VLOOKUP($E$3,$BD$3:$BE$83,2,0)&"'!$B:$B"),0),MATCH(9003,INDIRECT("'"&VLOOKUP($E$3,$BD$3:$BE$83,2,0)&"'!$B:$B"),0)+1),MATCH(VLOOKUP($E$4,$BF$3:$BR$21,3,0),INDIRECT("'"&VLOOKUP($E$3,$BD$3:$BE$83,2,0)&"'!$5:$5"),0))),0)+IFERROR(INDIRECT("'"&VLOOKUP($E$3,$BD$3:$BE$83,2,0)&"'!"&ADDRESS(IFERROR(MATCH(VLOOKUP(E13,$AZ$3:$BB$83,2,0),INDIRECT("'"&VLOOKUP($E$3,$BD$3:$BE$83,2,0)&"'!$B:$B"),0),MATCH(9003,INDIRECT("'"&VLOOKUP($E$3,$BD$3:$BE$83,2,0)&"'!$B:$B"),0)+1),MATCH(VLOOKUP($E$4,$BF$3:$BR$21,4,0),INDIRECT("'"&VLOOKUP($E$3,$BD$3:$BE$83,2,0)&"'!$5:$5"),0))),0)+IFERROR(INDIRECT("'"&VLOOKUP($E$3,$BD$3:$BE$83,2,0)&"'!"&ADDRESS(IFERROR(MATCH(VLOOKUP(E13,$AZ$3:$BB$83,2,0),INDIRECT("'"&VLOOKUP($E$3,$BD$3:$BE$83,2,0)&"'!$B:$B"),0),MATCH(9003,INDIRECT("'"&VLOOKUP($E$3,$BD$3:$BE$83,2,0)&"'!$B:$B"),0)+1),MATCH(VLOOKUP($E$4,$BF$3:$BR$21,5,0),INDIRECT("'"&VLOOKUP($E$3,$BD$3:$BE$83,2,0)&"'!$5:$5"),0))),0)+IFERROR(INDIRECT("'"&VLOOKUP($E$3,$BD$3:$BE$83,2,0)&"'!"&ADDRESS(IFERROR(MATCH(VLOOKUP(E13,$AZ$3:$BB$83,2,0),INDIRECT("'"&VLOOKUP($E$3,$BD$3:$BE$83,2,0)&"'!$B:$B"),0),MATCH(9003,INDIRECT("'"&VLOOKUP($E$3,$BD$3:$BE$83,2,0)&"'!$B:$B"),0)+1),MATCH(VLOOKUP($E$4,$BF$3:$BR$21,6,0),INDIRECT("'"&VLOOKUP($E$3,$BD$3:$BE$83,2,0)&"'!$5:$5"),0))),0)+IFERROR(INDIRECT("'"&VLOOKUP($E$3,$BD$3:$BE$83,2,0)&"'!"&ADDRESS(IFERROR(MATCH(VLOOKUP(E13,$AZ$3:$BB$83,2,0),INDIRECT("'"&VLOOKUP($E$3,$BD$3:$BE$83,2,0)&"'!$B:$B"),0),MATCH(9003,INDIRECT("'"&VLOOKUP($E$3,$BD$3:$BE$83,2,0)&"'!$B:$B"),0)+1),MATCH(VLOOKUP($E$4,$BF$3:$BR$21,7,0),INDIRECT("'"&VLOOKUP($E$3,$BD$3:$BE$83,2,0)&"'!$5:$5"),0))),0)+IFERROR(INDIRECT("'"&VLOOKUP($E$3,$BD$3:$BE$83,2,0)&"'!"&ADDRESS(IFERROR(MATCH(VLOOKUP(E13,$AZ$3:$BB$83,2,0),INDIRECT("'"&VLOOKUP($E$3,$BD$3:$BE$83,2,0)&"'!$B:$B"),0),MATCH(9003,INDIRECT("'"&VLOOKUP($E$3,$BD$3:$BE$83,2,0)&"'!$B:$B"),0)+1),MATCH(VLOOKUP($E$4,$BF$3:$BR$21,8,0),INDIRECT("'"&VLOOKUP($E$3,$BD$3:$BE$83,2,0)&"'!$5:$5"),0))),0)+IFERROR(INDIRECT("'"&VLOOKUP($E$3,$BD$3:$BE$83,2,0)&"'!"&ADDRESS(IFERROR(MATCH(VLOOKUP(E13,$AZ$3:$BB$83,2,0),INDIRECT("'"&VLOOKUP($E$3,$BD$3:$BE$83,2,0)&"'!$B:$B"),0),MATCH(9003,INDIRECT("'"&VLOOKUP($E$3,$BD$3:$BE$83,2,0)&"'!$B:$B"),0)+1),MATCH(VLOOKUP($E$4,$BF$3:$BR$21,9,0),INDIRECT("'"&VLOOKUP($E$3,$BD$3:$BE$83,2,0)&"'!$5:$5"),0))),0)+IFERROR(INDIRECT("'"&VLOOKUP($E$3,$BD$3:$BE$83,2,0)&"'!"&ADDRESS(IFERROR(MATCH(VLOOKUP(E13,$AZ$3:$BB$83,2,0),INDIRECT("'"&VLOOKUP($E$3,$BD$3:$BE$83,2,0)&"'!$B:$B"),0),MATCH(9003,INDIRECT("'"&VLOOKUP($E$3,$BD$3:$BE$83,2,0)&"'!$B:$B"),0)+1),MATCH(VLOOKUP($E$4,$BF$3:$BR$21,10,0),INDIRECT("'"&VLOOKUP($E$3,$BD$3:$BE$83,2,0)&"'!$5:$5"),0))),0)+IFERROR(INDIRECT("'"&VLOOKUP($E$3,$BD$3:$BE$83,2,0)&"'!"&ADDRESS(IFERROR(MATCH(VLOOKUP(E13,$AZ$3:$BB$83,2,0),INDIRECT("'"&VLOOKUP($E$3,$BD$3:$BE$83,2,0)&"'!$B:$B"),0),MATCH(9003,INDIRECT("'"&VLOOKUP($E$3,$BD$3:$BE$83,2,0)&"'!$B:$B"),0)+1),MATCH(VLOOKUP($E$4,$BF$3:$BR$21,11,0),INDIRECT("'"&VLOOKUP($E$3,$BD$3:$BE$83,2,0)&"'!$5:$5"),0))),0) -> 9.0254767e+10 | AZ13: Corpus Sigorta AŞ | BA13: 1012 | BD13: Yangın ve Doğal Afetler | BE13: YANGIN VE DOĞAL AFETLER | BF13: Net Raporlanmayan Tazminatlar | BG13: 61101102 | BH13: 63101102 | BI13: 61102102 | BJ13: 63102102
B14: BNP Paribas Cardif Sigorta AŞ | C14: =IFERROR(INDIRECT("'"&VLOOKUP($B$3,$BD$3:$BE$83,2,0)&"'!"&ADDRESS(IFERROR(MATCH(VLOOKUP(B14,$AZ$3:$BB$83,2,0),INDIRECT("'"&VLOOKUP($B$3,$BD$3:$BE$83,2,0)&"'!$B:$B"),0),MATCH(9003,INDIRECT("'"&VLOOKUP($B$3,$BD$3:$BE$83,2,0)&"'!$B:$B"),0)+1),MATCH(VLOOKUP($B$4,$BF$3:$BR$21,2,0),INDIRECT("'"&VLOOKUP($B$3,$BD$3:$BE$83,2,0)&"'!$5:$5"),0))),0)+IFERROR(INDIRECT("'"&VLOOKUP($B$3,$BD$3:$BE$83,2,0)&"'!"&ADDRESS(IFERROR(MATCH(VLOOKUP(B14,$AZ$3:$BB$83,2,0),INDIRECT("'"&VLOOKUP($B$3,$BD$3:$BE$83,2,0)&"'!$B:$B"),0),MATCH(9003,INDIRECT("'"&VLOOKUP($B$3,$BD$3:$BE$83,2,0)&"'!$B:$B"),0)+1),MATCH(VLOOKUP($B$4,$BF$3:$BR$21,3,0),INDIRECT("'"&VLOOKUP($B$3,$BD$3:$BE$83,2,0)&"'!$5:$5"),0))),0)+IFERROR(INDIRECT("'"&VLOOKUP($B$3,$BD$3:$BE$83,2,0)&"'!"&ADDRESS(IFERROR(MATCH(VLOOKUP(B14,$AZ$3:$BB$83,2,0),INDIRECT("'"&VLOOKUP($B$3,$BD$3:$BE$83,2,0)&"'!$B:$B"),0),MATCH(9003,INDIRECT("'"&VLOOKUP($B$3,$BD$3:$BE$83,2,0)&"'!$B:$B"),0)+1),MATCH(VLOOKUP($B$4,$BF$3:$BR$21,4,0),INDIRECT("'"&VLOOKUP($B$3,$BD$3:$BE$83,2,0)&"'!$5:$5"),0))),0)+IFERROR(INDIRECT("'"&VLOOKUP($B$3,$BD$3:$BE$83,2,0)&"'!"&ADDRESS(IFERROR(MATCH(VLOOKUP(B14,$AZ$3:$BB$83,2,0),INDIRECT("'"&VLOOKUP($B$3,$BD$3:$BE$83,2,0)&"'!$B:$B"),0),MATCH(9003,INDIRECT("'"&VLOOKUP($B$3,$BD$3:$BE$83,2,0)&"'!$B:$B"),0)+1),MATCH(VLOOKUP($B$4,$BF$3:$BR$21,5,0),INDIRECT("'"&VLOOKUP($B$3,$BD$3:$BE$83,2,0)&"'!$5:$5"),0))),0)+IFERROR(INDIRECT("'"&VLOOKUP($B$3,$BD$3:$BE$83,2,0)&"'!"&ADDRESS(IFERROR(MATCH(VLOOKUP(B14,$AZ$3:$BB$83,2,0),INDIRECT("'"&VLOOKUP($B$3,$BD$3:$BE$83,2,0)&"'!$B:$B"),0),MATCH(9003,INDIRECT("'"&VLOOKUP($B$3,$BD$3:$BE$83,2,0)&"'!$B:$B"),0)+1),MATCH(VLOOKUP($B$4,$BF$3:$BR$21,6,0),INDIRECT("'"&VLOOKUP($B$3,$BD$3:$BE$83,2,0)&"'!$5:$5"),0))),0)+IFERROR(INDIRECT("'"&VLOOKUP($B$3,$BD$3:$BE$83,2,0)&"'!"&ADDRESS(IFERROR(MATCH(VLOOKUP(B14,$AZ$3:$BB$83,2,0),INDIRECT("'"&VLOOKUP($B$3,$BD$3:$BE$83,2,0)&"'!$B:$B"),0),MATCH(9003,INDIRECT("'"&VLOOKUP($B$3,$BD$3:$BE$83,2,0)&"'!$B:$B"),0)+1),MATCH(VLOOKUP($B$4,$BF$3:$BR$21,7,0),INDIRECT("'"&VLOOKUP($B$3,$BD$3:$BE$83,2,0)&"'!$5:$5"),0))),0)+IFERROR(INDIRECT("'"&VLOOKUP($B$3,$BD$3:$BE$83,2,0)&"'!"&ADDRESS(IFERROR(MATCH(VLOOKUP(B14,$AZ$3:$BB$83,2,0),INDIRECT("'"&VLOOKUP($B$3,$BD$3:$BE$83,2,0)&"'!$B:$B"),0),MATCH(9003,INDIRECT("'"&VLOOKUP($B$3,$BD$3:$BE$83,2,0)&"'!$B:$B"),0)+1),MATCH(VLOOKUP($B$4,$BF$3:$BR$21,8,0),INDIRECT("'"&VLOOKUP($B$3,$BD$3:$BE$83,2,0)&"'!$5:$5"),0))),0)+IFERROR(INDIRECT("'"&VLOOKUP($B$3,$BD$3:$BE$83,2,0)&"'!"&ADDRESS(IFERROR(MATCH(VLOOKUP(B14,$AZ$3:$BB$83,2,0),INDIRECT("'"&VLOOKUP($B$3,$BD$3:$BE$83,2,0)&"'!$B:$B"),0),MATCH(9003,INDIRECT("'"&VLOOKUP($B$3,$BD$3:$BE$83,2,0)&"'!$B:$B"),0)+1),MATCH(VLOOKUP($B$4,$BF$3:$BR$21,9,0),INDIRECT("'"&VLOOKUP($B$3,$BD$3:$BE$83,2,0)&"'!$5:$5"),0))),0)+IFERROR(INDIRECT("'"&VLOOKUP($B$3,$BD$3:$BE$83,2,0)&"'!"&ADDRESS(IFERROR(MATCH(VLOOKUP(B14,$AZ$3:$BB$83,2,0),INDIRECT("'"&VLOOKUP($B$3,$BD$3:$BE$83,2,0)&"'!$B:$B"),0),MATCH(9003,INDIRECT("'"&VLOOKUP($B$3,$BD$3:$BE$83,2,0)&"'!$B:$B"),0)+1),MATCH(VLOOKUP($B$4,$BF$3:$BR$21,10,0),INDIRECT("'"&VLOOKUP($B$3,$BD$3:$BE$83,2,0)&"'!$5:$5"),0))),0)+IFERROR(INDIRECT("'"&VLOOKUP($B$3,$BD$3:$BE$83,2,0)&"'!"&ADDRESS(IFERROR(MATCH(VLOOKUP(B14,$AZ$3:$BB$83,2,0),INDIRECT("'"&VLOOKUP($B$3,$BD$3:$BE$83,2,0)&"'!$B:$B"),0),MATCH(9003,INDIRECT("'"&VLOOKUP($B$3,$BD$3:$BE$83,2,0)&"'!$B:$B"),0)+1),MATCH(VLOOKUP($B$4,$BF$3:$BR$21,11,0),INDIRECT("'"&VLOOKUP($B$3,$BD$3:$BE$83,2,0)&"'!$5:$5"),0))),0) -> 5.7547289e+09 | E14: BNP Paribas Cardif Sigorta AŞ | F14: =IFERROR(INDIRECT("'"&VLOOKUP($E$3,$BD$3:$BE$83,2,0)&"'!"&ADDRESS(IFERROR(MATCH(VLOOKUP(E14,$AZ$3:$BB$83,2,0),INDIRECT("'"&VLOOKUP($E$3,$BD$3:$BE$83,2,0)&"'!$B:$B"),0),MATCH(9003,INDIRECT("'"&VLOOKUP($E$3,$BD$3:$BE$83,2,0)&"'!$B:$B"),0)+1),MATCH(VLOOKUP($E$4,$BF$3:$BR$21,2,0),INDIRECT("'"&VLOOKUP($E$3,$BD$3:$BE$83,2,0)&"'!$5:$5"),0))),0)+IFERROR(INDIRECT("'"&VLOOKUP($E$3,$BD$3:$BE$83,2,0)&"'!"&ADDRESS(IFERROR(MATCH(VLOOKUP(E14,$AZ$3:$BB$83,2,0),INDIRECT("'"&VLOOKUP($E$3,$BD$3:$BE$83,2,0)&"'!$B:$B"),0),MATCH(9003,INDIRECT("'"&VLOOKUP($E$3,$BD$3:$BE$83,2,0)&"'!$B:$B"),0)+1),MATCH(VLOOKUP($E$4,$BF$3:$BR$21,3,0),INDIRECT("'"&VLOOKUP($E$3,$BD$3:$BE$83,2,0)&"'!$5:$5"),0))),0)+IFERROR(INDIRECT("'"&VLOOKUP($E$3,$BD$3:$BE$83,2,0)&"'!"&ADDRESS(IFERROR(MATCH(VLOOKUP(E14,$AZ$3:$BB$83,2,0),INDIRECT("'"&VLOOKUP($E$3,$BD$3:$BE$83,2,0)&"'!$B:$B"),0),MATCH(9003,INDIRECT("'"&VLOOKUP($E$3,$BD$3:$BE$83,2,0)&"'!$B:$B"),0)+1),MATCH(VLOOKUP($E$4,$BF$3:$BR$21,4,0),INDIRECT("'"&VLOOKUP($E$3,$BD$3:$BE$83,2,0)&"'!$5:$5"),0))),0)+IFERROR(INDIRECT("'"&VLOOKUP($E$3,$BD$3:$BE$83,2,0)&"'!"&ADDRESS(IFERROR(MATCH(VLOOKUP(E14,$AZ$3:$BB$83,2,0),INDIRECT("'"&VLOOKUP($E$3,$BD$3:$BE$83,2,0)&"'!$B:$B"),0),MATCH(9003,INDIRECT("'"&VLOOKUP($E$3,$BD$3:$BE$83,2,0)&"'!$B:$B"),0)+1),MATCH(VLOOKUP($E$4,$BF$3:$BR$21,5,0),INDIRECT("'"&VLOOKUP($E$3,$BD$3:$BE$83,2,0)&"'!$5:$5"),0))),0)+IFERROR(INDIRECT("'"&VLOOKUP($E$3,$BD$3:$BE$83,2,0)&"'!"&ADDRESS(IFERROR(MATCH(VLOOKUP(E14,$AZ$3:$BB$83,2,0),INDIRECT("'"&VLOOKUP($E$3,$BD$3:$BE$83,2,0)&"'!$B:$B"),0),MATCH(9003,INDIRECT("'"&VLOOKUP($E$3,$BD$3:$BE$83,2,0)&"'!$B:$B"),0)+1),MATCH(VLOOKUP($E$4,$BF$3:$BR$21,6,0),INDIRECT("'"&VLOOKUP($E$3,$BD$3:$BE$83,2,0)&"'!$5:$5"),0))),0)+IFERROR(INDIRECT("'"&VLOOKUP($E$3,$BD$3:$BE$83,2,0)&"'!"&ADDRESS(IFERROR(MATCH(VLOOKUP(E14,$AZ$3:$BB$83,2,0),INDIRECT("'"&VLOOKUP($E$3,$BD$3:$BE$83,2,0)&"'!$B:$B"),0),MATCH(9003,INDIRECT("'"&VLOOKUP($E$3,$BD$3:$BE$83,2,0)&"'!$B:$B"),0)+1),MATCH(VLOOKUP($E$4,$BF$3:$BR$21,7,0),INDIRECT("'"&VLOOKUP($E$3,$BD$3:$BE$83,2,0)&"'!$5:$5"),0))),0)+IFERROR(INDIRECT("'"&VLOOKUP($E$3,$BD$3:$BE$83,2,0)&"'!"&ADDRESS(IFERROR(MATCH(VLOOKUP(E14,$AZ$3:$BB$83,2,0),INDIRECT("'"&VLOOKUP($E$3,$BD$3:$BE$83,2,0)&"'!$B:$B"),0),MATCH(9003,INDIRECT("'"&VLOOKUP($E$3,$BD$3:$BE$83,2,0)&"'!$B:$B"),0)+1),MATCH(VLOOKUP($E$4,$BF$3:$BR$21,8,0),INDIRECT("'"&VLOOKUP($E$3,$BD$3:$BE$83,2,0)&"'!$5:$5"),0))),0)+IFERROR(INDIRECT("'"&VLOOKUP($E$3,$BD$3:$BE$83,2,0)&"'!"&ADDRESS(IFERROR(MATCH(VLOOKUP(E14,$AZ$3:$BB$83,2,0),INDIRECT("'"&VLOOKUP($E$3,$BD$3:$BE$83,2,0)&"'!$B:$B"),0),MATCH(9003,INDIRECT("'"&VLOOKUP($E$3,$BD$3:$BE$83,2,0)&"'!$B:$B"),0)+1),MATCH(VLOOKUP($E$4,$BF$3:$BR$21,9,0),INDIRECT("'"&VLOOKUP($E$3,$BD$3:$BE$83,2,0)&"'!$5:$5"),0))),0)+IFERROR(INDIRECT("'"&VLOOKUP($E$3,$BD$3:$BE$83,2,0)&"'!"&ADDRESS(IFERROR(MATCH(VLOOKUP(E14,$AZ$3:$BB$83,2,0),INDIRECT("'"&VLOOKUP($E$3,$BD$3:$BE$83,2,0)&"'!$B:$B"),0),MATCH(9003,INDIRECT("'"&VLOOKUP($E$3,$BD$3:$BE$83,2,0)&"'!$B:$B"),0)+1),MATCH(VLOOKUP($E$4,$BF$3:$BR$21,10,0),INDIRECT("'"&VLOOKUP($E$3,$BD$3:$BE$83,2,0)&"'!$5:$5"),0))),0)+IFERROR(INDIRECT("'"&VLOOKUP($E$3,$BD$3:$BE$83,2,0)&"'!"&ADDRESS(IFERROR(MATCH(VLOOKUP(E14,$AZ$3:$BB$83,2,0),INDIRECT("'"&VLOOKUP($E$3,$BD$3:$BE$83,2,0)&"'!$B:$B"),0),MATCH(9003,INDIRECT("'"&VLOOKUP($E$3,$BD$3:$BE$83,2,0)&"'!$B:$B"),0)+1),MATCH(VLOOKUP($E$4,$BF$3:$BR$21,11,0),INDIRECT("'"&VLOOKUP($E$3,$BD$3:$BE$83,2,0)&"'!$5:$5"),0))),0) -> 5.7547289e+09 | AZ14: VHV Allgemeine Sigorta AŞ | BA14: 1013 | BD14: Genel Zararlar | BE14: GENEL ZARARLAR | BF14: Net Gerçekleşen Hasarlar | BG14: 610 | BH14: 630 | BI14: 611 | BJ14: 631
B15: Coface Sigorta AŞ | C15: =IFERROR(INDIRECT("'"&VLOOKUP($B$3,$BD$3:$BE$83,2,0)&"'!"&ADDRESS(IFERROR(MATCH(VLOOKUP(B15,$AZ$3:$BB$83,2,0),INDIRECT("'"&VLOOKUP($B$3,$BD$3:$BE$83,2,0)&"'!$B:$B"),0),MATCH(9003,INDIRECT("'"&VLOOKUP($B$3,$BD$3:$BE$83,2,0)&"'!$B:$B"),0)+1),MATCH(VLOOKUP($B$4,$BF$3:$BR$21,2,0),INDIRECT("'"&VLOOKUP($B$3,$BD$3:$BE$83,2,0)&"'!$5:$5"),0))),0)+IFERROR(INDIRECT("'"&VLOOKUP($B$3,$BD$3:$BE$83,2,0)&"'!"&ADDRESS(IFERROR(MATCH(VLOOKUP(B15,$AZ$3:$BB$83,2,0),INDIRECT("'"&VLOOKUP($B$3,$BD$3:$BE$83,2,0)&"'!$B:$B"),0),MATCH(9003,INDIRECT("'"&VLOOKUP($B$3,$BD$3:$BE$83,2,0)&"'!$B:$B"),0)+1),MATCH(VLOOKUP($B$4,$BF$3:$BR$21,3,0),INDIRECT("'"&VLOOKUP($B$3,$BD$3:$BE$83,2,0)&"'!$5:$5"),0))),0)+IFERROR(INDIRECT("'"&VLOOKUP($B$3,$BD$3:$BE$83,2,0)&"'!"&ADDRESS(IFERROR(MATCH(VLOOKUP(B15,$AZ$3:$BB$83,2,0),INDIRECT("'"&VLOOKUP($B$3,$BD$3:$BE$83,2,0)&"'!$B:$B"),0),MATCH(9003,INDIRECT("'"&VLOOKUP($B$3,$BD$3:$BE$83,2,0)&"'!$B:$B"),0)+1),MATCH(VLOOKUP($B$4,$BF$3:$BR$21,4,0),INDIRECT("'"&VLOOKUP($B$3,$BD$3:$BE$83,2,0)&"'!$5:$5"),0))),0)+IFERROR(INDIRECT("'"&VLOOKUP($B$3,$BD$3:$BE$83,2,0)&"'!"&ADDRESS(IFERROR(MATCH(VLOOKUP(B15,$AZ$3:$BB$83,2,0),INDIRECT("'"&VLOOKUP($B$3,$BD$3:$BE$83,2,0)&"'!$B:$B"),0),MATCH(9003,INDIRECT("'"&VLOOKUP($B$3,$BD$3:$BE$83,2,0)&"'!$B:$B"),0)+1),MATCH(VLOOKUP($B$4,$BF$3:$BR$21,5,0),INDIRECT("'"&VLOOKUP($B$3,$BD$3:$BE$83,2,0)&"'!$5:$5"),0))),0)+IFERROR(INDIRECT("'"&VLOOKUP($B$3,$BD$3:$BE$83,2,0)&"'!"&ADDRESS(IFERROR(MATCH(VLOOKUP(B15,$AZ$3:$BB$83,2,0),INDIRECT("'"&VLOOKUP($B$3,$BD$3:$BE$83,2,0)&"'!$B:$B"),0),MATCH(9003,INDIRECT("'"&VLOOKUP($B$3,$BD$3:$BE$83,2,0)&"'!$B:$B"),0)+1),MATCH(VLOOKUP($B$4,$BF$3:$BR$21,6,0),INDIRECT("'"&VLOOKUP($B$3,$BD$3:$BE$83,2,0)&"'!$5:$5"),0))),0)+IFERROR(INDIRECT("'"&VLOOKUP($B$3,$BD$3:$BE$83,2,0)&"'!"&ADDRESS(IFERROR(MATCH(VLOOKUP(B15,$AZ$3:$BB$83,2,0),INDIRECT("'"&VLOOKUP($B$3,$BD$3:$BE$83,2,0)&"'!$B:$B"),0),MATCH(9003,INDIRECT("'"&VLOOKUP($B$3,$BD$3:$BE$83,2,0)&"'!$B:$B"),0)+1),MATCH(VLOOKUP($B$4,$BF$3:$BR$21,7,0),INDIRECT("'"&VLOOKUP($B$3,$BD$3:$BE$83,2,0)&"'!$5:$5"),0))),0)+IFERROR(INDIRECT("'"&VLOOKUP($B$3,$BD$3:$BE$83,2,0)&"'!"&ADDRESS(IFERROR(MATCH(VLOOKUP(B15,$AZ$3:$BB$83,2,0),INDIRECT("'"&VLOOKUP($B$3,$BD$3:$BE$83,2,0)&"'!$B:$B"),0),MATCH(9003,INDIRECT("'"&VLOOKUP($B$3,$BD$3:$BE$83,2,0)&"'!$B:$B"),0)+1),MATCH(VLOOKUP($B$4,$BF$3:$BR$21,8,0),INDIRECT("'"&VLOOKUP($B$3,$BD$3:$BE$83,2,0)&"'!$5:$5"),0))),0)+IFERROR(INDIRECT("'"&VLOOKUP($B$3,$BD$3:$BE$83,2,0)&"'!"&ADDRESS(IFERROR(MATCH(VLOOKUP(B15,$AZ$3:$BB$83,2,0),INDIRECT("'"&VLOOKUP($B$3,$BD$3:$BE$83,2,0)&"'!$B:$B"),0),MATCH(9003,INDIRECT("'"&VLOOKUP($B$3,$BD$3:$BE$83,2,0)&"'!$B:$B"),0)+1),MATCH(VLOOKUP($B$4,$BF$3:$BR$21,9,0),INDIRECT("'"&VLOOKUP($B$3,$BD$3:$BE$83,2,0)&"'!$5:$5"),0))),0)+IFERROR(INDIRECT("'"&VLOOKUP($B$3,$BD$3:$BE$83,2,0)&"'!"&ADDRESS(IFERROR(MATCH(VLOOKUP(B15,$AZ$3:$BB$83,2,0),INDIRECT("'"&VLOOKUP($B$3,$BD$3:$BE$83,2,0)&"'!$B:$B"),0),MATCH(9003,INDIRECT("'"&VLOOKUP($B$3,$BD$3:$BE$83,2,0)&"'!$B:$B"),0)+1),MATCH(VLOOKUP($B$4,$BF$3:$BR$21,10,0),INDIRECT("'"&VLOOKUP($B$3,$BD$3:$BE$83,2,0)&"'!$5:$5"),0))),0)+IFERROR(INDIRECT("'"&VLOOKUP($B$3,$BD$3:$BE$83,2,0)&"'!"&ADDRESS(IFERROR(MATCH(VLOOKUP(B15,$AZ$3:$BB$83,2,0),INDIRECT("'"&VLOOKUP($B$3,$BD$3:$BE$83,2,0)&"'!$B:$B"),0),MATCH(9003,INDIRECT("'"&VLOOKUP($B$3,$BD$3:$BE$83,2,0)&"'!$B:$B"),0)+1),MATCH(VLOOKUP($B$4,$BF$3:$BR$21,11,0),INDIRECT("'"&VLOOKUP($B$3,$BD$3:$BE$83,2,0)&"'!$5:$5"),0))),0) -> 1.1039193e+09 | E15: Coface Sigorta AŞ | F15: =IFERROR(INDIRECT("'"&VLOOKUP($E$3,$BD$3:$BE$83,2,0)&"'!"&ADDRESS(IFERROR(MATCH(VLOOKUP(E15,$AZ$3:$BB$83,2,0),INDIRECT("'"&VLOOKUP($E$3,$BD$3:$BE$83,2,0)&"'!$B:$B"),0),MATCH(9003,INDIRECT("'"&VLOOKUP($E$3,$BD$3:$BE$83,2,0)&"'!$B:$B"),0)+1),MATCH(VLOOKUP($E$4,$BF$3:$BR$21,2,0),INDIRECT("'"&VLOOKUP($E$3,$BD$3:$BE$83,2,0)&"'!$5:$5"),0))),0)+IFERROR(INDIRECT("'"&VLOOKUP($E$3,$BD$3:$BE$83,2,0)&"'!"&ADDRESS(IFERROR(MATCH(VLOOKUP(E15,$AZ$3:$BB$83,2,0),INDIRECT("'"&VLOOKUP($E$3,$BD$3:$BE$83,2,0)&"'!$B:$B"),0),MATCH(9003,INDIRECT("'"&VLOOKUP($E$3,$BD$3:$BE$83,2,0)&"'!$B:$B"),0)+1),MATCH(VLOOKUP($E$4,$BF$3:$BR$21,3,0),INDIRECT("'"&VLOOKUP($E$3,$BD$3:$BE$83,2,0)&"'!$5:$5"),0))),0)+IFERROR(INDIRECT("'"&VLOOKUP($E$3,$BD$3:$BE$83,2,0)&"'!"&ADDRESS(IFERROR(MATCH(VLOOKUP(E15,$AZ$3:$BB$83,2,0),INDIRECT("'"&VLOOKUP($E$3,$BD$3:$BE$83,2,0)&"'!$B:$B"),0),MATCH(9003,INDIRECT("'"&VLOOKUP($E$3,$BD$3:$BE$83,2,0)&"'!$B:$B"),0)+1),MATCH(VLOOKUP($E$4,$BF$3:$BR$21,4,0),INDIRECT("'"&VLOOKUP($E$3,$BD$3:$BE$83,2,0)&"'!$5:$5"),0))),0)+IFERROR(INDIRECT("'"&VLOOKUP($E$3,$BD$3:$BE$83,2,0)&"'!"&ADDRESS(IFERROR(MATCH(VLOOKUP(E15,$AZ$3:$BB$83,2,0),INDIRECT("'"&VLOOKUP($E$3,$BD$3:$BE$83,2,0)&"'!$B:$B"),0),MATCH(9003,INDIRECT("'"&VLOOKUP($E$3,$BD$3:$BE$83,2,0)&"'!$B:$B"),0)+1),MATCH(VLOOKUP($E$4,$BF$3:$BR$21,5,0),INDIRECT("'"&VLOOKUP($E$3,$BD$3:$BE$83,2,0)&"'!$5:$5"),0))),0)+IFERROR(INDIRECT("'"&VLOOKUP($E$3,$BD$3:$BE$83,2,0)&"'!"&ADDRESS(IFERROR(MATCH(VLOOKUP(E15,$AZ$3:$BB$83,2,0),INDIRECT("'"&VLOOKUP($E$3,$BD$3:$BE$83,2,0)&"'!$B:$B"),0),MATCH(9003,INDIRECT("'"&VLOOKUP($E$3,$BD$3:$BE$83,2,0)&"'!$B:$B"),0)+1),MATCH(VLOOKUP($E$4,$BF$3:$BR$21,6,0),INDIRECT("'"&VLOOKUP($E$3,$BD$3:$BE$83,2,0)&"'!$5:$5"),0))),0)+IFERROR(INDIRECT("'"&VLOOKUP($E$3,$BD$3:$BE$83,2,0)&"'!"&ADDRESS(IFERROR(MATCH(VLOOKUP(E15,$AZ$3:$BB$83,2,0),INDIRECT("'"&VLOOKUP($E$3,$BD$3:$BE$83,2,0)&"'!$B:$B"),0),MATCH(9003,INDIRECT("'"&VLOOKUP($E$3,$BD$3:$BE$83,2,0)&"'!$B:$B"),0)+1),MATCH(VLOOKUP($E$4,$BF$3:$BR$21,7,0),INDIRECT("'"&VLOOKUP($E$3,$BD$3:$BE$83,2,0)&"'!$5:$5"),0))),0)+IFERROR(INDIRECT("'"&VLOOKUP($E$3,$BD$3:$BE$83,2,0)&"'!"&ADDRESS(IFERROR(MATCH(VLOOKUP(E15,$AZ$3:$BB$83,2,0),INDIRECT("'"&VLOOKUP($E$3,$BD$3:$BE$83,2,0)&"'!$B:$B"),0),MATCH(9003,INDIRECT("'"&VLOOKUP($E$3,$BD$3:$BE$83,2,0)&"'!$B:$B"),0)+1),MATCH(VLOOKUP($E$4,$BF$3:$BR$21,8,0),INDIRECT("'"&VLOOKUP($E$3,$BD$3:$BE$83,2,0)&"'!$5:$5"),0))),0)+IFERROR(INDIRECT("'"&VLOOKUP($E$3,$BD$3:$BE$83,2,0)&"'!"&ADDRESS(IFERROR(MATCH(VLOOKUP(E15,$AZ$3:$BB$83,2,0),INDIRECT("'"&VLOOKUP($E$3,$BD$3:$BE$83,2,0)&"'!$B:$B"),0),MATCH(9003,INDIRECT("'"&VLOOKUP($E$3,$BD$3:$BE$83,2,0)&"'!$B:$B"),0)+1),MATCH(VLOOKUP($E$4,$BF$3:$BR$21,9,0),INDIRECT("'"&VLOOKUP($E$3,$BD$3:$BE$83,2,0)&"'!$5:$5"),0))),0)+IFERROR(INDIRECT("'"&VLOOKUP($E$3,$BD$3:$BE$83,2,0)&"'!"&ADDRESS(IFERROR(MATCH(VLOOKUP(E15,$AZ$3:$BB$83,2,0),INDIRECT("'"&VLOOKUP($E$3,$BD$3:$BE$83,2,0)&"'!$B:$B"),0),MATCH(9003,INDIRECT("'"&VLOOKUP($E$3,$BD$3:$BE$83,2,0)&"'!$B:$B"),0)+1),MATCH(VLOOKUP($E$4,$BF$3:$BR$21,10,0),INDIRECT("'"&VLOOKUP($E$3,$BD$3:$BE$83,2,0)&"'!$5:$5"),0))),0)+IFERROR(INDIRECT("'"&VLOOKUP($E$3,$BD$3:$BE$83,2,0)&"'!"&ADDRESS(IFERROR(MATCH(VLOOKUP(E15,$AZ$3:$BB$83,2,0),INDIRECT("'"&VLOOKUP($E$3,$BD$3:$BE$83,2,0)&"'!$B:$B"),0),MATCH(9003,INDIRECT("'"&VLOOKUP($E$3,$BD$3:$BE$83,2,0)&"'!$B:$B"),0)+1),MATCH(VLOOKUP($E$4,$BF$3:$BR$21,11,0),INDIRECT("'"&VLOOKUP($E$3,$BD$3:$BE$83,2,0)&"'!$5:$5"),0))),0) -> 1.1039193e+09 | AZ15: Euler Hermes Sigorta AŞ | BA15: 1016 | BD15: Kara Araçları Sorumluluk | BE15: KARA ARAÇLARI SORUMLULUK | BF15: Teknik Kar Zarar
B16: Corpus Sigorta AŞ | C16: =IFERROR(INDIRECT("'"&VLOOKUP($B$3,$BD$3:$BE$83,2,0)&"'!"&ADDRESS(IFERROR(MATCH(VLOOKUP(B16,$AZ$3:$BB$83,2,0),INDIRECT("'"&VLOOKUP($B$3,$BD$3:$BE$83,2,0)&"'!$B:$B"),0),MATCH(9003,INDIRECT("'"&VLOOKUP($B$3,$BD$3:$BE$83,2,0)&"'!$B:$B"),0)+1),MATCH(VLOOKUP($B$4,$BF$3:$BR$21,2,0),INDIRECT("'"&VLOOKUP($B$3,$BD$3:$BE$83,2,0)&"'!$5:$5"),0))),0)+IFERROR(INDIRECT("'"&VLOOKUP($B$3,$BD$3:$BE$83,2,0)&"'!"&ADDRESS(IFERROR(MATCH(VLOOKUP(B16,$AZ$3:$BB$83,2,0),INDIRECT("'"&VLOOKUP($B$3,$BD$3:$BE$83,2,0)&"'!$B:$B"),0),MATCH(9003,INDIRECT("'"&VLOOKUP($B$3,$BD$3:$BE$83,2,0)&"'!$B:$B"),0)+1),MATCH(VLOOKUP($B$4,$BF$3:$BR$21,3,0),INDIRECT("'"&VLOOKUP($B$3,$BD$3:$BE$83,2,0)&"'!$5:$5"),0))),0)+IFERROR(INDIRECT("'"&VLOOKUP($B$3,$BD$3:$BE$83,2,0)&"'!"&ADDRESS(IFERROR(MATCH(VLOOKUP(B16,$AZ$3:$BB$83,2,0),INDIRECT("'"&VLOOKUP($B$3,$BD$3:$BE$83,2,0)&"'!$B:$B"),0),MATCH(9003,INDIRECT("'"&VLOOKUP($B$3,$BD$3:$BE$83,2,0)&"'!$B:$B"),0)+1),MATCH(VLOOKUP($B$4,$BF$3:$BR$21,4,0),INDIRECT("'"&VLOOKUP($B$3,$BD$3:$BE$83,2,0)&"'!$5:$5"),0))),0)+IFERROR(INDIRECT("'"&VLOOKUP($B$3,$BD$3:$BE$83,2,0)&"'!"&ADDRESS(IFERROR(MATCH(VLOOKUP(B16,$AZ$3:$BB$83,2,0),INDIRECT("'"&VLOOKUP($B$3,$BD$3:$BE$83,2,0)&"'!$B:$B"),0),MATCH(9003,INDIRECT("'"&VLOOKUP($B$3,$BD$3:$BE$83,2,0)&"'!$B:$B"),0)+1),MATCH(VLOOKUP($B$4,$BF$3:$BR$21,5,0),INDIRECT("'"&VLOOKUP($B$3,$BD$3:$BE$83,2,0)&"'!$5:$5"),0))),0)+IFERROR(INDIRECT("'"&VLOOKUP($B$3,$BD$3:$BE$83,2,0)&"'!"&ADDRESS(IFERROR(MATCH(VLOOKUP(B16,$AZ$3:$BB$83,2,0),INDIRECT("'"&VLOOKUP($B$3,$BD$3:$BE$83,2,0)&"'!$B:$B"),0),MATCH(9003,INDIRECT("'"&VLOOKUP($B$3,$BD$3:$BE$83,2,0)&"'!$B:$B"),0)+1),MATCH(VLOOKUP($B$4,$BF$3:$BR$21,6,0),INDIRECT("'"&VLOOKUP($B$3,$BD$3:$BE$83,2,0)&"'!$5:$5"),0))),0)+IFERROR(INDIRECT("'"&VLOOKUP($B$3,$BD$3:$BE$83,2,0)&"'!"&ADDRESS(IFERROR(MATCH(VLOOKUP(B16,$AZ$3:$BB$83,2,0),INDIRECT("'"&VLOOKUP($B$3,$BD$3:$BE$83,2,0)&"'!$B:$B"),0),MATCH(9003,INDIRECT("'"&VLOOKUP($B$3,$BD$3:$BE$83,2,0)&"'!$B:$B"),0)+1),MATCH(VLOOKUP($B$4,$BF$3:$BR$21,7,0),INDIRECT("'"&VLOOKUP($B$3,$BD$3:$BE$83,2,0)&"'!$5:$5"),0))),0)+IFERROR(INDIRECT("'"&VLOOKUP($B$3,$BD$3:$BE$83,2,0)&"'!"&ADDRESS(IFERROR(MATCH(VLOOKUP(B16,$AZ$3:$BB$83,2,0),INDIRECT("'"&VLOOKUP($B$3,$BD$3:$BE$83,2,0)&"'!$B:$B"),0),MATCH(9003,INDIRECT("'"&VLOOKUP($B$3,$BD$3:$BE$83,2,0)&"'!$B:$B"),0)+1),MATCH(VLOOKUP($B$4,$BF$3:$BR$21,8,0),INDIRECT("'"&VLOOKUP($B$3,$BD$3:$BE$83,2,0)&"'!$5:$5"),0))),0)+IFERROR(INDIRECT("'"&VLOOKUP($B$3,$BD$3:$BE$83,2,0)&"'!"&ADDRESS(IFERROR(MATCH(VLOOKUP(B16,$AZ$3:$BB$83,2,0),INDIRECT("'"&VLOOKUP($B$3,$BD$3:$BE$83,2,0)&"'!$B:$B"),0),MATCH(9003,INDIRECT("'"&VLOOKUP($B$3,$BD$3:$BE$83,2,0)&"'!$B:$B"),0)+1),MATCH(VLOOKUP($B$4,$BF$3:$BR$21,9,0),INDIRECT("'"&VLOOKUP($B$3,$BD$3:$BE$83,2,0)&"'!$5:$5"),0))),0)+IFERROR(INDIRECT("'"&VLOOKUP($B$3,$BD$3:$BE$83,2,0)&"'!"&ADDRESS(IFERROR(MATCH(VLOOKUP(B16,$AZ$3:$BB$83,2,0),INDIRECT("'"&VLOOKUP($B$3,$BD$3:$BE$83,2,0)&"'!$B:$B"),0),MATCH(9003,INDIRECT("'"&VLOOKUP($B$3,$BD$3:$BE$83,2,0)&"'!$B:$B"),0)+1),MATCH(VLOOKUP($B$4,$BF$3:$BR$21,10,0),INDIRECT("'"&VLOOKUP($B$3,$BD$3:$BE$83,2,0)&"'!$5:$5"),0))),0)+IFERROR(INDIRECT("'"&VLOOKUP($B$3,$BD$3:$BE$83,2,0)&"'!"&ADDRESS(IFERROR(MATCH(VLOOKUP(B16,$AZ$3:$BB$83,2,0),INDIRECT("'"&VLOOKUP($B$3,$BD$3:$BE$83,2,0)&"'!$B:$B"),0),MATCH(9003,INDIRECT("'"&VLOOKUP($B$3,$BD$3:$BE$83,2,0)&"'!$B:$B"),0)+1),MATCH(VLOOKUP($B$4,$BF$3:$BR$21,11,0),INDIRECT("'"&VLOOKUP($B$3,$BD$3:$BE$83,2,0)&"'!$5:$5"),0))),0) -> 8.0368431e+09 | E16: Corpus Sigorta AŞ | F16: =IFERROR(INDIRECT("'"&VLOOKUP($E$3,$BD$3:$BE$83,2,0)&"'!"&ADDRESS(IFERROR(MATCH(VLOOKUP(E16,$AZ$3:$BB$83,2,0),INDIRECT("'"&VLOOKUP($E$3,$BD$3:$BE$83,2,0)&"'!$B:$B"),0),MATCH(9003,INDIRECT("'"&VLOOKUP($E$3,$BD$3:$BE$83,2,0)&"'!$B:$B"),0)+1),MATCH(VLOOKUP($E$4,$BF$3:$BR$21,2,0),INDIRECT("'"&VLOOKUP($E$3,$BD$3:$BE$83,2,0)&"'!$5:$5"),0))),0)+IFERROR(INDIRECT("'"&VLOOKUP($E$3,$BD$3:$BE$83,2,0)&"'!"&ADDRESS(IFERROR(MATCH(VLOOKUP(E16,$AZ$3:$BB$83,2,0),INDIRECT("'"&VLOOKUP($E$3,$BD$3:$BE$83,2,0)&"'!$B:$B"),0),MATCH(9003,INDIRECT("'"&VLOOKUP($E$3,$BD$3:$BE$83,2,0)&"'!$B:$B"),0)+1),MATCH(VLOOKUP($E$4,$BF$3:$BR$21,3,0),INDIRECT("'"&VLOOKUP($E$3,$BD$3:$BE$83,2,0)&"'!$5:$5"),0))),0)+IFERROR(INDIRECT("'"&VLOOKUP($E$3,$BD$3:$BE$83,2,0)&"'!"&ADDRESS(IFERROR(MATCH(VLOOKUP(E16,$AZ$3:$BB$83,2,0),INDIRECT("'"&VLOOKUP($E$3,$BD$3:$BE$83,2,0)&"'!$B:$B"),0),MATCH(9003,INDIRECT("'"&VLOOKUP($E$3,$BD$3:$BE$83,2,0)&"'!$B:$B"),0)+1),MATCH(VLOOKUP($E$4,$BF$3:$BR$21,4,0),INDIRECT("'"&VLOOKUP($E$3,$BD$3:$BE$83,2,0)&"'!$5:$5"),0))),0)+IFERROR(INDIRECT("'"&VLOOKUP($E$3,$BD$3:$BE$83,2,0)&"'!"&ADDRESS(IFERROR(MATCH(VLOOKUP(E16,$AZ$3:$BB$83,2,0),INDIRECT("'"&VLOOKUP($E$3,$BD$3:$BE$83,2,0)&"'!$B:$B"),0),MATCH(9003,INDIRECT("'"&VLOOKUP($E$3,$BD$3:$BE$83,2,0)&"'!$B:$B"),0)+1),MATCH(VLOOKUP($E$4,$BF$3:$BR$21,5,0),INDIRECT("'"&VLOOKUP($E$3,$BD$3:$BE$83,2,0)&"'!$5:$5"),0))),0)+IFERROR(INDIRECT("'"&VLOOKUP($E$3,$BD$3:$BE$83,2,0)&"'!"&ADDRESS(IFERROR(MATCH(VLOOKUP(E16,$AZ$3:$BB$83,2,0),INDIRECT("'"&VLOOKUP($E$3,$BD$3:$BE$83,2,0)&"'!$B:$B"),0),MATCH(9003,INDIRECT("'"&VLOOKUP($E$3,$BD$3:$BE$83,2,0)&"'!$B:$B"),0)+1),MATCH(VLOOKUP($E$4,$BF$3:$BR$21,6,0),INDIRECT("'"&VLOOKUP($E$3,$BD$3:$BE$83,2,0)&"'!$5:$5"),0))),0)+IFERROR(INDIRECT("'"&VLOOKUP($E$3,$BD$3:$BE$83,2,0)&"'!"&ADDRESS(IFERROR(MATCH(VLOOKUP(E16,$AZ$3:$BB$83,2,0),INDIRECT("'"&VLOOKUP($E$3,$BD$3:$BE$83,2,0)&"'!$B:$B"),0),MATCH(9003,INDIRECT("'"&VLOOKUP($E$3,$BD$3:$BE$83,2,0)&"'!$B:$B"),0)+1),MATCH(VLOOKUP($E$4,$BF$3:$BR$21,7,0),INDIRECT("'"&VLOOKUP($E$3,$BD$3:$BE$83,2,0)&"'!$5:$5"),0))),0)+IFERROR(INDIRECT("'"&VLOOKUP($E$3,$BD$3:$BE$83,2,0)&"'!"&ADDRESS(IFERROR(MATCH(VLOOKUP(E16,$AZ$3:$BB$83,2,0),INDIRECT("'"&VLOOKUP($E$3,$BD$3:$BE$83,2,0)&"'!$B:$B"),0),MATCH(9003,INDIRECT("'"&VLOOKUP($E$3,$BD$3:$BE$83,2,0)&"'!$B:$B"),0)+1),MATCH(VLOOKUP($E$4,$BF$3:$BR$21,8,0),INDIRECT("'"&VLOOKUP($E$3,$BD$3:$BE$83,2,0)&"'!$5:$5"),0))),0)+IFERROR(INDIRECT("'"&VLOOKUP($E$3,$BD$3:$BE$83,2,0)&"'!"&ADDRESS(IFERROR(MATCH(VLOOKUP(E16,$AZ$3:$BB$83,2,0),INDIRECT("'"&VLOOKUP($E$3,$BD$3:$BE$83,2,0)&"'!$B:$B"),0),MATCH(9003,INDIRECT("'"&VLOOKUP($E$3,$BD$3:$BE$83,2,0)&"'!$B:$B"),0)+1),MATCH(VLOOKUP($E$4,$BF$3:$BR$21,9,0),INDIRECT("'"&VLOOKUP($E$3,$BD$3:$BE$83,2,0)&"'!$5:$5"),0))),0)+IFERROR(INDIRECT("'"&VLOOKUP($E$3,$BD$3:$BE$83,2,0)&"'!"&ADDRESS(IFERROR(MATCH(VLOOKUP(E16,$AZ$3:$BB$83,2,0),INDIRECT("'"&VLOOKUP($E$3,$BD$3:$BE$83,2,0)&"'!$B:$B"),0),MATCH(9003,INDIRECT("'"&VLOOKUP($E$3,$BD$3:$BE$83,2,0)&"'!$B:$B"),0)+1),MATCH(VLOOKUP($E$4,$BF$3:$BR$21,10,0),INDIRECT("'"&VLOOKUP($E$3,$BD$3:$BE$83,2,0)&"'!$5:$5"),0))),0)+IFERROR(INDIRECT("'"&VLOOKUP($E$3,$BD$3:$BE$83,2,0)&"'!"&ADDRESS(IFERROR(MATCH(VLOOKUP(E16,$AZ$3:$BB$83,2,0),INDIRECT("'"&VLOOKUP($E$3,$BD$3:$BE$83,2,0)&"'!$B:$B"),0),MATCH(9003,INDIRECT("'"&VLOOKUP($E$3,$BD$3:$BE$83,2,0)&"'!$B:$B"),0)+1),MATCH(VLOOKUP($E$4,$BF$3:$BR$21,11,0),INDIRECT("'"&VLOOKUP($E$3,$BD$3:$BE$83,2,0)&"'!$5:$5"),0))),0) -> 8.0368431e+09 | AZ16: Eureko Sigorta AŞ | BA16: 1017 | BD16: Trafik | BE16: TRAFİK | BF16: =#REF! -> #REF! | BG16: =#REF! -> #REF! | BH16: =#REF! -> #REF! | BI16: =#REF! -> #REF! | BJ16: =#REF! -> #REF! | BK16: =#REF! -> #REF! | BL16: =#REF! -> #REF! | BM16: =#REF! -> #REF! | ... BP16: =#REF! -> #REF!
B17: VHV Allgemeine Sigorta AŞ | C17: =IFERROR(INDIRECT("'"&VLOOKUP($B$3,$BD$3:$BE$83,2,0)&"'!"&ADDRESS(IFERROR(MATCH(VLOOKUP(B17,$AZ$3:$BB$83,2,0),INDIRECT("'"&VLOOKUP($B$3,$BD$3:$BE$83,2,0)&"'!$B:$B"),0),MATCH(9003,INDIRECT("'"&VLOOKUP($B$3,$BD$3:$BE$83,2,0)&"'!$B:$B"),0)+1),MATCH(VLOOKUP($B$4,$BF$3:$BR$21,2,0),INDIRECT("'"&VLOOKUP($B$3,$BD$3:$BE$83,2,0)&"'!$5:$5"),0))),0)+IFERROR(INDIRECT("'"&VLOOKUP($B$3,$BD$3:$BE$83,2,0)&"'!"&ADDRESS(IFERROR(MATCH(VLOOKUP(B17,$AZ$3:$BB$83,2,0),INDIRECT("'"&VLOOKUP($B$3,$BD$3:$BE$83,2,0)&"'!$B:$B"),0),MATCH(9003,INDIRECT("'"&VLOOKUP($B$3,$BD$3:$BE$83,2,0)&"'!$B:$B"),0)+1),MATCH(VLOOKUP($B$4,$BF$3:$BR$21,3,0),INDIRECT("'"&VLOOKUP($B$3,$BD$3:$BE$83,2,0)&"'!$5:$5"),0))),0)+IFERROR(INDIRECT("'"&VLOOKUP($B$3,$BD$3:$BE$83,2,0)&"'!"&ADDRESS(IFERROR(MATCH(VLOOKUP(B17,$AZ$3:$BB$83,2,0),INDIRECT("'"&VLOOKUP($B$3,$BD$3:$BE$83,2,0)&"'!$B:$B"),0),MATCH(9003,INDIRECT("'"&VLOOKUP($B$3,$BD$3:$BE$83,2,0)&"'!$B:$B"),0)+1),MATCH(VLOOKUP($B$4,$BF$3:$BR$21,4,0),INDIRECT("'"&VLOOKUP($B$3,$BD$3:$BE$83,2,0)&"'!$5:$5"),0))),0)+IFERROR(INDIRECT("'"&VLOOKUP($B$3,$BD$3:$BE$83,2,0)&"'!"&ADDRESS(IFERROR(MATCH(VLOOKUP(B17,$AZ$3:$BB$83,2,0),INDIRECT("'"&VLOOKUP($B$3,$BD$3:$BE$83,2,0)&"'!$B:$B"),0),MATCH(9003,INDIRECT("'"&VLOOKUP($B$3,$BD$3:$BE$83,2,0)&"'!$B:$B"),0)+1),MATCH(VLOOKUP($B$4,$BF$3:$BR$21,5,0),INDIRECT("'"&VLOOKUP($B$3,$BD$3:$BE$83,2,0)&"'!$5:$5"),0))),0)+IFERROR(INDIRECT("'"&VLOOKUP($B$3,$BD$3:$BE$83,2,0)&"'!"&ADDRESS(IFERROR(MATCH(VLOOKUP(B17,$AZ$3:$BB$83,2,0),INDIRECT("'"&VLOOKUP($B$3,$BD$3:$BE$83,2,0)&"'!$B:$B"),0),MATCH(9003,INDIRECT("'"&VLOOKUP($B$3,$BD$3:$BE$83,2,0)&"'!$B:$B"),0)+1),MATCH(VLOOKUP($B$4,$BF$3:$BR$21,6,0),INDIRECT("'"&VLOOKUP($B$3,$BD$3:$BE$83,2,0)&"'!$5:$5"),0))),0)+IFERROR(INDIRECT("'"&VLOOKUP($B$3,$BD$3:$BE$83,2,0)&"'!"&ADDRESS(IFERROR(MATCH(VLOOKUP(B17,$AZ$3:$BB$83,2,0),INDIRECT("'"&VLOOKUP($B$3,$BD$3:$BE$83,2,0)&"'!$B:$B"),0),MATCH(9003,INDIRECT("'"&VLOOKUP($B$3,$BD$3:$BE$83,2,0)&"'!$B:$B"),0)+1),MATCH(VLOOKUP($B$4,$BF$3:$BR$21,7,0),INDIRECT("'"&VLOOKUP($B$3,$BD$3:$BE$83,2,0)&"'!$5:$5"),0))),0)+IFERROR(INDIRECT("'"&VLOOKUP($B$3,$BD$3:$BE$83,2,0)&"'!"&ADDRESS(IFERROR(MATCH(VLOOKUP(B17,$AZ$3:$BB$83,2,0),INDIRECT("'"&VLOOKUP($B$3,$BD$3:$BE$83,2,0)&"'!$B:$B"),0),MATCH(9003,INDIRECT("'"&VLOOKUP($B$3,$BD$3:$BE$83,2,0)&"'!$B:$B"),0)+1),MATCH(VLOOKUP($B$4,$BF$3:$BR$21,8,0),INDIRECT("'"&VLOOKUP($B$3,$BD$3:$BE$83,2,0)&"'!$5:$5"),0))),0)+IFERROR(INDIRECT("'"&VLOOKUP($B$3,$BD$3:$BE$83,2,0)&"'!"&ADDRESS(IFERROR(MATCH(VLOOKUP(B17,$AZ$3:$BB$83,2,0),INDIRECT("'"&VLOOKUP($B$3,$BD$3:$BE$83,2,0)&"'!$B:$B"),0),MATCH(9003,INDIRECT("'"&VLOOKUP($B$3,$BD$3:$BE$83,2,0)&"'!$B:$B"),0)+1),MATCH(VLOOKUP($B$4,$BF$3:$BR$21,9,0),INDIRECT("'"&VLOOKUP($B$3,$BD$3:$BE$83,2,0)&"'!$5:$5"),0))),0)+IFERROR(INDIRECT("'"&VLOOKUP($B$3,$BD$3:$BE$83,2,0)&"'!"&ADDRESS(IFERROR(MATCH(VLOOKUP(B17,$AZ$3:$BB$83,2,0),INDIRECT("'"&VLOOKUP($B$3,$BD$3:$BE$83,2,0)&"'!$B:$B"),0),MATCH(9003,INDIRECT("'"&VLOOKUP($B$3,$BD$3:$BE$83,2,0)&"'!$B:$B"),0)+1),MATCH(VLOOKUP($B$4,$BF$3:$BR$21,10,0),INDIRECT("'"&VLOOKUP($B$3,$BD$3:$BE$83,2,0)&"'!$5:$5"),0))),0)+IFERROR(INDIRECT("'"&VLOOKUP($B$3,$BD$3:$BE$83,2,0)&"'!"&ADDRESS(IFERROR(MATCH(VLOOKUP(B17,$AZ$3:$BB$83,2,0),INDIRECT("'"&VLOOKUP($B$3,$BD$3:$BE$83,2,0)&"'!$B:$B"),0),MATCH(9003,INDIRECT("'"&VLOOKUP($B$3,$BD$3:$BE$83,2,0)&"'!$B:$B"),0)+1),MATCH(VLOOKUP($B$4,$BF$3:$BR$21,11,0),INDIRECT("'"&VLOOKUP($B$3,$BD$3:$BE$83,2,0)&"'!$5:$5"),0))),0) -> 2.6674092e+09 | E17: VHV Allgemeine Sigorta AŞ | F17: =IFERROR(INDIRECT("'"&VLOOKUP($E$3,$BD$3:$BE$83,2,0)&"'!"&ADDRESS(IFERROR(MATCH(VLOOKUP(E17,$AZ$3:$BB$83,2,0),INDIRECT("'"&VLOOKUP($E$3,$BD$3:$BE$83,2,0)&"'!$B:$B"),0),MATCH(9003,INDIRECT("'"&VLOOKUP($E$3,$BD$3:$BE$83,2,0)&"'!$B:$B"),0)+1),MATCH(VLOOKUP($E$4,$BF$3:$BR$21,2,0),INDIRECT("'"&VLOOKUP($E$3,$BD$3:$BE$83,2,0)&"'!$5:$5"),0))),0)+IFERROR(INDIRECT("'"&VLOOKUP($E$3,$BD$3:$BE$83,2,0)&"'!"&ADDRESS(IFERROR(MATCH(VLOOKUP(E17,$AZ$3:$BB$83,2,0),INDIRECT("'"&VLOOKUP($E$3,$BD$3:$BE$83,2,0)&"'!$B:$B"),0),MATCH(9003,INDIRECT("'"&VLOOKUP($E$3,$BD$3:$BE$83,2,0)&"'!$B:$B"),0)+1),MATCH(VLOOKUP($E$4,$BF$3:$BR$21,3,0),INDIRECT("'"&VLOOKUP($E$3,$BD$3:$BE$83,2,0)&"'!$5:$5"),0))),0)+IFERROR(INDIRECT("'"&VLOOKUP($E$3,$BD$3:$BE$83,2,0)&"'!"&ADDRESS(IFERROR(MATCH(VLOOKUP(E17,$AZ$3:$BB$83,2,0),INDIRECT("'"&VLOOKUP($E$3,$BD$3:$BE$83,2,0)&"'!$B:$B"),0),MATCH(9003,INDIRECT("'"&VLOOKUP($E$3,$BD$3:$BE$83,2,0)&"'!$B:$B"),0)+1),MATCH(VLOOKUP($E$4,$BF$3:$BR$21,4,0),INDIRECT("'"&VLOOKUP($E$3,$BD$3:$BE$83,2,0)&"'!$5:$5"),0))),0)+IFERROR(INDIRECT("'"&VLOOKUP($E$3,$BD$3:$BE$83,2,0)&"'!"&ADDRESS(IFERROR(MATCH(VLOOKUP(E17,$AZ$3:$BB$83,2,0),INDIRECT("'"&VLOOKUP($E$3,$BD$3:$BE$83,2,0)&"'!$B:$B"),0),MATCH(9003,INDIRECT("'"&VLOOKUP($E$3,$BD$3:$BE$83,2,0)&"'!$B:$B"),0)+1),MATCH(VLOOKUP($E$4,$BF$3:$BR$21,5,0),INDIRECT("'"&VLOOKUP($E$3,$BD$3:$BE$83,2,0)&"'!$5:$5"),0))),0)+IFERROR(INDIRECT("'"&VLOOKUP($E$3,$BD$3:$BE$83,2,0)&"'!"&ADDRESS(IFERROR(MATCH(VLOOKUP(E17,$AZ$3:$BB$83,2,0),INDIRECT("'"&VLOOKUP($E$3,$BD$3:$BE$83,2,0)&"'!$B:$B"),0),MATCH(9003,INDIRECT("'"&VLOOKUP($E$3,$BD$3:$BE$83,2,0)&"'!$B:$B"),0)+1),MATCH(VLOOKUP($E$4,$BF$3:$BR$21,6,0),INDIRECT("'"&VLOOKUP($E$3,$BD$3:$BE$83,2,0)&"'!$5:$5"),0))),0)+IFERROR(INDIRECT("'"&VLOOKUP($E$3,$BD$3:$BE$83,2,0)&"'!"&ADDRESS(IFERROR(MATCH(VLOOKUP(E17,$AZ$3:$BB$83,2,0),INDIRECT("'"&VLOOKUP($E$3,$BD$3:$BE$83,2,0)&"'!$B:$B"),0),MATCH(9003,INDIRECT("'"&VLOOKUP($E$3,$BD$3:$BE$83,2,0)&"'!$B:$B"),0)+1),MATCH(VLOOKUP($E$4,$BF$3:$BR$21,7,0),INDIRECT("'"&VLOOKUP($E$3,$BD$3:$BE$83,2,0)&"'!$5:$5"),0))),0)+IFERROR(INDIRECT("'"&VLOOKUP($E$3,$BD$3:$BE$83,2,0)&"'!"&ADDRESS(IFERROR(MATCH(VLOOKUP(E17,$AZ$3:$BB$83,2,0),INDIRECT("'"&VLOOKUP($E$3,$BD$3:$BE$83,2,0)&"'!$B:$B"),0),MATCH(9003,INDIRECT("'"&VLOOKUP($E$3,$BD$3:$BE$83,2,0)&"'!$B:$B"),0)+1),MATCH(VLOOKUP($E$4,$BF$3:$BR$21,8,0),INDIRECT("'"&VLOOKUP($E$3,$BD$3:$BE$83,2,0)&"'!$5:$5"),0))),0)+IFERROR(INDIRECT("'"&VLOOKUP($E$3,$BD$3:$BE$83,2,0)&"'!"&ADDRESS(IFERROR(MATCH(VLOOKUP(E17,$AZ$3:$BB$83,2,0),INDIRECT("'"&VLOOKUP($E$3,$BD$3:$BE$83,2,0)&"'!$B:$B"),0),MATCH(9003,INDIRECT("'"&VLOOKUP($E$3,$BD$3:$BE$83,2,0)&"'!$B:$B"),0)+1),MATCH(VLOOKUP($E$4,$BF$3:$BR$21,9,0),INDIRECT("'"&VLOOKUP($E$3,$BD$3:$BE$83,2,0)&"'!$5:$5"),0))),0)+IFERROR(INDIRECT("'"&VLOOKUP($E$3,$BD$3:$BE$83,2,0)&"'!"&ADDRESS(IFERROR(MATCH(VLOOKUP(E17,$AZ$3:$BB$83,2,0),INDIRECT("'"&VLOOKUP($E$3,$BD$3:$BE$83,2,0)&"'!$B:$B"),0),MATCH(9003,INDIRECT("'"&VLOOKUP($E$3,$BD$3:$BE$83,2,0)&"'!$B:$B"),0)+1),MATCH(VLOOKUP($E$4,$BF$3:$BR$21,10,0),INDIRECT("'"&VLOOKUP($E$3,$BD$3:$BE$83,2,0)&"'!$5:$5"),0))),0)+IFERROR(INDIRECT("'"&VLOOKUP($E$3,$BD$3:$BE$83,2,0)&"'!"&ADDRESS(IFERROR(MATCH(VLOOKUP(E17,$AZ$3:$BB$83,2,0),INDIRECT("'"&VLOOKUP($E$3,$BD$3:$BE$83,2,0)&"'!$B:$B"),0),MATCH(9003,INDIRECT("'"&VLOOKUP($E$3,$BD$3:$BE$83,2,0)&"'!$B:$B"),0)+1),MATCH(VLOOKUP($E$4,$BF$3:$BR$21,11,0),INDIRECT("'"&VLOOKUP($E$3,$BD$3:$BE$83,2,0)&"'!$5:$5"),0))),0) -> 2.6674092e+09 | AZ17: Referans Sigorta AŞ | BA17: 1018 | BD17: Hava Araçları Sorumluluk | BE17: HAVA ARAÇLARI SORUMLULUK
B18: Euler Hermes Sigorta AŞ | C18: =IFERROR(INDIRECT("'"&VLOOKUP($B$3,$BD$3:$BE$83,2,0)&"'!"&ADDRESS(IFERROR(MATCH(VLOOKUP(B18,$AZ$3:$BB$83,2,0),INDIRECT("'"&VLOOKUP($B$3,$BD$3:$BE$83,2,0)&"'!$B:$B"),0),MATCH(9003,INDIRECT("'"&VLOOKUP($B$3,$BD$3:$BE$83,2,0)&"'!$B:$B"),0)+1),MATCH(VLOOKUP($B$4,$BF$3:$BR$21,2,0),INDIRECT("'"&VLOOKUP($B$3,$BD$3:$BE$83,2,0)&"'!$5:$5"),0))),0)+IFERROR(INDIRECT("'"&VLOOKUP($B$3,$BD$3:$BE$83,2,0)&"'!"&ADDRESS(IFERROR(MATCH(VLOOKUP(B18,$AZ$3:$BB$83,2,0),INDIRECT("'"&VLOOKUP($B$3,$BD$3:$BE$83,2,0)&"'!$B:$B"),0),MATCH(9003,INDIRECT("'"&VLOOKUP($B$3,$BD$3:$BE$83,2,0)&"'!$B:$B"),0)+1),MATCH(VLOOKUP($B$4,$BF$3:$BR$21,3,0),INDIRECT("'"&VLOOKUP($B$3,$BD$3:$BE$83,2,0)&"'!$5:$5"),0))),0)+IFERROR(INDIRECT("'"&VLOOKUP($B$3,$BD$3:$BE$83,2,0)&"'!"&ADDRESS(IFERROR(MATCH(VLOOKUP(B18,$AZ$3:$BB$83,2,0),INDIRECT("'"&VLOOKUP($B$3,$BD$3:$BE$83,2,0)&"'!$B:$B"),0),MATCH(9003,INDIRECT("'"&VLOOKUP($B$3,$BD$3:$BE$83,2,0)&"'!$B:$B"),0)+1),MATCH(VLOOKUP($B$4,$BF$3:$BR$21,4,0),INDIRECT("'"&VLOOKUP($B$3,$BD$3:$BE$83,2,0)&"'!$5:$5"),0))),0)+IFERROR(INDIRECT("'"&VLOOKUP($B$3,$BD$3:$BE$83,2,0)&"'!"&ADDRESS(IFERROR(MATCH(VLOOKUP(B18,$AZ$3:$BB$83,2,0),INDIRECT("'"&VLOOKUP($B$3,$BD$3:$BE$83,2,0)&"'!$B:$B"),0),MATCH(9003,INDIRECT("'"&VLOOKUP($B$3,$BD$3:$BE$83,2,0)&"'!$B:$B"),0)+1),MATCH(VLOOKUP($B$4,$BF$3:$BR$21,5,0),INDIRECT("'"&VLOOKUP($B$3,$BD$3:$BE$83,2,0)&"'!$5:$5"),0))),0)+IFERROR(INDIRECT("'"&VLOOKUP($B$3,$BD$3:$BE$83,2,0)&"'!"&ADDRESS(IFERROR(MATCH(VLOOKUP(B18,$AZ$3:$BB$83,2,0),INDIRECT("'"&VLOOKUP($B$3,$BD$3:$BE$83,2,0)&"'!$B:$B"),0),MATCH(9003,INDIRECT("'"&VLOOKUP($B$3,$BD$3:$BE$83,2,0)&"'!$B:$B"),0)+1),MATCH(VLOOKUP($B$4,$BF$3:$BR$21,6,0),INDIRECT("'"&VLOOKUP($B$3,$BD$3:$BE$83,2,0)&"'!$5:$5"),0))),0)+IFERROR(INDIRECT("'"&VLOOKUP($B$3,$BD$3:$BE$83,2,0)&"'!"&ADDRESS(IFERROR(MATCH(VLOOKUP(B18,$AZ$3:$BB$83,2,0),INDIRECT("'"&VLOOKUP($B$3,$BD$3:$BE$83,2,0)&"'!$B:$B"),0),MATCH(9003,INDIRECT("'"&VLOOKUP($B$3,$BD$3:$BE$83,2,0)&"'!$B:$B"),0)+1),MATCH(VLOOKUP($B$4,$BF$3:$BR$21,7,0),INDIRECT("'"&VLOOKUP($B$3,$BD$3:$BE$83,2,0)&"'!$5:$5"),0))),0)+IFERROR(INDIRECT("'"&VLOOKUP($B$3,$BD$3:$BE$83,2,0)&"'!"&ADDRESS(IFERROR(MATCH(VLOOKUP(B18,$AZ$3:$BB$83,2,0),INDIRECT("'"&VLOOKUP($B$3,$BD$3:$BE$83,2,0)&"'!$B:$B"),0),MATCH(9003,INDIRECT("'"&VLOOKUP($B$3,$BD$3:$BE$83,2,0)&"'!$B:$B"),0)+1),MATCH(VLOOKUP($B$4,$BF$3:$BR$21,8,0),INDIRECT("'"&VLOOKUP($B$3,$BD$3:$BE$83,2,0)&"'!$5:$5"),0))),0)+IFERROR(INDIRECT("'"&VLOOKUP($B$3,$BD$3:$BE$83,2,0)&"'!"&ADDRESS(IFERROR(MATCH(VLOOKUP(B18,$AZ$3:$BB$83,2,0),INDIRECT("'"&VLOOKUP($B$3,$BD$3:$BE$83,2,0)&"'!$B:$B"),0),MATCH(9003,INDIRECT("'"&VLOOKUP($B$3,$BD$3:$BE$83,2,0)&"'!$B:$B"),0)+1),MATCH(VLOOKUP($B$4,$BF$3:$BR$21,9,0),INDIRECT("'"&VLOOKUP($B$3,$BD$3:$BE$83,2,0)&"'!$5:$5"),0))),0)+IFERROR(INDIRECT("'"&VLOOKUP($B$3,$BD$3:$BE$83,2,0)&"'!"&ADDRESS(IFERROR(MATCH(VLOOKUP(B18,$AZ$3:$BB$83,2,0),INDIRECT("'"&VLOOKUP($B$3,$BD$3:$BE$83,2,0)&"'!$B:$B"),0),MATCH(9003,INDIRECT("'"&VLOOKUP($B$3,$BD$3:$BE$83,2,0)&"'!$B:$B"),0)+1),MATCH(VLOOKUP($B$4,$BF$3:$BR$21,10,0),INDIRECT("'"&VLOOKUP($B$3,$BD$3:$BE$83,2,0)&"'!$5:$5"),0))),0)+IFERROR(INDIRECT("'"&VLOOKUP($B$3,$BD$3:$BE$83,2,0)&"'!"&ADDRESS(IFERROR(MATCH(VLOOKUP(B18,$AZ$3:$BB$83,2,0),INDIRECT("'"&VLOOKUP($B$3,$BD$3:$BE$83,2,0)&"'!$B:$B"),0),MATCH(9003,INDIRECT("'"&VLOOKUP($B$3,$BD$3:$BE$83,2,0)&"'!$B:$B"),0)+1),MATCH(VLOOKUP($B$4,$BF$3:$BR$21,11,0),INDIRECT("'"&VLOOKUP($B$3,$BD$3:$BE$83,2,0)&"'!$5:$5"),0))),0) -> 7.8187671e+08 | E18: Euler Hermes Sigorta AŞ | F18: =IFERROR(INDIRECT("'"&VLOOKUP($E$3,$BD$3:$BE$83,2,0)&"'!"&ADDRESS(IFERROR(MATCH(VLOOKUP(E18,$AZ$3:$BB$83,2,0),INDIRECT("'"&VLOOKUP($E$3,$BD$3:$BE$83,2,0)&"'!$B:$B"),0),MATCH(9003,INDIRECT("'"&VLOOKUP($E$3,$BD$3:$BE$83,2,0)&"'!$B:$B"),0)+1),MATCH(VLOOKUP($E$4,$BF$3:$BR$21,2,0),INDIRECT("'"&VLOOKUP($E$3,$BD$3:$BE$83,2,0)&"'!$5:$5"),0))),0)+IFERROR(INDIRECT("'"&VLOOKUP($E$3,$BD$3:$BE$83,2,0)&"'!"&ADDRESS(IFERROR(MATCH(VLOOKUP(E18,$AZ$3:$BB$83,2,0),INDIRECT("'"&VLOOKUP($E$3,$BD$3:$BE$83,2,0)&"'!$B:$B"),0),MATCH(9003,INDIRECT("'"&VLOOKUP($E$3,$BD$3:$BE$83,2,0)&"'!$B:$B"),0)+1),MATCH(VLOOKUP($E$4,$BF$3:$BR$21,3,0),INDIRECT("'"&VLOOKUP($E$3,$BD$3:$BE$83,2,0)&"'!$5:$5"),0))),0)+IFERROR(INDIRECT("'"&VLOOKUP($E$3,$BD$3:$BE$83,2,0)&"'!"&ADDRESS(IFERROR(MATCH(VLOOKUP(E18,$AZ$3:$BB$83,2,0),INDIRECT("'"&VLOOKUP($E$3,$BD$3:$BE$83,2,0)&"'!$B:$B"),0),MATCH(9003,INDIRECT("'"&VLOOKUP($E$3,$BD$3:$BE$83,2,0)&"'!$B:$B"),0)+1),MATCH(VLOOKUP($E$4,$BF$3:$BR$21,4,0),INDIRECT("'"&VLOOKUP($E$3,$BD$3:$BE$83,2,0)&"'!$5:$5"),0))),0)+IFERROR(INDIRECT("'"&VLOOKUP($E$3,$BD$3:$BE$83,2,0)&"'!"&ADDRESS(IFERROR(MATCH(VLOOKUP(E18,$AZ$3:$BB$83,2,0),INDIRECT("'"&VLOOKUP($E$3,$BD$3:$BE$83,2,0)&"'!$B:$B"),0),MATCH(9003,INDIRECT("'"&VLOOKUP($E$3,$BD$3:$BE$83,2,0)&"'!$B:$B"),0)+1),MATCH(VLOOKUP($E$4,$BF$3:$BR$21,5,0),INDIRECT("'"&VLOOKUP($E$3,$BD$3:$BE$83,2,0)&"'!$5:$5"),0))),0)+IFERROR(INDIRECT("'"&VLOOKUP($E$3,$BD$3:$BE$83,2,0)&"'!"&ADDRESS(IFERROR(MATCH(VLOOKUP(E18,$AZ$3:$BB$83,2,0),INDIRECT("'"&VLOOKUP($E$3,$BD$3:$BE$83,2,0)&"'!$B:$B"),0),MATCH(9003,INDIRECT("'"&VLOOKUP($E$3,$BD$3:$BE$83,2,0)&"'!$B:$B"),0)+1),MATCH(VLOOKUP($E$4,$BF$3:$BR$21,6,0),INDIRECT("'"&VLOOKUP($E$3,$BD$3:$BE$83,2,0)&"'!$5:$5"),0))),0)+IFERROR(INDIRECT("'"&VLOOKUP($E$3,$BD$3:$BE$83,2,0)&"'!"&ADDRESS(IFERROR(MATCH(VLOOKUP(E18,$AZ$3:$BB$83,2,0),INDIRECT("'"&VLOOKUP($E$3,$BD$3:$BE$83,2,0)&"'!$B:$B"),0),MATCH(9003,INDIRECT("'"&VLOOKUP($E$3,$BD$3:$BE$83,2,0)&"'!$B:$B"),0)+1),MATCH(VLOOKUP($E$4,$BF$3:$BR$21,7,0),INDIRECT("'"&VLOOKUP($E$3,$BD$3:$BE$83,2,0)&"'!$5:$5"),0))),0)+IFERROR(INDIRECT("'"&VLOOKUP($E$3,$BD$3:$BE$83,2,0)&"'!"&ADDRESS(IFERROR(MATCH(VLOOKUP(E18,$AZ$3:$BB$83,2,0),INDIRECT("'"&VLOOKUP($E$3,$BD$3:$BE$83,2,0)&"'!$B:$B"),0),MATCH(9003,INDIRECT("'"&VLOOKUP($E$3,$BD$3:$BE$83,2,0)&"'!$B:$B"),0)+1),MATCH(VLOOKUP($E$4,$BF$3:$BR$21,8,0),INDIRECT("'"&VLOOKUP($E$3,$BD$3:$BE$83,2,0)&"'!$5:$5"),0))),0)+IFERROR(INDIRECT("'"&VLOOKUP($E$3,$BD$3:$BE$83,2,0)&"'!"&ADDRESS(IFERROR(MATCH(VLOOKUP(E18,$AZ$3:$BB$83,2,0),INDIRECT("'"&VLOOKUP($E$3,$BD$3:$BE$83,2,0)&"'!$B:$B"),0),MATCH(9003,INDIRECT("'"&VLOOKUP($E$3,$BD$3:$BE$83,2,0)&"'!$B:$B"),0)+1),MATCH(VLOOKUP($E$4,$BF$3:$BR$21,9,0),INDIRECT("'"&VLOOKUP($E$3,$BD$3:$BE$83,2,0)&"'!$5:$5"),0))),0)+IFERROR(INDIRECT("'"&VLOOKUP($E$3,$BD$3:$BE$83,2,0)&"'!"&ADDRESS(IFERROR(MATCH(VLOOKUP(E18,$AZ$3:$BB$83,2,0),INDIRECT("'"&VLOOKUP($E$3,$BD$3:$BE$83,2,0)&"'!$B:$B"),0),MATCH(9003,INDIRECT("'"&VLOOKUP($E$3,$BD$3:$BE$83,2,0)&"'!$B:$B"),0)+1),MATCH(VLOOKUP($E$4,$BF$3:$BR$21,10,0),INDIRECT("'"&VLOOKUP($E$3,$BD$3:$BE$83,2,0)&"'!$5:$5"),0))),0)+IFERROR(INDIRECT("'"&VLOOKUP($E$3,$BD$3:$BE$83,2,0)&"'!"&ADDRESS(IFERROR(MATCH(VLOOKUP(E18,$AZ$3:$BB$83,2,0),INDIRECT("'"&VLOOKUP($E$3,$BD$3:$BE$83,2,0)&"'!$B:$B"),0),MATCH(9003,INDIRECT("'"&VLOOKUP($E$3,$BD$3:$BE$83,2,0)&"'!$B:$B"),0)+1),MATCH(VLOOKUP($E$4,$BF$3:$BR$21,11,0),INDIRECT("'"&VLOOKUP($E$3,$BD$3:$BE$83,2,0)&"'!$5:$5"),0))),0) -> 7.8187671e+08 | AZ18: Türkiye Sigorta AŞ | BA18: 1020 | BD18: Su Araçları Sorumluluk | BE18: SU ARAÇLARI SORUMLULUK
B19: Eureko Sigorta AŞ | C19: =IFERROR(INDIRECT("'"&VLOOKUP($B$3,$BD$3:$BE$83,2,0)&"'!"&ADDRESS(IFERROR(MATCH(VLOOKUP(B19,$AZ$3:$BB$83,2,0),INDIRECT("'"&VLOOKUP($B$3,$BD$3:$BE$83,2,0)&"'!$B:$B"),0),MATCH(9003,INDIRECT("'"&VLOOKUP($B$3,$BD$3:$BE$83,2,0)&"'!$B:$B"),0)+1),MATCH(VLOOKUP($B$4,$BF$3:$BR$21,2,0),INDIRECT("'"&VLOOKUP($B$3,$BD$3:$BE$83,2,0)&"'!$5:$5"),0))),0)+IFERROR(INDIRECT("'"&VLOOKUP($B$3,$BD$3:$BE$83,2,0)&"'!"&ADDRESS(IFERROR(MATCH(VLOOKUP(B19,$AZ$3:$BB$83,2,0),INDIRECT("'"&VLOOKUP($B$3,$BD$3:$BE$83,2,0)&"'!$B:$B"),0),MATCH(9003,INDIRECT("'"&VLOOKUP($B$3,$BD$3:$BE$83,2,0)&"'!$B:$B"),0)+1),MATCH(VLOOKUP($B$4,$BF$3:$BR$21,3,0),INDIRECT("'"&VLOOKUP($B$3,$BD$3:$BE$83,2,0)&"'!$5:$5"),0))),0)+IFERROR(INDIRECT("'"&VLOOKUP($B$3,$BD$3:$BE$83,2,0)&"'!"&ADDRESS(IFERROR(MATCH(VLOOKUP(B19,$AZ$3:$BB$83,2,0),INDIRECT("'"&VLOOKUP($B$3,$BD$3:$BE$83,2,0)&"'!$B:$B"),0),MATCH(9003,INDIRECT("'"&VLOOKUP($B$3,$BD$3:$BE$83,2,0)&"'!$B:$B"),0)+1),MATCH(VLOOKUP($B$4,$BF$3:$BR$21,4,0),INDIRECT("'"&VLOOKUP($B$3,$BD$3:$BE$83,2,0)&"'!$5:$5"),0))),0)+IFERROR(INDIRECT("'"&VLOOKUP($B$3,$BD$3:$BE$83,2,0)&"'!"&ADDRESS(IFERROR(MATCH(VLOOKUP(B19,$AZ$3:$BB$83,2,0),INDIRECT("'"&VLOOKUP($B$3,$BD$3:$BE$83,2,0)&"'!$B:$B"),0),MATCH(9003,INDIRECT("'"&VLOOKUP($B$3,$BD$3:$BE$83,2,0)&"'!$B:$B"),0)+1),MATCH(VLOOKUP($B$4,$BF$3:$BR$21,5,0),INDIRECT("'"&VLOOKUP($B$3,$BD$3:$BE$83,2,0)&"'!$5:$5"),0))),0)+IFERROR(INDIRECT("'"&VLOOKUP($B$3,$BD$3:$BE$83,2,0)&"'!"&ADDRESS(IFERROR(MATCH(VLOOKUP(B19,$AZ$3:$BB$83,2,0),INDIRECT("'"&VLOOKUP($B$3,$BD$3:$BE$83,2,0)&"'!$B:$B"),0),MATCH(9003,INDIRECT("'"&VLOOKUP($B$3,$BD$3:$BE$83,2,0)&"'!$B:$B"),0)+1),MATCH(VLOOKUP($B$4,$BF$3:$BR$21,6,0),INDIRECT("'"&VLOOKUP($B$3,$BD$3:$BE$83,2,0)&"'!$5:$5"),0))),0)+IFERROR(INDIRECT("'"&VLOOKUP($B$3,$BD$3:$BE$83,2,0)&"'!"&ADDRESS(IFERROR(MATCH(VLOOKUP(B19,$AZ$3:$BB$83,2,0),INDIRECT("'"&VLOOKUP($B$3,$BD$3:$BE$83,2,0)&"'!$B:$B"),0),MATCH(9003,INDIRECT("'"&VLOOKUP($B$3,$BD$3:$BE$83,2,0)&"'!$B:$B"),0)+1),MATCH(VLOOKUP($B$4,$BF$3:$BR$21,7,0),INDIRECT("'"&VLOOKUP($B$3,$BD$3:$BE$83,2,0)&"'!$5:$5"),0))),0)+IFERROR(INDIRECT("'"&VLOOKUP($B$3,$BD$3:$BE$83,2,0)&"'!"&ADDRESS(IFERROR(MATCH(VLOOKUP(B19,$AZ$3:$BB$83,2,0),INDIRECT("'"&VLOOKUP($B$3,$BD$3:$BE$83,2,0)&"'!$B:$B"),0),MATCH(9003,INDIRECT("'"&VLOOKUP($B$3,$BD$3:$BE$83,2,0)&"'!$B:$B"),0)+1),MATCH(VLOOKUP($B$4,$BF$3:$BR$21,8,0),INDIRECT("'"&VLOOKUP($B$3,$BD$3:$BE$83,2,0)&"'!$5:$5"),0))),0)+IFERROR(INDIRECT("'"&VLOOKUP($B$3,$BD$3:$BE$83,2,0)&"'!"&ADDRESS(IFERROR(MATCH(VLOOKUP(B19,$AZ$3:$BB$83,2,0),INDIRECT("'"&VLOOKUP($B$3,$BD$3:$BE$83,2,0)&"'!$B:$B"),0),MATCH(9003,INDIRECT("'"&VLOOKUP($B$3,$BD$3:$BE$83,2,0)&"'!$B:$B"),0)+1),MATCH(VLOOKUP($B$4,$BF$3:$BR$21,9,0),INDIRECT("'"&VLOOKUP($B$3,$BD$3:$BE$83,2,0)&"'!$5:$5"),0))),0)+IFERROR(INDIRECT("'"&VLOOKUP($B$3,$BD$3:$BE$83,2,0)&"'!"&ADDRESS(IFERROR(MATCH(VLOOKUP(B19,$AZ$3:$BB$83,2,0),INDIRECT("'"&VLOOKUP($B$3,$BD$3:$BE$83,2,0)&"'!$B:$B"),0),MATCH(9003,INDIRECT("'"&VLOOKUP($B$3,$BD$3:$BE$83,2,0)&"'!$B:$B"),0)+1),MATCH(VLOOKUP($B$4,$BF$3:$BR$21,10,0),INDIRECT("'"&VLOOKUP($B$3,$BD$3:$BE$83,2,0)&"'!$5:$5"),0))),0)+IFERROR(INDIRECT("'"&VLOOKUP($B$3,$BD$3:$BE$83,2,0)&"'!"&ADDRESS(IFERROR(MATCH(VLOOKUP(B19,$AZ$3:$BB$83,2,0),INDIRECT("'"&VLOOKUP($B$3,$BD$3:$BE$83,2,0)&"'!$B:$B"),0),MATCH(9003,INDIRECT("'"&VLOOKUP($B$3,$BD$3:$BE$83,2,0)&"'!$B:$B"),0)+1),MATCH(VLOOKUP($B$4,$BF$3:$BR$21,11,0),INDIRECT("'"&VLOOKUP($B$3,$BD$3:$BE$83,2,0)&"'!$5:$5"),0))),0) -> 2.6169214e+10 | E19: Eureko Sigorta AŞ | F19: =IFERROR(INDIRECT("'"&VLOOKUP($E$3,$BD$3:$BE$83,2,0)&"'!"&ADDRESS(IFERROR(MATCH(VLOOKUP(E19,$AZ$3:$BB$83,2,0),INDIRECT("'"&VLOOKUP($E$3,$BD$3:$BE$83,2,0)&"'!$B:$B"),0),MATCH(9003,INDIRECT("'"&VLOOKUP($E$3,$BD$3:$BE$83,2,0)&"'!$B:$B"),0)+1),MATCH(VLOOKUP($E$4,$BF$3:$BR$21,2,0),INDIRECT("'"&VLOOKUP($E$3,$BD$3:$BE$83,2,0)&"'!$5:$5"),0))),0)+IFERROR(INDIRECT("'"&VLOOKUP($E$3,$BD$3:$BE$83,2,0)&"'!"&ADDRESS(IFERROR(MATCH(VLOOKUP(E19,$AZ$3:$BB$83,2,0),INDIRECT("'"&VLOOKUP($E$3,$BD$3:$BE$83,2,0)&"'!$B:$B"),0),MATCH(9003,INDIRECT("'"&VLOOKUP($E$3,$BD$3:$BE$83,2,0)&"'!$B:$B"),0)+1),MATCH(VLOOKUP($E$4,$BF$3:$BR$21,3,0),INDIRECT("'"&VLOOKUP($E$3,$BD$3:$BE$83,2,0)&"'!$5:$5"),0))),0)+IFERROR(INDIRECT("'"&VLOOKUP($E$3,$BD$3:$BE$83,2,0)&"'!"&ADDRESS(IFERROR(MATCH(VLOOKUP(E19,$AZ$3:$BB$83,2,0),INDIRECT("'"&VLOOKUP($E$3,$BD$3:$BE$83,2,0)&"'!$B:$B"),0),MATCH(9003,INDIRECT("'"&VLOOKUP($E$3,$BD$3:$BE$83,2,0)&"'!$B:$B"),0)+1),MATCH(VLOOKUP($E$4,$BF$3:$BR$21,4,0),INDIRECT("'"&VLOOKUP($E$3,$BD$3:$BE$83,2,0)&"'!$5:$5"),0))),0)+IFERROR(INDIRECT("'"&VLOOKUP($E$3,$BD$3:$BE$83,2,0)&"'!"&ADDRESS(IFERROR(MATCH(VLOOKUP(E19,$AZ$3:$BB$83,2,0),INDIRECT("'"&VLOOKUP($E$3,$BD$3:$BE$83,2,0)&"'!$B:$B"),0),MATCH(9003,INDIRECT("'"&VLOOKUP($E$3,$BD$3:$BE$83,2,0)&"'!$B:$B"),0)+1),MATCH(VLOOKUP($E$4,$BF$3:$BR$21,5,0),INDIRECT("'"&VLOOKUP($E$3,$BD$3:$BE$83,2,0)&"'!$5:$5"),0))),0)+IFERROR(INDIRECT("'"&VLOOKUP($E$3,$BD$3:$BE$83,2,0)&"'!"&ADDRESS(IFERROR(MATCH(VLOOKUP(E19,$AZ$3:$BB$83,2,0),INDIRECT("'"&VLOOKUP($E$3,$BD$3:$BE$83,2,0)&"'!$B:$B"),0),MATCH(9003,INDIRECT("'"&VLOOKUP($E$3,$BD$3:$BE$83,2,0)&"'!$B:$B"),0)+1),MATCH(VLOOKUP($E$4,$BF$3:$BR$21,6,0),INDIRECT("'"&VLOOKUP($E$3,$BD$3:$BE$83,2,0)&"'!$5:$5"),0))),0)+IFERROR(INDIRECT("'"&VLOOKUP($E$3,$BD$3:$BE$83,2,0)&"'!"&ADDRESS(IFERROR(MATCH(VLOOKUP(E19,$AZ$3:$BB$83,2,0),INDIRECT("'"&VLOOKUP($E$3,$BD$3:$BE$83,2,0)&"'!$B:$B"),0),MATCH(9003,INDIRECT("'"&VLOOKUP($E$3,$BD$3:$BE$83,2,0)&"'!$B:$B"),0)+1),MATCH(VLOOKUP($E$4,$BF$3:$BR$21,7,0),INDIRECT("'"&VLOOKUP($E$3,$BD$3:$BE$83,2,0)&"'!$5:$5"),0))),0)+IFERROR(INDIRECT("'"&VLOOKUP($E$3,$BD$3:$BE$83,2,0)&"'!"&ADDRESS(IFERROR(MATCH(VLOOKUP(E19,$AZ$3:$BB$83,2,0),INDIRECT("'"&VLOOKUP($E$3,$BD$3:$BE$83,2,0)&"'!$B:$B"),0),MATCH(9003,INDIRECT("'"&VLOOKUP($E$3,$BD$3:$BE$83,2,0)&"'!$B:$B"),0)+1),MATCH(VLOOKUP($E$4,$BF$3:$BR$21,8,0),INDIRECT("'"&VLOOKUP($E$3,$BD$3:$BE$83,2,0)&"'!$5:$5"),0))),0)+IFERROR(INDIRECT("'"&VLOOKUP($E$3,$BD$3:$BE$83,2,0)&"'!"&ADDRESS(IFERROR(MATCH(VLOOKUP(E19,$AZ$3:$BB$83,2,0),INDIRECT("'"&VLOOKUP($E$3,$BD$3:$BE$83,2,0)&"'!$B:$B"),0),MATCH(9003,INDIRECT("'"&VLOOKUP($E$3,$BD$3:$BE$83,2,0)&"'!$B:$B"),0)+1),MATCH(VLOOKUP($E$4,$BF$3:$BR$21,9,0),INDIRECT("'"&VLOOKUP($E$3,$BD$3:$BE$83,2,0)&"'!$5:$5"),0))),0)+IFERROR(INDIRECT("'"&VLOOKUP($E$3,$BD$3:$BE$83,2,0)&"'!"&ADDRESS(IFERROR(MATCH(VLOOKUP(E19,$AZ$3:$BB$83,2,0),INDIRECT("'"&VLOOKUP($E$3,$BD$3:$BE$83,2,0)&"'!$B:$B"),0),MATCH(9003,INDIRECT("'"&VLOOKUP($E$3,$BD$3:$BE$83,2,0)&"'!$B:$B"),0)+1),MATCH(VLOOKUP($E$4,$BF$3:$BR$21,10,0),INDIRECT("'"&VLOOKUP($E$3,$BD$3:$BE$83,2,0)&"'!$5:$5"),0))),0)+IFERROR(INDIRECT("'"&VLOOKUP($E$3,$BD$3:$BE$83,2,0)&"'!"&ADDRESS(IFERROR(MATCH(VLOOKUP(E19,$AZ$3:$BB$83,2,0),INDIRECT("'"&VLOOKUP($E$3,$BD$3:$BE$83,2,0)&"'!$B:$B"),0),MATCH(9003,INDIRECT("'"&VLOOKUP($E$3,$BD$3:$BE$83,2,0)&"'!$B:$B"),0)+1),MATCH(VLOOKUP($E$4,$BF$3:$BR$21,11,0),INDIRECT("'"&VLOOKUP($E$3,$BD$3:$BE$83,2,0)&"'!$5:$5"),0))),0) -> 2.6169214e+10 | AZ19: HDI Sigorta AŞ | BA19: 1022 | BD19: Genel Sorumluluk | BE19: GENEL SORUMLULUK
B20: Referans Sigorta AŞ | C20: =IFERROR(INDIRECT("'"&VLOOKUP($B$3,$BD$3:$BE$83,2,0)&"'!"&ADDRESS(IFERROR(MATCH(VLOOKUP(B20,$AZ$3:$BB$83,2,0),INDIRECT("'"&VLOOKUP($B$3,$BD$3:$BE$83,2,0)&"'!$B:$B"),0),MATCH(9003,INDIRECT("'"&VLOOKUP($B$3,$BD$3:$BE$83,2,0)&"'!$B:$B"),0)+1),MATCH(VLOOKUP($B$4,$BF$3:$BR$21,2,0),INDIRECT("'"&VLOOKUP($B$3,$BD$3:$BE$83,2,0)&"'!$5:$5"),0))),0)+IFERROR(INDIRECT("'"&VLOOKUP($B$3,$BD$3:$BE$83,2,0)&"'!"&ADDRESS(IFERROR(MATCH(VLOOKUP(B20,$AZ$3:$BB$83,2,0),INDIRECT("'"&VLOOKUP($B$3,$BD$3:$BE$83,2,0)&"'!$B:$B"),0),MATCH(9003,INDIRECT("'"&VLOOKUP($B$3,$BD$3:$BE$83,2,0)&"'!$B:$B"),0)+1),MATCH(VLOOKUP($B$4,$BF$3:$BR$21,3,0),INDIRECT("'"&VLOOKUP($B$3,$BD$3:$BE$83,2,0)&"'!$5:$5"),0))),0)+IFERROR(INDIRECT("'"&VLOOKUP($B$3,$BD$3:$BE$83,2,0)&"'!"&ADDRESS(IFERROR(MATCH(VLOOKUP(B20,$AZ$3:$BB$83,2,0),INDIRECT("'"&VLOOKUP($B$3,$BD$3:$BE$83,2,0)&"'!$B:$B"),0),MATCH(9003,INDIRECT("'"&VLOOKUP($B$3,$BD$3:$BE$83,2,0)&"'!$B:$B"),0)+1),MATCH(VLOOKUP($B$4,$BF$3:$BR$21,4,0),INDIRECT("'"&VLOOKUP($B$3,$BD$3:$BE$83,2,0)&"'!$5:$5"),0))),0)+IFERROR(INDIRECT("'"&VLOOKUP($B$3,$BD$3:$BE$83,2,0)&"'!"&ADDRESS(IFERROR(MATCH(VLOOKUP(B20,$AZ$3:$BB$83,2,0),INDIRECT("'"&VLOOKUP($B$3,$BD$3:$BE$83,2,0)&"'!$B:$B"),0),MATCH(9003,INDIRECT("'"&VLOOKUP($B$3,$BD$3:$BE$83,2,0)&"'!$B:$B"),0)+1),MATCH(VLOOKUP($B$4,$BF$3:$BR$21,5,0),INDIRECT("'"&VLOOKUP($B$3,$BD$3:$BE$83,2,0)&"'!$5:$5"),0))),0)+IFERROR(INDIRECT("'"&VLOOKUP($B$3,$BD$3:$BE$83,2,0)&"'!"&ADDRESS(IFERROR(MATCH(VLOOKUP(B20,$AZ$3:$BB$83,2,0),INDIRECT("'"&VLOOKUP($B$3,$BD$3:$BE$83,2,0)&"'!$B:$B"),0),MATCH(9003,INDIRECT("'"&VLOOKUP($B$3,$BD$3:$BE$83,2,0)&"'!$B:$B"),0)+1),MATCH(VLOOKUP($B$4,$BF$3:$BR$21,6,0),INDIRECT("'"&VLOOKUP($B$3,$BD$3:$BE$83,2,0)&"'!$5:$5"),0))),0)+IFERROR(INDIRECT("'"&VLOOKUP($B$3,$BD$3:$BE$83,2,0)&"'!"&ADDRESS(IFERROR(MATCH(VLOOKUP(B20,$AZ$3:$BB$83,2,0),INDIRECT("'"&VLOOKUP($B$3,$BD$3:$BE$83,2,0)&"'!$B:$B"),0),MATCH(9003,INDIRECT("'"&VLOOKUP($B$3,$BD$3:$BE$83,2,0)&"'!$B:$B"),0)+1),MATCH(VLOOKUP($B$4,$BF$3:$BR$21,7,0),INDIRECT("'"&VLOOKUP($B$3,$BD$3:$BE$83,2,0)&"'!$5:$5"),0))),0)+IFERROR(INDIRECT("'"&VLOOKUP($B$3,$BD$3:$BE$83,2,0)&"'!"&ADDRESS(IFERROR(MATCH(VLOOKUP(B20,$AZ$3:$BB$83,2,0),INDIRECT("'"&VLOOKUP($B$3,$BD$3:$BE$83,2,0)&"'!$B:$B"),0),MATCH(9003,INDIRECT("'"&VLOOKUP($B$3,$BD$3:$BE$83,2,0)&"'!$B:$B"),0)+1),MATCH(VLOOKUP($B$4,$BF$3:$BR$21,8,0),INDIRECT("'"&VLOOKUP($B$3,$BD$3:$BE$83,2,0)&"'!$5:$5"),0))),0)+IFERROR(INDIRECT("'"&VLOOKUP($B$3,$BD$3:$BE$83,2,0)&"'!"&ADDRESS(IFERROR(MATCH(VLOOKUP(B20,$AZ$3:$BB$83,2,0),INDIRECT("'"&VLOOKUP($B$3,$BD$3:$BE$83,2,0)&"'!$B:$B"),0),MATCH(9003,INDIRECT("'"&VLOOKUP($B$3,$BD$3:$BE$83,2,0)&"'!$B:$B"),0)+1),MATCH(VLOOKUP($B$4,$BF$3:$BR$21,9,0),INDIRECT("'"&VLOOKUP($B$3,$BD$3:$BE$83,2,0)&"'!$5:$5"),0))),0)+IFERROR(INDIRECT("'"&VLOOKUP($B$3,$BD$3:$BE$83,2,0)&"'!"&ADDRESS(IFERROR(MATCH(VLOOKUP(B20,$AZ$3:$BB$83,2,0),INDIRECT("'"&VLOOKUP($B$3,$BD$3:$BE$83,2,0)&"'!$B:$B"),0),MATCH(9003,INDIRECT("'"&VLOOKUP($B$3,$BD$3:$BE$83,2,0)&"'!$B:$B"),0)+1),MATCH(VLOOKUP($B$4,$BF$3:$BR$21,10,0),INDIRECT("'"&VLOOKUP($B$3,$BD$3:$BE$83,2,0)&"'!$5:$5"),0))),0)+IFERROR(INDIRECT("'"&VLOOKUP($B$3,$BD$3:$BE$83,2,0)&"'!"&ADDRESS(IFERROR(MATCH(VLOOKUP(B20,$AZ$3:$BB$83,2,0),INDIRECT("'"&VLOOKUP($B$3,$BD$3:$BE$83,2,0)&"'!$B:$B"),0),MATCH(9003,INDIRECT("'"&VLOOKUP($B$3,$BD$3:$BE$83,2,0)&"'!$B:$B"),0)+1),MATCH(VLOOKUP($B$4,$BF$3:$BR$21,11,0),INDIRECT("'"&VLOOKUP($B$3,$BD$3:$BE$83,2,0)&"'!$5:$5"),0))),0) -> 5.8969946e+09 | E20: Referans Sigorta AŞ | F20: =IFERROR(INDIRECT("'"&VLOOKUP($E$3,$BD$3:$BE$83,2,0)&"'!"&ADDRESS(IFERROR(MATCH(VLOOKUP(E20,$AZ$3:$BB$83,2,0),INDIRECT("'"&VLOOKUP($E$3,$BD$3:$BE$83,2,0)&"'!$B:$B"),0),MATCH(9003,INDIRECT("'"&VLOOKUP($E$3,$BD$3:$BE$83,2,0)&"'!$B:$B"),0)+1),MATCH(VLOOKUP($E$4,$BF$3:$BR$21,2,0),INDIRECT("'"&VLOOKUP($E$3,$BD$3:$BE$83,2,0)&"'!$5:$5"),0))),0)+IFERROR(INDIRECT("'"&VLOOKUP($E$3,$BD$3:$BE$83,2,0)&"'!"&ADDRESS(IFERROR(MATCH(VLOOKUP(E20,$AZ$3:$BB$83,2,0),INDIRECT("'"&VLOOKUP($E$3,$BD$3:$BE$83,2,0)&"'!$B:$B"),0),MATCH(9003,INDIRECT("'"&VLOOKUP($E$3,$BD$3:$BE$83,2,0)&"'!$B:$B"),0)+1),MATCH(VLOOKUP($E$4,$BF$3:$BR$21,3,0),INDIRECT("'"&VLOOKUP($E$3,$BD$3:$BE$83,2,0)&"'!$5:$5"),0))),0)+IFERROR(INDIRECT("'"&VLOOKUP($E$3,$BD$3:$BE$83,2,0)&"'!"&ADDRESS(IFERROR(MATCH(VLOOKUP(E20,$AZ$3:$BB$83,2,0),INDIRECT("'"&VLOOKUP($E$3,$BD$3:$BE$83,2,0)&"'!$B:$B"),0),MATCH(9003,INDIRECT("'"&VLOOKUP($E$3,$BD$3:$BE$83,2,0)&"'!$B:$B"),0)+1),MATCH(VLOOKUP($E$4,$BF$3:$BR$21,4,0),INDIRECT("'"&VLOOKUP($E$3,$BD$3:$BE$83,2,0)&"'!$5:$5"),0))),0)+IFERROR(INDIRECT("'"&VLOOKUP($E$3,$BD$3:$BE$83,2,0)&"'!"&ADDRESS(IFERROR(MATCH(VLOOKUP(E20,$AZ$3:$BB$83,2,0),INDIRECT("'"&VLOOKUP($E$3,$BD$3:$BE$83,2,0)&"'!$B:$B"),0),MATCH(9003,INDIRECT("'"&VLOOKUP($E$3,$BD$3:$BE$83,2,0)&"'!$B:$B"),0)+1),MATCH(VLOOKUP($E$4,$BF$3:$BR$21,5,0),INDIRECT("'"&VLOOKUP($E$3,$BD$3:$BE$83,2,0)&"'!$5:$5"),0))),0)+IFERROR(INDIRECT("'"&VLOOKUP($E$3,$BD$3:$BE$83,2,0)&"'!"&ADDRESS(IFERROR(MATCH(VLOOKUP(E20,$AZ$3:$BB$83,2,0),INDIRECT("'"&VLOOKUP($E$3,$BD$3:$BE$83,2,0)&"'!$B:$B"),0),MATCH(9003,INDIRECT("'"&VLOOKUP($E$3,$BD$3:$BE$83,2,0)&"'!$B:$B"),0)+1),MATCH(VLOOKUP($E$4,$BF$3:$BR$21,6,0),INDIRECT("'"&VLOOKUP($E$3,$BD$3:$BE$83,2,0)&"'!$5:$5"),0))),0)+IFERROR(INDIRECT("'"&VLOOKUP($E$3,$BD$3:$BE$83,2,0)&"'!"&ADDRESS(IFERROR(MATCH(VLOOKUP(E20,$AZ$3:$BB$83,2,0),INDIRECT("'"&VLOOKUP($E$3,$BD$3:$BE$83,2,0)&"'!$B:$B"),0),MATCH(9003,INDIRECT("'"&VLOOKUP($E$3,$BD$3:$BE$83,2,0)&"'!$B:$B"),0)+1),MATCH(VLOOKUP($E$4,$BF$3:$BR$21,7,0),INDIRECT("'"&VLOOKUP($E$3,$BD$3:$BE$83,2,0)&"'!$5:$5"),0))),0)+IFERROR(INDIRECT("'"&VLOOKUP($E$3,$BD$3:$BE$83,2,0)&"'!"&ADDRESS(IFERROR(MATCH(VLOOKUP(E20,$AZ$3:$BB$83,2,0),INDIRECT("'"&VLOOKUP($E$3,$BD$3:$BE$83,2,0)&"'!$B:$B"),0),MATCH(9003,INDIRECT("'"&VLOOKUP($E$3,$BD$3:$BE$83,2,0)&"'!$B:$B"),0)+1),MATCH(VLOOKUP($E$4,$BF$3:$BR$21,8,0),INDIRECT("'"&VLOOKUP($E$3,$BD$3:$BE$83,2,0)&"'!$5:$5"),0))),0)+IFERROR(INDIRECT("'"&VLOOKUP($E$3,$BD$3:$BE$83,2,0)&"'!"&ADDRESS(IFERROR(MATCH(VLOOKUP(E20,$AZ$3:$BB$83,2,0),INDIRECT("'"&VLOOKUP($E$3,$BD$3:$BE$83,2,0)&"'!$B:$B"),0),MATCH(9003,INDIRECT("'"&VLOOKUP($E$3,$BD$3:$BE$83,2,0)&"'!$B:$B"),0)+1),MATCH(VLOOKUP($E$4,$BF$3:$BR$21,9,0),INDIRECT("'"&VLOOKUP($E$3,$BD$3:$BE$83,2,0)&"'!$5:$5"),0))),0)+IFERROR(INDIRECT("'"&VLOOKUP($E$3,$BD$3:$BE$83,2,0)&"'!"&ADDRESS(IFERROR(MATCH(VLOOKUP(E20,$AZ$3:$BB$83,2,0),INDIRECT("'"&VLOOKUP($E$3,$BD$3:$BE$83,2,0)&"'!$B:$B"),0),MATCH(9003,INDIRECT("'"&VLOOKUP($E$3,$BD$3:$BE$83,2,0)&"'!$B:$B"),0)+1),MATCH(VLOOKUP($E$4,$BF$3:$BR$21,10,0),INDIRECT("'"&VLOOKUP($E$3,$BD$3:$BE$83,2,0)&"'!$5:$5"),0))),0)+IFERROR(INDIRECT("'"&VLOOKUP($E$3,$BD$3:$BE$83,2,0)&"'!"&ADDRESS(IFERROR(MATCH(VLOOKUP(E20,$AZ$3:$BB$83,2,0),INDIRECT("'"&VLOOKUP($E$3,$BD$3:$BE$83,2,0)&"'!$B:$B"),0),MATCH(9003,INDIRECT("'"&VLOOKUP($E$3,$BD$3:$BE$83,2,0)&"'!$B:$B"),0)+1),MATCH(VLOOKUP($E$4,$BF$3:$BR$21,11,0),INDIRECT("'"&VLOOKUP($E$3,$BD$3:$BE$83,2,0)&"'!$5:$5"),0))),0) -> 5.8969946e+09 | AZ20: Bereket Sigorta AŞ | BA20: 1025 | BD20: Kredi | BE20: KREDİ
B21: Türkiye Sigorta AŞ | C21: =IFERROR(INDIRECT("'"&VLOOKUP($B$3,$BD$3:$BE$83,2,0)&"'!"&ADDRESS(IFERROR(MATCH(VLOOKUP(B21,$AZ$3:$BB$83,2,0),INDIRECT("'"&VLOOKUP($B$3,$BD$3:$BE$83,2,0)&"'!$B:$B"),0),MATCH(9003,INDIRECT("'"&VLOOKUP($B$3,$BD$3:$BE$83,2,0)&"'!$B:$B"),0)+1),MATCH(VLOOKUP($B$4,$BF$3:$BR$21,2,0),INDIRECT("'"&VLOOKUP($B$3,$BD$3:$BE$83,2,0)&"'!$5:$5"),0))),0)+IFERROR(INDIRECT("'"&VLOOKUP($B$3,$BD$3:$BE$83,2,0)&"'!"&ADDRESS(IFERROR(MATCH(VLOOKUP(B21,$AZ$3:$BB$83,2,0),INDIRECT("'"&VLOOKUP($B$3,$BD$3:$BE$83,2,0)&"'!$B:$B"),0),MATCH(9003,INDIRECT("'"&VLOOKUP($B$3,$BD$3:$BE$83,2,0)&"'!$B:$B"),0)+1),MATCH(VLOOKUP($B$4,$BF$3:$BR$21,3,0),INDIRECT("'"&VLOOKUP($B$3,$BD$3:$BE$83,2,0)&"'!$5:$5"),0))),0)+IFERROR(INDIRECT("'"&VLOOKUP($B$3,$BD$3:$BE$83,2,0)&"'!"&ADDRESS(IFERROR(MATCH(VLOOKUP(B21,$AZ$3:$BB$83,2,0),INDIRECT("'"&VLOOKUP($B$3,$BD$3:$BE$83,2,0)&"'!$B:$B"),0),MATCH(9003,INDIRECT("'"&VLOOKUP($B$3,$BD$3:$BE$83,2,0)&"'!$B:$B"),0)+1),MATCH(VLOOKUP($B$4,$BF$3:$BR$21,4,0),INDIRECT("'"&VLOOKUP($B$3,$BD$3:$BE$83,2,0)&"'!$5:$5"),0))),0)+IFERROR(INDIRECT("'"&VLOOKUP($B$3,$BD$3:$BE$83,2,0)&"'!"&ADDRESS(IFERROR(MATCH(VLOOKUP(B21,$AZ$3:$BB$83,2,0),INDIRECT("'"&VLOOKUP($B$3,$BD$3:$BE$83,2,0)&"'!$B:$B"),0),MATCH(9003,INDIRECT("'"&VLOOKUP($B$3,$BD$3:$BE$83,2,0)&"'!$B:$B"),0)+1),MATCH(VLOOKUP($B$4,$BF$3:$BR$21,5,0),INDIRECT("'"&VLOOKUP($B$3,$BD$3:$BE$83,2,0)&"'!$5:$5"),0))),0)+IFERROR(INDIRECT("'"&VLOOKUP($B$3,$BD$3:$BE$83,2,0)&"'!"&ADDRESS(IFERROR(MATCH(VLOOKUP(B21,$AZ$3:$BB$83,2,0),INDIRECT("'"&VLOOKUP($B$3,$BD$3:$BE$83,2,0)&"'!$B:$B"),0),MATCH(9003,INDIRECT("'"&VLOOKUP($B$3,$BD$3:$BE$83,2,0)&"'!$B:$B"),0)+1),MATCH(VLOOKUP($B$4,$BF$3:$BR$21,6,0),INDIRECT("'"&VLOOKUP($B$3,$BD$3:$BE$83,2,0)&"'!$5:$5"),0))),0)+IFERROR(INDIRECT("'"&VLOOKUP($B$3,$BD$3:$BE$83,2,0)&"'!"&ADDRESS(IFERROR(MATCH(VLOOKUP(B21,$AZ$3:$BB$83,2,0),INDIRECT("'"&VLOOKUP($B$3,$BD$3:$BE$83,2,0)&"'!$B:$B"),0),MATCH(9003,INDIRECT("'"&VLOOKUP($B$3,$BD$3:$BE$83,2,0)&"'!$B:$B"),0)+1),MATCH(VLOOKUP($B$4,$BF$3:$BR$21,7,0),INDIRECT("'"&VLOOKUP($B$3,$BD$3:$BE$83,2,0)&"'!$5:$5"),0))),0)+IFERROR(INDIRECT("'"&VLOOKUP($B$3,$BD$3:$BE$83,2,0)&"'!"&ADDRESS(IFERROR(MATCH(VLOOKUP(B21,$AZ$3:$BB$83,2,0),INDIRECT("'"&VLOOKUP($B$3,$BD$3:$BE$83,2,0)&"'!$B:$B"),0),MATCH(9003,INDIRECT("'"&VLOOKUP($B$3,$BD$3:$BE$83,2,0)&"'!$B:$B"),0)+1),MATCH(VLOOKUP($B$4,$BF$3:$BR$21,8,0),INDIRECT("'"&VLOOKUP($B$3,$BD$3:$BE$83,2,0)&"'!$5:$5"),0))),0)+IFERROR(INDIRECT("'"&VLOOKUP($B$3,$BD$3:$BE$83,2,0)&"'!"&ADDRESS(IFERROR(MATCH(VLOOKUP(B21,$AZ$3:$BB$83,2,0),INDIRECT("'"&VLOOKUP($B$3,$BD$3:$BE$83,2,0)&"'!$B:$B"),0),MATCH(9003,INDIRECT("'"&VLOOKUP($B$3,$BD$3:$BE$83,2,0)&"'!$B:$B"),0)+1),MATCH(VLOOKUP($B$4,$BF$3:$BR$21,9,0),INDIRECT("'"&VLOOKUP($B$3,$BD$3:$BE$83,2,0)&"'!$5:$5"),0))),0)+IFERROR(INDIRECT("'"&VLOOKUP($B$3,$BD$3:$BE$83,2,0)&"'!"&ADDRESS(IFERROR(MATCH(VLOOKUP(B21,$AZ$3:$BB$83,2,0),INDIRECT("'"&VLOOKUP($B$3,$BD$3:$BE$83,2,0)&"'!$B:$B"),0),MATCH(9003,INDIRECT("'"&VLOOKUP($B$3,$BD$3:$BE$83,2,0)&"'!$B:$B"),0)+1),MATCH(VLOOKUP($B$4,$BF$3:$BR$21,10,0),INDIRECT("'"&VLOOKUP($B$3,$BD$3:$BE$83,2,0)&"'!$5:$5"),0))),0)+IFERROR(INDIRECT("'"&VLOOKUP($B$3,$BD$3:$BE$83,2,0)&"'!"&ADDRESS(IFERROR(MATCH(VLOOKUP(B21,$AZ$3:$BB$83,2,0),INDIRECT("'"&VLOOKUP($B$3,$BD$3:$BE$83,2,0)&"'!$B:$B"),0),MATCH(9003,INDIRECT("'"&VLOOKUP($B$3,$BD$3:$BE$83,2,0)&"'!$B:$B"),0)+1),MATCH(VLOOKUP($B$4,$BF$3:$BR$21,11,0),INDIRECT("'"&VLOOKUP($B$3,$BD$3:$BE$83,2,0)&"'!$5:$5"),0))),0) -> 1.4711716e+11 | E21: Türkiye Sigorta AŞ | F21: =IFERROR(INDIRECT("'"&VLOOKUP($E$3,$BD$3:$BE$83,2,0)&"'!"&ADDRESS(IFERROR(MATCH(VLOOKUP(E21,$AZ$3:$BB$83,2,0),INDIRECT("'"&VLOOKUP($E$3,$BD$3:$BE$83,2,0)&"'!$B:$B"),0),MATCH(9003,INDIRECT("'"&VLOOKUP($E$3,$BD$3:$BE$83,2,0)&"'!$B:$B"),0)+1),MATCH(VLOOKUP($E$4,$BF$3:$BR$21,2,0),INDIRECT("'"&VLOOKUP($E$3,$BD$3:$BE$83,2,0)&"'!$5:$5"),0))),0)+IFERROR(INDIRECT("'"&VLOOKUP($E$3,$BD$3:$BE$83,2,0)&"'!"&ADDRESS(IFERROR(MATCH(VLOOKUP(E21,$AZ$3:$BB$83,2,0),INDIRECT("'"&VLOOKUP($E$3,$BD$3:$BE$83,2,0)&"'!$B:$B"),0),MATCH(9003,INDIRECT("'"&VLOOKUP($E$3,$BD$3:$BE$83,2,0)&"'!$B:$B"),0)+1),MATCH(VLOOKUP($E$4,$BF$3:$BR$21,3,0),INDIRECT("'"&VLOOKUP($E$3,$BD$3:$BE$83,2,0)&"'!$5:$5"),0))),0)+IFERROR(INDIRECT("'"&VLOOKUP($E$3,$BD$3:$BE$83,2,0)&"'!"&ADDRESS(IFERROR(MATCH(VLOOKUP(E21,$AZ$3:$BB$83,2,0),INDIRECT("'"&VLOOKUP($E$3,$BD$3:$BE$83,2,0)&"'!$B:$B"),0),MATCH(9003,INDIRECT("'"&VLOOKUP($E$3,$BD$3:$BE$83,2,0)&"'!$B:$B"),0)+1),MATCH(VLOOKUP($E$4,$BF$3:$BR$21,4,0),INDIRECT("'"&VLOOKUP($E$3,$BD$3:$BE$83,2,0)&"'!$5:$5"),0))),0)+IFERROR(INDIRECT("'"&VLOOKUP($E$3,$BD$3:$BE$83,2,0)&"'!"&ADDRESS(IFERROR(MATCH(VLOOKUP(E21,$AZ$3:$BB$83,2,0),INDIRECT("'"&VLOOKUP($E$3,$BD$3:$BE$83,2,0)&"'!$B:$B"),0),MATCH(9003,INDIRECT("'"&VLOOKUP($E$3,$BD$3:$BE$83,2,0)&"'!$B:$B"),0)+1),MATCH(VLOOKUP($E$4,$BF$3:$BR$21,5,0),INDIRECT("'"&VLOOKUP($E$3,$BD$3:$BE$83,2,0)&"'!$5:$5"),0))),0)+IFERROR(INDIRECT("'"&VLOOKUP($E$3,$BD$3:$BE$83,2,0)&"'!"&ADDRESS(IFERROR(MATCH(VLOOKUP(E21,$AZ$3:$BB$83,2,0),INDIRECT("'"&VLOOKUP($E$3,$BD$3:$BE$83,2,0)&"'!$B:$B"),0),MATCH(9003,INDIRECT("'"&VLOOKUP($E$3,$BD$3:$BE$83,2,0)&"'!$B:$B"),0)+1),MATCH(VLOOKUP($E$4,$BF$3:$BR$21,6,0),INDIRECT("'"&VLOOKUP($E$3,$BD$3:$BE$83,2,0)&"'!$5:$5"),0))),0)+IFERROR(INDIRECT("'"&VLOOKUP($E$3,$BD$3:$BE$83,2,0)&"'!"&ADDRESS(IFERROR(MATCH(VLOOKUP(E21,$AZ$3:$BB$83,2,0),INDIRECT("'"&VLOOKUP($E$3,$BD$3:$BE$83,2,0)&"'!$B:$B"),0),MATCH(9003,INDIRECT("'"&VLOOKUP($E$3,$BD$3:$BE$83,2,0)&"'!$B:$B"),0)+1),MATCH(VLOOKUP($E$4,$BF$3:$BR$21,7,0),INDIRECT("'"&VLOOKUP($E$3,$BD$3:$BE$83,2,0)&"'!$5:$5"),0))),0)+IFERROR(INDIRECT("'"&VLOOKUP($E$3,$BD$3:$BE$83,2,0)&"'!"&ADDRESS(IFERROR(MATCH(VLOOKUP(E21,$AZ$3:$BB$83,2,0),INDIRECT("'"&VLOOKUP($E$3,$BD$3:$BE$83,2,0)&"'!$B:$B"),0),MATCH(9003,INDIRECT("'"&VLOOKUP($E$3,$BD$3:$BE$83,2,0)&"'!$B:$B"),0)+1),MATCH(VLOOKUP($E$4,$BF$3:$BR$21,8,0),INDIRECT("'"&VLOOKUP($E$3,$BD$3:$BE$83,2,0)&"'!$5:$5"),0))),0)+IFERROR(INDIRECT("'"&VLOOKUP($E$3,$BD$3:$BE$83,2,0)&"'!"&ADDRESS(IFERROR(MATCH(VLOOKUP(E21,$AZ$3:$BB$83,2,0),INDIRECT("'"&VLOOKUP($E$3,$BD$3:$BE$83,2,0)&"'!$B:$B"),0),MATCH(9003,INDIRECT("'"&VLOOKUP($E$3,$BD$3:$BE$83,2,0)&"'!$B:$B"),0)+1),MATCH(VLOOKUP($E$4,$BF$3:$BR$21,9,0),INDIRECT("'"&VLOOKUP($E$3,$BD$3:$BE$83,2,0)&"'!$5:$5"),0))),0)+IFERROR(INDIRECT("'"&VLOOKUP($E$3,$BD$3:$BE$83,2,0)&"'!"&ADDRESS(IFERROR(MATCH(VLOOKUP(E21,$AZ$3:$BB$83,2,0),INDIRECT("'"&VLOOKUP($E$3,$BD$3:$BE$83,2,0)&"'!$B:$B"),0),MATCH(9003,INDIRECT("'"&VLOOKUP($E$3,$BD$3:$BE$83,2,0)&"'!$B:$B"),0)+1),MATCH(VLOOKUP($E$4,$BF$3:$BR$21,10,0),INDIRECT("'"&VLOOKUP($E$3,$BD$3:$BE$83,2,0)&"'!$5:$5"),0))),0)+IFERROR(INDIRECT("'"&VLOOKUP($E$3,$BD$3:$BE$83,2,0)&"'!"&ADDRESS(IFERROR(MATCH(VLOOKUP(E21,$AZ$3:$BB$83,2,0),INDIRECT("'"&VLOOKUP($E$3,$BD$3:$BE$83,2,0)&"'!$B:$B"),0),MATCH(9003,INDIRECT("'"&VLOOKUP($E$3,$BD$3:$BE$83,2,0)&"'!$B:$B"),0)+1),MATCH(VLOOKUP($E$4,$BF$3:$BR$21,11,0),INDIRECT("'"&VLOOKUP($E$3,$BD$3:$BE$83,2,0)&"'!$5:$5"),0))),0) -> 1.4711716e+11 | AZ21: Magdeburger Sigorta AŞ | BA21: 1027 | BD21: Kefalet | BE21: KEFALET
B22: HDI Sigorta AŞ | C22: =IFERROR(INDIRECT("'"&VLOOKUP($B$3,$BD$3:$BE$83,2,0)&"'!"&ADDRESS(IFERROR(MATCH(VLOOKUP(B22,$AZ$3:$BB$83,2,0),INDIRECT("'"&VLOOKUP($B$3,$BD$3:$BE$83,2,0)&"'!$B:$B"),0),MATCH(9003,INDIRECT("'"&VLOOKUP($B$3,$BD$3:$BE$83,2,0)&"'!$B:$B"),0)+1),MATCH(VLOOKUP($B$4,$BF$3:$BR$21,2,0),INDIRECT("'"&VLOOKUP($B$3,$BD$3:$BE$83,2,0)&"'!$5:$5"),0))),0)+IFERROR(INDIRECT("'"&VLOOKUP($B$3,$BD$3:$BE$83,2,0)&"'!"&ADDRESS(IFERROR(MATCH(VLOOKUP(B22,$AZ$3:$BB$83,2,0),INDIRECT("'"&VLOOKUP($B$3,$BD$3:$BE$83,2,0)&"'!$B:$B"),0),MATCH(9003,INDIRECT("'"&VLOOKUP($B$3,$BD$3:$BE$83,2,0)&"'!$B:$B"),0)+1),MATCH(VLOOKUP($B$4,$BF$3:$BR$21,3,0),INDIRECT("'"&VLOOKUP($B$3,$BD$3:$BE$83,2,0)&"'!$5:$5"),0))),0)+IFERROR(INDIRECT("'"&VLOOKUP($B$3,$BD$3:$BE$83,2,0)&"'!"&ADDRESS(IFERROR(MATCH(VLOOKUP(B22,$AZ$3:$BB$83,2,0),INDIRECT("'"&VLOOKUP($B$3,$BD$3:$BE$83,2,0)&"'!$B:$B"),0),MATCH(9003,INDIRECT("'"&VLOOKUP($B$3,$BD$3:$BE$83,2,0)&"'!$B:$B"),0)+1),MATCH(VLOOKUP($B$4,$BF$3:$BR$21,4,0),INDIRECT("'"&VLOOKUP($B$3,$BD$3:$BE$83,2,0)&"'!$5:$5"),0))),0)+IFERROR(INDIRECT("'"&VLOOKUP($B$3,$BD$3:$BE$83,2,0)&"'!"&ADDRESS(IFERROR(MATCH(VLOOKUP(B22,$AZ$3:$BB$83,2,0),INDIRECT("'"&VLOOKUP($B$3,$BD$3:$BE$83,2,0)&"'!$B:$B"),0),MATCH(9003,INDIRECT("'"&VLOOKUP($B$3,$BD$3:$BE$83,2,0)&"'!$B:$B"),0)+1),MATCH(VLOOKUP($B$4,$BF$3:$BR$21,5,0),INDIRECT("'"&VLOOKUP($B$3,$BD$3:$BE$83,2,0)&"'!$5:$5"),0))),0)+IFERROR(INDIRECT("'"&VLOOKUP($B$3,$BD$3:$BE$83,2,0)&"'!"&ADDRESS(IFERROR(MATCH(VLOOKUP(B22,$AZ$3:$BB$83,2,0),INDIRECT("'"&VLOOKUP($B$3,$BD$3:$BE$83,2,0)&"'!$B:$B"),0),MATCH(9003,INDIRECT("'"&VLOOKUP($B$3,$BD$3:$BE$83,2,0)&"'!$B:$B"),0)+1),MATCH(VLOOKUP($B$4,$BF$3:$BR$21,6,0),INDIRECT("'"&VLOOKUP($B$3,$BD$3:$BE$83,2,0)&"'!$5:$5"),0))),0)+IFERROR(INDIRECT("'"&VLOOKUP($B$3,$BD$3:$BE$83,2,0)&"'!"&ADDRESS(IFERROR(MATCH(VLOOKUP(B22,$AZ$3:$BB$83,2,0),INDIRECT("'"&VLOOKUP($B$3,$BD$3:$BE$83,2,0)&"'!$B:$B"),0),MATCH(9003,INDIRECT("'"&VLOOKUP($B$3,$BD$3:$BE$83,2,0)&"'!$B:$B"),0)+1),MATCH(VLOOKUP($B$4,$BF$3:$BR$21,7,0),INDIRECT("'"&VLOOKUP($B$3,$BD$3:$BE$83,2,0)&"'!$5:$5"),0))),0)+IFERROR(INDIRECT("'"&VLOOKUP($B$3,$BD$3:$BE$83,2,0)&"'!"&ADDRESS(IFERROR(MATCH(VLOOKUP(B22,$AZ$3:$BB$83,2,0),INDIRECT("'"&VLOOKUP($B$3,$BD$3:$BE$83,2,0)&"'!$B:$B"),0),MATCH(9003,INDIRECT("'"&VLOOKUP($B$3,$BD$3:$BE$83,2,0)&"'!$B:$B"),0)+1),MATCH(VLOOKUP($B$4,$BF$3:$BR$21,8,0),INDIRECT("'"&VLOOKUP($B$3,$BD$3:$BE$83,2,0)&"'!$5:$5"),0))),0)+IFERROR(INDIRECT("'"&VLOOKUP($B$3,$BD$3:$BE$83,2,0)&"'!"&ADDRESS(IFERROR(MATCH(VLOOKUP(B22,$AZ$3:$BB$83,2,0),INDIRECT("'"&VLOOKUP($B$3,$BD$3:$BE$83,2,0)&"'!$B:$B"),0),MATCH(9003,INDIRECT("'"&VLOOKUP($B$3,$BD$3:$BE$83,2,0)&"'!$B:$B"),0)+1),MATCH(VLOOKUP($B$4,$BF$3:$BR$21,9,0),INDIRECT("'"&VLOOKUP($B$3,$BD$3:$BE$83,2,0)&"'!$5:$5"),0))),0)+IFERROR(INDIRECT("'"&VLOOKUP($B$3,$BD$3:$BE$83,2,0)&"'!"&ADDRESS(IFERROR(MATCH(VLOOKUP(B22,$AZ$3:$BB$83,2,0),INDIRECT("'"&VLOOKUP($B$3,$BD$3:$BE$83,2,0)&"'!$B:$B"),0),MATCH(9003,INDIRECT("'"&VLOOKUP($B$3,$BD$3:$BE$83,2,0)&"'!$B:$B"),0)+1),MATCH(VLOOKUP($B$4,$BF$3:$BR$21,10,0),INDIRECT("'"&VLOOKUP($B$3,$BD$3:$BE$83,2,0)&"'!$5:$5"),0))),0)+IFERROR(INDIRECT("'"&VLOOKUP($B$3,$BD$3:$BE$83,2,0)&"'!"&ADDRESS(IFERROR(MATCH(VLOOKUP(B22,$AZ$3:$BB$83,2,0),INDIRECT("'"&VLOOKUP($B$3,$BD$3:$BE$83,2,0)&"'!$B:$B"),0),MATCH(9003,INDIRECT("'"&VLOOKUP($B$3,$BD$3:$BE$83,2,0)&"'!$B:$B"),0)+1),MATCH(VLOOKUP($B$4,$BF$3:$BR$21,11,0),INDIRECT("'"&VLOOKUP($B$3,$BD$3:$BE$83,2,0)&"'!$5:$5"),0))),0) -> 5.0640343e+10 | E22: HDI Sigorta AŞ | F22: =IFERROR(INDIRECT("'"&VLOOKUP($E$3,$BD$3:$BE$83,2,0)&"'!"&ADDRESS(IFERROR(MATCH(VLOOKUP(E22,$AZ$3:$BB$83,2,0),INDIRECT("'"&VLOOKUP($E$3,$BD$3:$BE$83,2,0)&"'!$B:$B"),0),MATCH(9003,INDIRECT("'"&VLOOKUP($E$3,$BD$3:$BE$83,2,0)&"'!$B:$B"),0)+1),MATCH(VLOOKUP($E$4,$BF$3:$BR$21,2,0),INDIRECT("'"&VLOOKUP($E$3,$BD$3:$BE$83,2,0)&"'!$5:$5"),0))),0)+IFERROR(INDIRECT("'"&VLOOKUP($E$3,$BD$3:$BE$83,2,0)&"'!"&ADDRESS(IFERROR(MATCH(VLOOKUP(E22,$AZ$3:$BB$83,2,0),INDIRECT("'"&VLOOKUP($E$3,$BD$3:$BE$83,2,0)&"'!$B:$B"),0),MATCH(9003,INDIRECT("'"&VLOOKUP($E$3,$BD$3:$BE$83,2,0)&"'!$B:$B"),0)+1),MATCH(VLOOKUP($E$4,$BF$3:$BR$21,3,0),INDIRECT("'"&VLOOKUP($E$3,$BD$3:$BE$83,2,0)&"'!$5:$5"),0))),0)+IFERROR(INDIRECT("'"&VLOOKUP($E$3,$BD$3:$BE$83,2,0)&"'!"&ADDRESS(IFERROR(MATCH(VLOOKUP(E22,$AZ$3:$BB$83,2,0),INDIRECT("'"&VLOOKUP($E$3,$BD$3:$BE$83,2,0)&"'!$B:$B"),0),MATCH(9003,INDIRECT("'"&VLOOKUP($E$3,$BD$3:$BE$83,2,0)&"'!$B:$B"),0)+1),MATCH(VLOOKUP($E$4,$BF$3:$BR$21,4,0),INDIRECT("'"&VLOOKUP($E$3,$BD$3:$BE$83,2,0)&"'!$5:$5"),0))),0)+IFERROR(INDIRECT("'"&VLOOKUP($E$3,$BD$3:$BE$83,2,0)&"'!"&ADDRESS(IFERROR(MATCH(VLOOKUP(E22,$AZ$3:$BB$83,2,0),INDIRECT("'"&VLOOKUP($E$3,$BD$3:$BE$83,2,0)&"'!$B:$B"),0),MATCH(9003,INDIRECT("'"&VLOOKUP($E$3,$BD$3:$BE$83,2,0)&"'!$B:$B"),0)+1),MATCH(VLOOKUP($E$4,$BF$3:$BR$21,5,0),INDIRECT("'"&VLOOKUP($E$3,$BD$3:$BE$83,2,0)&"'!$5:$5"),0))),0)+IFERROR(INDIRECT("'"&VLOOKUP($E$3,$BD$3:$BE$83,2,0)&"'!"&ADDRESS(IFERROR(MATCH(VLOOKUP(E22,$AZ$3:$BB$83,2,0),INDIRECT("'"&VLOOKUP($E$3,$BD$3:$BE$83,2,0)&"'!$B:$B"),0),MATCH(9003,INDIRECT("'"&VLOOKUP($E$3,$BD$3:$BE$83,2,0)&"'!$B:$B"),0)+1),MATCH(VLOOKUP($E$4,$BF$3:$BR$21,6,0),INDIRECT("'"&VLOOKUP($E$3,$BD$3:$BE$83,2,0)&"'!$5:$5"),0))),0)+IFERROR(INDIRECT("'"&VLOOKUP($E$3,$BD$3:$BE$83,2,0)&"'!"&ADDRESS(IFERROR(MATCH(VLOOKUP(E22,$AZ$3:$BB$83,2,0),INDIRECT("'"&VLOOKUP($E$3,$BD$3:$BE$83,2,0)&"'!$B:$B"),0),MATCH(9003,INDIRECT("'"&VLOOKUP($E$3,$BD$3:$BE$83,2,0)&"'!$B:$B"),0)+1),MATCH(VLOOKUP($E$4,$BF$3:$BR$21,7,0),INDIRECT("'"&VLOOKUP($E$3,$BD$3:$BE$83,2,0)&"'!$5:$5"),0))),0)+IFERROR(INDIRECT("'"&VLOOKUP($E$3,$BD$3:$BE$83,2,0)&"'!"&ADDRESS(IFERROR(MATCH(VLOOKUP(E22,$AZ$3:$BB$83,2,0),INDIRECT("'"&VLOOKUP($E$3,$BD$3:$BE$83,2,0)&"'!$B:$B"),0),MATCH(9003,INDIRECT("'"&VLOOKUP($E$3,$BD$3:$BE$83,2,0)&"'!$B:$B"),0)+1),MATCH(VLOOKUP($E$4,$BF$3:$BR$21,8,0),INDIRECT("'"&VLOOKUP($E$3,$BD$3:$BE$83,2,0)&"'!$5:$5"),0))),0)+IFERROR(INDIRECT("'"&VLOOKUP($E$3,$BD$3:$BE$83,2,0)&"'!"&ADDRESS(IFERROR(MATCH(VLOOKUP(E22,$AZ$3:$BB$83,2,0),INDIRECT("'"&VLOOKUP($E$3,$BD$3:$BE$83,2,0)&"'!$B:$B"),0),MATCH(9003,INDIRECT("'"&VLOOKUP($E$3,$BD$3:$BE$83,2,0)&"'!$B:$B"),0)+1),MATCH(VLOOKUP($E$4,$BF$3:$BR$21,9,0),INDIRECT("'"&VLOOKUP($E$3,$BD$3:$BE$83,2,0)&"'!$5:$5"),0))),0)+IFERROR(INDIRECT("'"&VLOOKUP($E$3,$BD$3:$BE$83,2,0)&"'!"&ADDRESS(IFERROR(MATCH(VLOOKUP(E22,$AZ$3:$BB$83,2,0),INDIRECT("'"&VLOOKUP($E$3,$BD$3:$BE$83,2,0)&"'!$B:$B"),0),MATCH(9003,INDIRECT("'"&VLOOKUP($E$3,$BD$3:$BE$83,2,0)&"'!$B:$B"),0)+1),MATCH(VLOOKUP($E$4,$BF$3:$BR$21,10,0),INDIRECT("'"&VLOOKUP($E$3,$BD$3:$BE$83,2,0)&"'!$5:$5"),0))),0)+IFERROR(INDIRECT("'"&VLOOKUP($E$3,$BD$3:$BE$83,2,0)&"'!"&ADDRESS(IFERROR(MATCH(VLOOKUP(E22,$AZ$3:$BB$83,2,0),INDIRECT("'"&VLOOKUP($E$3,$BD$3:$BE$83,2,0)&"'!$B:$B"),0),MATCH(9003,INDIRECT("'"&VLOOKUP($E$3,$BD$3:$BE$83,2,0)&"'!$B:$B"),0)+1),MATCH(VLOOKUP($E$4,$BF$3:$BR$21,11,0),INDIRECT("'"&VLOOKUP($E$3,$BD$3:$BE$83,2,0)&"'!$5:$5"),0))),0) -> 5.0640343e+10 | AZ22: Mapfre Sigorta AŞ | BA22: 1028 | BD22: Finansal Kayıplar | BE22: FİNANSAL KAYIPLAR
B23: Bereket Sigorta AŞ | C23: =IFERROR(INDIRECT("'"&VLOOKUP($B$3,$BD$3:$BE$83,2,0)&"'!"&ADDRESS(IFERROR(MATCH(VLOOKUP(B23,$AZ$3:$BB$83,2,0),INDIRECT("'"&VLOOKUP($B$3,$BD$3:$BE$83,2,0)&"'!$B:$B"),0),MATCH(9003,INDIRECT("'"&VLOOKUP($B$3,$BD$3:$BE$83,2,0)&"'!$B:$B"),0)+1),MATCH(VLOOKUP($B$4,$BF$3:$BR$21,2,0),INDIRECT("'"&VLOOKUP($B$3,$BD$3:$BE$83,2,0)&"'!$5:$5"),0))),0)+IFERROR(INDIRECT("'"&VLOOKUP($B$3,$BD$3:$BE$83,2,0)&"'!"&ADDRESS(IFERROR(MATCH(VLOOKUP(B23,$AZ$3:$BB$83,2,0),INDIRECT("'"&VLOOKUP($B$3,$BD$3:$BE$83,2,0)&"'!$B:$B"),0),MATCH(9003,INDIRECT("'"&VLOOKUP($B$3,$BD$3:$BE$83,2,0)&"'!$B:$B"),0)+1),MATCH(VLOOKUP($B$4,$BF$3:$BR$21,3,0),INDIRECT("'"&VLOOKUP($B$3,$BD$3:$BE$83,2,0)&"'!$5:$5"),0))),0)+IFERROR(INDIRECT("'"&VLOOKUP($B$3,$BD$3:$BE$83,2,0)&"'!"&ADDRESS(IFERROR(MATCH(VLOOKUP(B23,$AZ$3:$BB$83,2,0),INDIRECT("'"&VLOOKUP($B$3,$BD$3:$BE$83,2,0)&"'!$B:$B"),0),MATCH(9003,INDIRECT("'"&VLOOKUP($B$3,$BD$3:$BE$83,2,0)&"'!$B:$B"),0)+1),MATCH(VLOOKUP($B$4,$BF$3:$BR$21,4,0),INDIRECT("'"&VLOOKUP($B$3,$BD$3:$BE$83,2,0)&"'!$5:$5"),0))),0)+IFERROR(INDIRECT("'"&VLOOKUP($B$3,$BD$3:$BE$83,2,0)&"'!"&ADDRESS(IFERROR(MATCH(VLOOKUP(B23,$AZ$3:$BB$83,2,0),INDIRECT("'"&VLOOKUP($B$3,$BD$3:$BE$83,2,0)&"'!$B:$B"),0),MATCH(9003,INDIRECT("'"&VLOOKUP($B$3,$BD$3:$BE$83,2,0)&"'!$B:$B"),0)+1),MATCH(VLOOKUP($B$4,$BF$3:$BR$21,5,0),INDIRECT("'"&VLOOKUP($B$3,$BD$3:$BE$83,2,0)&"'!$5:$5"),0))),0)+IFERROR(INDIRECT("'"&VLOOKUP($B$3,$BD$3:$BE$83,2,0)&"'!"&ADDRESS(IFERROR(MATCH(VLOOKUP(B23,$AZ$3:$BB$83,2,0),INDIRECT("'"&VLOOKUP($B$3,$BD$3:$BE$83,2,0)&"'!$B:$B"),0),MATCH(9003,INDIRECT("'"&VLOOKUP($B$3,$BD$3:$BE$83,2,0)&"'!$B:$B"),0)+1),MATCH(VLOOKUP($B$4,$BF$3:$BR$21,6,0),INDIRECT("'"&VLOOKUP($B$3,$BD$3:$BE$83,2,0)&"'!$5:$5"),0))),0)+IFERROR(INDIRECT("'"&VLOOKUP($B$3,$BD$3:$BE$83,2,0)&"'!"&ADDRESS(IFERROR(MATCH(VLOOKUP(B23,$AZ$3:$BB$83,2,0),INDIRECT("'"&VLOOKUP($B$3,$BD$3:$BE$83,2,0)&"'!$B:$B"),0),MATCH(9003,INDIRECT("'"&VLOOKUP($B$3,$BD$3:$BE$83,2,0)&"'!$B:$B"),0)+1),MATCH(VLOOKUP($B$4,$BF$3:$BR$21,7,0),INDIRECT("'"&VLOOKUP($B$3,$BD$3:$BE$83,2,0)&"'!$5:$5"),0))),0)+IFERROR(INDIRECT("'"&VLOOKUP($B$3,$BD$3:$BE$83,2,0)&"'!"&ADDRESS(IFERROR(MATCH(VLOOKUP(B23,$AZ$3:$BB$83,2,0),INDIRECT("'"&VLOOKUP($B$3,$BD$3:$BE$83,2,0)&"'!$B:$B"),0),MATCH(9003,INDIRECT("'"&VLOOKUP($B$3,$BD$3:$BE$83,2,0)&"'!$B:$B"),0)+1),MATCH(VLOOKUP($B$4,$BF$3:$BR$21,8,0),INDIRECT("'"&VLOOKUP($B$3,$BD$3:$BE$83,2,0)&"'!$5:$5"),0))),0)+IFERROR(INDIRECT("'"&VLOOKUP($B$3,$BD$3:$BE$83,2,0)&"'!"&ADDRESS(IFERROR(MATCH(VLOOKUP(B23,$AZ$3:$BB$83,2,0),INDIRECT("'"&VLOOKUP($B$3,$BD$3:$BE$83,2,0)&"'!$B:$B"),0),MATCH(9003,INDIRECT("'"&VLOOKUP($B$3,$BD$3:$BE$83,2,0)&"'!$B:$B"),0)+1),MATCH(VLOOKUP($B$4,$BF$3:$BR$21,9,0),INDIRECT("'"&VLOOKUP($B$3,$BD$3:$BE$83,2,0)&"'!$5:$5"),0))),0)+IFERROR(INDIRECT("'"&VLOOKUP($B$3,$BD$3:$BE$83,2,0)&"'!"&ADDRESS(IFERROR(MATCH(VLOOKUP(B23,$AZ$3:$BB$83,2,0),INDIRECT("'"&VLOOKUP($B$3,$BD$3:$BE$83,2,0)&"'!$B:$B"),0),MATCH(9003,INDIRECT("'"&VLOOKUP($B$3,$BD$3:$BE$83,2,0)&"'!$B:$B"),0)+1),MATCH(VLOOKUP($B$4,$BF$3:$BR$21,10,0),INDIRECT("'"&VLOOKUP($B$3,$BD$3:$BE$83,2,0)&"'!$5:$5"),0))),0)+IFERROR(INDIRECT("'"&VLOOKUP($B$3,$BD$3:$BE$83,2,0)&"'!"&ADDRESS(IFERROR(MATCH(VLOOKUP(B23,$AZ$3:$BB$83,2,0),INDIRECT("'"&VLOOKUP($B$3,$BD$3:$BE$83,2,0)&"'!$B:$B"),0),MATCH(9003,INDIRECT("'"&VLOOKUP($B$3,$BD$3:$BE$83,2,0)&"'!$B:$B"),0)+1),MATCH(VLOOKUP($B$4,$BF$3:$BR$21,11,0),INDIRECT("'"&VLOOKUP($B$3,$BD$3:$BE$83,2,0)&"'!$5:$5"),0))),0) -> 1.9781293e+10 | E23: Bereket Sigorta AŞ | F23: =IFERROR(INDIRECT("'"&VLOOKUP($E$3,$BD$3:$BE$83,2,0)&"'!"&ADDRESS(IFERROR(MATCH(VLOOKUP(E23,$AZ$3:$BB$83,2,0),INDIRECT("'"&VLOOKUP($E$3,$BD$3:$BE$83,2,0)&"'!$B:$B"),0),MATCH(9003,INDIRECT("'"&VLOOKUP($E$3,$BD$3:$BE$83,2,0)&"'!$B:$B"),0)+1),MATCH(VLOOKUP($E$4,$BF$3:$BR$21,2,0),INDIRECT("'"&VLOOKUP($E$3,$BD$3:$BE$83,2,0)&"'!$5:$5"),0))),0)+IFERROR(INDIRECT("'"&VLOOKUP($E$3,$BD$3:$BE$83,2,0)&"'!"&ADDRESS(IFERROR(MATCH(VLOOKUP(E23,$AZ$3:$BB$83,2,0),INDIRECT("'"&VLOOKUP($E$3,$BD$3:$BE$83,2,0)&"'!$B:$B"),0),MATCH(9003,INDIRECT("'"&VLOOKUP($E$3,$BD$3:$BE$83,2,0)&"'!$B:$B"),0)+1),MATCH(VLOOKUP($E$4,$BF$3:$BR$21,3,0),INDIRECT("'"&VLOOKUP($E$3,$BD$3:$BE$83,2,0)&"'!$5:$5"),0))),0)+IFERROR(INDIRECT("'"&VLOOKUP($E$3,$BD$3:$BE$83,2,0)&"'!"&ADDRESS(IFERROR(MATCH(VLOOKUP(E23,$AZ$3:$BB$83,2,0),INDIRECT("'"&VLOOKUP($E$3,$BD$3:$BE$83,2,0)&"'!$B:$B"),0),MATCH(9003,INDIRECT("'"&VLOOKUP($E$3,$BD$3:$BE$83,2,0)&"'!$B:$B"),0)+1),MATCH(VLOOKUP($E$4,$BF$3:$BR$21,4,0),INDIRECT("'"&VLOOKUP($E$3,$BD$3:$BE$83,2,0)&"'!$5:$5"),0))),0)+IFERROR(INDIRECT("'"&VLOOKUP($E$3,$BD$3:$BE$83,2,0)&"'!"&ADDRESS(IFERROR(MATCH(VLOOKUP(E23,$AZ$3:$BB$83,2,0),INDIRECT("'"&VLOOKUP($E$3,$BD$3:$BE$83,2,0)&"'!$B:$B"),0),MATCH(9003,INDIRECT("'"&VLOOKUP($E$3,$BD$3:$BE$83,2,0)&"'!$B:$B"),0)+1),MATCH(VLOOKUP($E$4,$BF$3:$BR$21,5,0),INDIRECT("'"&VLOOKUP($E$3,$BD$3:$BE$83,2,0)&"'!$5:$5"),0))),0)+IFERROR(INDIRECT("'"&VLOOKUP($E$3,$BD$3:$BE$83,2,0)&"'!"&ADDRESS(IFERROR(MATCH(VLOOKUP(E23,$AZ$3:$BB$83,2,0),INDIRECT("'"&VLOOKUP($E$3,$BD$3:$BE$83,2,0)&"'!$B:$B"),0),MATCH(9003,INDIRECT("'"&VLOOKUP($E$3,$BD$3:$BE$83,2,0)&"'!$B:$B"),0)+1),MATCH(VLOOKUP($E$4,$BF$3:$BR$21,6,0),INDIRECT("'"&VLOOKUP($E$3,$BD$3:$BE$83,2,0)&"'!$5:$5"),0))),0)+IFERROR(INDIRECT("'"&VLOOKUP($E$3,$BD$3:$BE$83,2,0)&"'!"&ADDRESS(IFERROR(MATCH(VLOOKUP(E23,$AZ$3:$BB$83,2,0),INDIRECT("'"&VLOOKUP($E$3,$BD$3:$BE$83,2,0)&"'!$B:$B"),0),MATCH(9003,INDIRECT("'"&VLOOKUP($E$3,$BD$3:$BE$83,2,0)&"'!$B:$B"),0)+1),MATCH(VLOOKUP($E$4,$BF$3:$BR$21,7,0),INDIRECT("'"&VLOOKUP($E$3,$BD$3:$BE$83,2,0)&"'!$5:$5"),0))),0)+IFERROR(INDIRECT("'"&VLOOKUP($E$3,$BD$3:$BE$83,2,0)&"'!"&ADDRESS(IFERROR(MATCH(VLOOKUP(E23,$AZ$3:$BB$83,2,0),INDIRECT("'"&VLOOKUP($E$3,$BD$3:$BE$83,2,0)&"'!$B:$B"),0),MATCH(9003,INDIRECT("'"&VLOOKUP($E$3,$BD$3:$BE$83,2,0)&"'!$B:$B"),0)+1),MATCH(VLOOKUP($E$4,$BF$3:$BR$21,8,0),INDIRECT("'"&VLOOKUP($E$3,$BD$3:$BE$83,2,0)&"'!$5:$5"),0))),0)+IFERROR(INDIRECT("'"&VLOOKUP($E$3,$BD$3:$BE$83,2,0)&"'!"&ADDRESS(IFERROR(MATCH(VLOOKUP(E23,$AZ$3:$BB$83,2,0),INDIRECT("'"&VLOOKUP($E$3,$BD$3:$BE$83,2,0)&"'!$B:$B"),0),MATCH(9003,INDIRECT("'"&VLOOKUP($E$3,$BD$3:$BE$83,2,0)&"'!$B:$B"),0)+1),MATCH(VLOOKUP($E$4,$BF$3:$BR$21,9,0),INDIRECT("'"&VLOOKUP($E$3,$BD$3:$BE$83,2,0)&"'!$5:$5"),0))),0)+IFERROR(INDIRECT("'"&VLOOKUP($E$3,$BD$3:$BE$83,2,0)&"'!"&ADDRESS(IFERROR(MATCH(VLOOKUP(E23,$AZ$3:$BB$83,2,0),INDIRECT("'"&VLOOKUP($E$3,$BD$3:$BE$83,2,0)&"'!$B:$B"),0),MATCH(9003,INDIRECT("'"&VLOOKUP($E$3,$BD$3:$BE$83,2,0)&"'!$B:$B"),0)+1),MATCH(VLOOKUP($E$4,$BF$3:$BR$21,10,0),INDIRECT("'"&VLOOKUP($E$3,$BD$3:$BE$83,2,0)&"'!$5:$5"),0))),0)+IFERROR(INDIRECT("'"&VLOOKUP($E$3,$BD$3:$BE$83,2,0)&"'!"&ADDRESS(IFERROR(MATCH(VLOOKUP(E23,$AZ$3:$BB$83,2,0),INDIRECT("'"&VLOOKUP($E$3,$BD$3:$BE$83,2,0)&"'!$B:$B"),0),MATCH(9003,INDIRECT("'"&VLOOKUP($E$3,$BD$3:$BE$83,2,0)&"'!$B:$B"),0)+1),MATCH(VLOOKUP($E$4,$BF$3:$BR$21,11,0),INDIRECT("'"&VLOOKUP($E$3,$BD$3:$BE$83,2,0)&"'!$5:$5"),0))),0) -> 1.9781293e+10 | AZ23: Neova Katılım Sigorta AŞ | BA23: 1030 | BD23: Hukuksal Koruma | BE23: HUKUKSAL KORUMA
B24: Magdeburger Sigorta AŞ | C24: =IFERROR(INDIRECT("'"&VLOOKUP($B$3,$BD$3:$BE$83,2,0)&"'!"&ADDRESS(IFERROR(MATCH(VLOOKUP(B24,$AZ$3:$BB$83,2,0),INDIRECT("'"&VLOOKUP($B$3,$BD$3:$BE$83,2,0)&"'!$B:$B"),0),MATCH(9003,INDIRECT("'"&VLOOKUP($B$3,$BD$3:$BE$83,2,0)&"'!$B:$B"),0)+1),MATCH(VLOOKUP($B$4,$BF$3:$BR$21,2,0),INDIRECT("'"&VLOOKUP($B$3,$BD$3:$BE$83,2,0)&"'!$5:$5"),0))),0)+IFERROR(INDIRECT("'"&VLOOKUP($B$3,$BD$3:$BE$83,2,0)&"'!"&ADDRESS(IFERROR(MATCH(VLOOKUP(B24,$AZ$3:$BB$83,2,0),INDIRECT("'"&VLOOKUP($B$3,$BD$3:$BE$83,2,0)&"'!$B:$B"),0),MATCH(9003,INDIRECT("'"&VLOOKUP($B$3,$BD$3:$BE$83,2,0)&"'!$B:$B"),0)+1),MATCH(VLOOKUP($B$4,$BF$3:$BR$21,3,0),INDIRECT("'"&VLOOKUP($B$3,$BD$3:$BE$83,2,0)&"'!$5:$5"),0))),0)+IFERROR(INDIRECT("'"&VLOOKUP($B$3,$BD$3:$BE$83,2,0)&"'!"&ADDRESS(IFERROR(MATCH(VLOOKUP(B24,$AZ$3:$BB$83,2,0),INDIRECT("'"&VLOOKUP($B$3,$BD$3:$BE$83,2,0)&"'!$B:$B"),0),MATCH(9003,INDIRECT("'"&VLOOKUP($B$3,$BD$3:$BE$83,2,0)&"'!$B:$B"),0)+1),MATCH(VLOOKUP($B$4,$BF$3:$BR$21,4,0),INDIRECT("'"&VLOOKUP($B$3,$BD$3:$BE$83,2,0)&"'!$5:$5"),0))),0)+IFERROR(INDIRECT("'"&VLOOKUP($B$3,$BD$3:$BE$83,2,0)&"'!"&ADDRESS(IFERROR(MATCH(VLOOKUP(B24,$AZ$3:$BB$83,2,0),INDIRECT("'"&VLOOKUP($B$3,$BD$3:$BE$83,2,0)&"'!$B:$B"),0),MATCH(9003,INDIRECT("'"&VLOOKUP($B$3,$BD$3:$BE$83,2,0)&"'!$B:$B"),0)+1),MATCH(VLOOKUP($B$4,$BF$3:$BR$21,5,0),INDIRECT("'"&VLOOKUP($B$3,$BD$3:$BE$83,2,0)&"'!$5:$5"),0))),0)+IFERROR(INDIRECT("'"&VLOOKUP($B$3,$BD$3:$BE$83,2,0)&"'!"&ADDRESS(IFERROR(MATCH(VLOOKUP(B24,$AZ$3:$BB$83,2,0),INDIRECT("'"&VLOOKUP($B$3,$BD$3:$BE$83,2,0)&"'!$B:$B"),0),MATCH(9003,INDIRECT("'"&VLOOKUP($B$3,$BD$3:$BE$83,2,0)&"'!$B:$B"),0)+1),MATCH(VLOOKUP($B$4,$BF$3:$BR$21,6,0),INDIRECT("'"&VLOOKUP($B$3,$BD$3:$BE$83,2,0)&"'!$5:$5"),0))),0)+IFERROR(INDIRECT("'"&VLOOKUP($B$3,$BD$3:$BE$83,2,0)&"'!"&ADDRESS(IFERROR(MATCH(VLOOKUP(B24,$AZ$3:$BB$83,2,0),INDIRECT("'"&VLOOKUP($B$3,$BD$3:$BE$83,2,0)&"'!$B:$B"),0),MATCH(9003,INDIRECT("'"&VLOOKUP($B$3,$BD$3:$BE$83,2,0)&"'!$B:$B"),0)+1),MATCH(VLOOKUP($B$4,$BF$3:$BR$21,7,0),INDIRECT("'"&VLOOKUP($B$3,$BD$3:$BE$83,2,0)&"'!$5:$5"),0))),0)+IFERROR(INDIRECT("'"&VLOOKUP($B$3,$BD$3:$BE$83,2,0)&"'!"&ADDRESS(IFERROR(MATCH(VLOOKUP(B24,$AZ$3:$BB$83,2,0),INDIRECT("'"&VLOOKUP($B$3,$BD$3:$BE$83,2,0)&"'!$B:$B"),0),MATCH(9003,INDIRECT("'"&VLOOKUP($B$3,$BD$3:$BE$83,2,0)&"'!$B:$B"),0)+1),MATCH(VLOOKUP($B$4,$BF$3:$BR$21,8,0),INDIRECT("'"&VLOOKUP($B$3,$BD$3:$BE$83,2,0)&"'!$5:$5"),0))),0)+IFERROR(INDIRECT("'"&VLOOKUP($B$3,$BD$3:$BE$83,2,0)&"'!"&ADDRESS(IFERROR(MATCH(VLOOKUP(B24,$AZ$3:$BB$83,2,0),INDIRECT("'"&VLOOKUP($B$3,$BD$3:$BE$83,2,0)&"'!$B:$B"),0),MATCH(9003,INDIRECT("'"&VLOOKUP($B$3,$BD$3:$BE$83,2,0)&"'!$B:$B"),0)+1),MATCH(VLOOKUP($B$4,$BF$3:$BR$21,9,0),INDIRECT("'"&VLOOKUP($B$3,$BD$3:$BE$83,2,0)&"'!$5:$5"),0))),0)+IFERROR(INDIRECT("'"&VLOOKUP($B$3,$BD$3:$BE$83,2,0)&"'!"&ADDRESS(IFERROR(MATCH(VLOOKUP(B24,$AZ$3:$BB$83,2,0),INDIRECT("'"&VLOOKUP($B$3,$BD$3:$BE$83,2,0)&"'!$B:$B"),0),MATCH(9003,INDIRECT("'"&VLOOKUP($B$3,$BD$3:$BE$83,2,0)&"'!$B:$B"),0)+1),MATCH(VLOOKUP($B$4,$BF$3:$BR$21,10,0),INDIRECT("'"&VLOOKUP($B$3,$BD$3:$BE$83,2,0)&"'!$5:$5"),0))),0)+IFERROR(INDIRECT("'"&VLOOKUP($B$3,$BD$3:$BE$83,2,0)&"'!"&ADDRESS(IFERROR(MATCH(VLOOKUP(B24,$AZ$3:$BB$83,2,0),INDIRECT("'"&VLOOKUP($B$3,$BD$3:$BE$83,2,0)&"'!$B:$B"),0),MATCH(9003,INDIRECT("'"&VLOOKUP($B$3,$BD$3:$BE$83,2,0)&"'!$B:$B"),0)+1),MATCH(VLOOKUP($B$4,$BF$3:$BR$21,11,0),INDIRECT("'"&VLOOKUP($B$3,$BD$3:$BE$83,2,0)&"'!$5:$5"),0))),0) -> 8.6030305e+09 | E24: Magdeburger Sigorta AŞ | F24: =IFERROR(INDIRECT("'"&VLOOKUP($E$3,$BD$3:$BE$83,2,0)&"'!"&ADDRESS(IFERROR(MATCH(VLOOKUP(E24,$AZ$3:$BB$83,2,0),INDIRECT("'"&VLOOKUP($E$3,$BD$3:$BE$83,2,0)&"'!$B:$B"),0),MATCH(9003,INDIRECT("'"&VLOOKUP($E$3,$BD$3:$BE$83,2,0)&"'!$B:$B"),0)+1),MATCH(VLOOKUP($E$4,$BF$3:$BR$21,2,0),INDIRECT("'"&VLOOKUP($E$3,$BD$3:$BE$83,2,0)&"'!$5:$5"),0))),0)+IFERROR(INDIRECT("'"&VLOOKUP($E$3,$BD$3:$BE$83,2,0)&"'!"&ADDRESS(IFERROR(MATCH(VLOOKUP(E24,$AZ$3:$BB$83,2,0),INDIRECT("'"&VLOOKUP($E$3,$BD$3:$BE$83,2,0)&"'!$B:$B"),0),MATCH(9003,INDIRECT("'"&VLOOKUP($E$3,$BD$3:$BE$83,2,0)&"'!$B:$B"),0)+1),MATCH(VLOOKUP($E$4,$BF$3:$BR$21,3,0),INDIRECT("'"&VLOOKUP($E$3,$BD$3:$BE$83,2,0)&"'!$5:$5"),0))),0)+IFERROR(INDIRECT("'"&VLOOKUP($E$3,$BD$3:$BE$83,2,0)&"'!"&ADDRESS(IFERROR(MATCH(VLOOKUP(E24,$AZ$3:$BB$83,2,0),INDIRECT("'"&VLOOKUP($E$3,$BD$3:$BE$83,2,0)&"'!$B:$B"),0),MATCH(9003,INDIRECT("'"&VLOOKUP($E$3,$BD$3:$BE$83,2,0)&"'!$B:$B"),0)+1),MATCH(VLOOKUP($E$4,$BF$3:$BR$21,4,0),INDIRECT("'"&VLOOKUP($E$3,$BD$3:$BE$83,2,0)&"'!$5:$5"),0))),0)+IFERROR(INDIRECT("'"&VLOOKUP($E$3,$BD$3:$BE$83,2,0)&"'!"&ADDRESS(IFERROR(MATCH(VLOOKUP(E24,$AZ$3:$BB$83,2,0),INDIRECT("'"&VLOOKUP($E$3,$BD$3:$BE$83,2,0)&"'!$B:$B"),0),MATCH(9003,INDIRECT("'"&VLOOKUP($E$3,$BD$3:$BE$83,2,0)&"'!$B:$B"),0)+1),MATCH(VLOOKUP($E$4,$BF$3:$BR$21,5,0),INDIRECT("'"&VLOOKUP($E$3,$BD$3:$BE$83,2,0)&"'!$5:$5"),0))),0)+IFERROR(INDIRECT("'"&VLOOKUP($E$3,$BD$3:$BE$83,2,0)&"'!"&ADDRESS(IFERROR(MATCH(VLOOKUP(E24,$AZ$3:$BB$83,2,0),INDIRECT("'"&VLOOKUP($E$3,$BD$3:$BE$83,2,0)&"'!$B:$B"),0),MATCH(9003,INDIRECT("'"&VLOOKUP($E$3,$BD$3:$BE$83,2,0)&"'!$B:$B"),0)+1),MATCH(VLOOKUP($E$4,$BF$3:$BR$21,6,0),INDIRECT("'"&VLOOKUP($E$3,$BD$3:$BE$83,2,0)&"'!$5:$5"),0))),0)+IFERROR(INDIRECT("'"&VLOOKUP($E$3,$BD$3:$BE$83,2,0)&"'!"&ADDRESS(IFERROR(MATCH(VLOOKUP(E24,$AZ$3:$BB$83,2,0),INDIRECT("'"&VLOOKUP($E$3,$BD$3:$BE$83,2,0)&"'!$B:$B"),0),MATCH(9003,INDIRECT("'"&VLOOKUP($E$3,$BD$3:$BE$83,2,0)&"'!$B:$B"),0)+1),MATCH(VLOOKUP($E$4,$BF$3:$BR$21,7,0),INDIRECT("'"&VLOOKUP($E$3,$BD$3:$BE$83,2,0)&"'!$5:$5"),0))),0)+IFERROR(INDIRECT("'"&VLOOKUP($E$3,$BD$3:$BE$83,2,0)&"'!"&ADDRESS(IFERROR(MATCH(VLOOKUP(E24,$AZ$3:$BB$83,2,0),INDIRECT("'"&VLOOKUP($E$3,$BD$3:$BE$83,2,0)&"'!$B:$B"),0),MATCH(9003,INDIRECT("'"&VLOOKUP($E$3,$BD$3:$BE$83,2,0)&"'!$B:$B"),0)+1),MATCH(VLOOKUP($E$4,$BF$3:$BR$21,8,0),INDIRECT("'"&VLOOKUP($E$3,$BD$3:$BE$83,2,0)&"'!$5:$5"),0))),0)+IFERROR(INDIRECT("'"&VLOOKUP($E$3,$BD$3:$BE$83,2,0)&"'!"&ADDRESS(IFERROR(MATCH(VLOOKUP(E24,$AZ$3:$BB$83,2,0),INDIRECT("'"&VLOOKUP($E$3,$BD$3:$BE$83,2,0)&"'!$B:$B"),0),MATCH(9003,INDIRECT("'"&VLOOKUP($E$3,$BD$3:$BE$83,2,0)&"'!$B:$B"),0)+1),MATCH(VLOOKUP($E$4,$BF$3:$BR$21,9,0),INDIRECT("'"&VLOOKUP($E$3,$BD$3:$BE$83,2,0)&"'!$5:$5"),0))),0)+IFERROR(INDIRECT("'"&VLOOKUP($E$3,$BD$3:$BE$83,2,0)&"'!"&ADDRESS(IFERROR(MATCH(VLOOKUP(E24,$AZ$3:$BB$83,2,0),INDIRECT("'"&VLOOKUP($E$3,$BD$3:$BE$83,2,0)&"'!$B:$B"),0),MATCH(9003,INDIRECT("'"&VLOOKUP($E$3,$BD$3:$BE$83,2,0)&"'!$B:$B"),0)+1),MATCH(VLOOKUP($E$4,$BF$3:$BR$21,10,0),INDIRECT("'"&VLOOKUP($E$3,$BD$3:$BE$83,2,0)&"'!$5:$5"),0))),0)+IFERROR(INDIRECT("'"&VLOOKUP($E$3,$BD$3:$BE$83,2,0)&"'!"&ADDRESS(IFERROR(MATCH(VLOOKUP(E24,$AZ$3:$BB$83,2,0),INDIRECT("'"&VLOOKUP($E$3,$BD$3:$BE$83,2,0)&"'!$B:$B"),0),MATCH(9003,INDIRECT("'"&VLOOKUP($E$3,$BD$3:$BE$83,2,0)&"'!$B:$B"),0)+1),MATCH(VLOOKUP($E$4,$BF$3:$BR$21,11,0),INDIRECT("'"&VLOOKUP($E$3,$BD$3:$BE$83,2,0)&"'!$5:$5"),0))),0) -> 8.6030305e+09 | AZ24: Orient Sigorta AŞ | BA24: 1031 | BD24: Destek | BE24: DESTEK
B25: Mapfre Sigorta AŞ | C25: =IFERROR(INDIRECT("'"&VLOOKUP($B$3,$BD$3:$BE$83,2,0)&"'!"&ADDRESS(IFERROR(MATCH(VLOOKUP(B25,$AZ$3:$BB$83,2,0),INDIRECT("'"&VLOOKUP($B$3,$BD$3:$BE$83,2,0)&"'!$B:$B"),0),MATCH(9003,INDIRECT("'"&VLOOKUP($B$3,$BD$3:$BE$83,2,0)&"'!$B:$B"),0)+1),MATCH(VLOOKUP($B$4,$BF$3:$BR$21,2,0),INDIRECT("'"&VLOOKUP($B$3,$BD$3:$BE$83,2,0)&"'!$5:$5"),0))),0)+IFERROR(INDIRECT("'"&VLOOKUP($B$3,$BD$3:$BE$83,2,0)&"'!"&ADDRESS(IFERROR(MATCH(VLOOKUP(B25,$AZ$3:$BB$83,2,0),INDIRECT("'"&VLOOKUP($B$3,$BD$3:$BE$83,2,0)&"'!$B:$B"),0),MATCH(9003,INDIRECT("'"&VLOOKUP($B$3,$BD$3:$BE$83,2,0)&"'!$B:$B"),0)+1),MATCH(VLOOKUP($B$4,$BF$3:$BR$21,3,0),INDIRECT("'"&VLOOKUP($B$3,$BD$3:$BE$83,2,0)&"'!$5:$5"),0))),0)+IFERROR(INDIRECT("'"&VLOOKUP($B$3,$BD$3:$BE$83,2,0)&"'!"&ADDRESS(IFERROR(MATCH(VLOOKUP(B25,$AZ$3:$BB$83,2,0),INDIRECT("'"&VLOOKUP($B$3,$BD$3:$BE$83,2,0)&"'!$B:$B"),0),MATCH(9003,INDIRECT("'"&VLOOKUP($B$3,$BD$3:$BE$83,2,0)&"'!$B:$B"),0)+1),MATCH(VLOOKUP($B$4,$BF$3:$BR$21,4,0),INDIRECT("'"&VLOOKUP($B$3,$BD$3:$BE$83,2,0)&"'!$5:$5"),0))),0)+IFERROR(INDIRECT("'"&VLOOKUP($B$3,$BD$3:$BE$83,2,0)&"'!"&ADDRESS(IFERROR(MATCH(VLOOKUP(B25,$AZ$3:$BB$83,2,0),INDIRECT("'"&VLOOKUP($B$3,$BD$3:$BE$83,2,0)&"'!$B:$B"),0),MATCH(9003,INDIRECT("'"&VLOOKUP($B$3,$BD$3:$BE$83,2,0)&"'!$B:$B"),0)+1),MATCH(VLOOKUP($B$4,$BF$3:$BR$21,5,0),INDIRECT("'"&VLOOKUP($B$3,$BD$3:$BE$83,2,0)&"'!$5:$5"),0))),0)+IFERROR(INDIRECT("'"&VLOOKUP($B$3,$BD$3:$BE$83,2,0)&"'!"&ADDRESS(IFERROR(MATCH(VLOOKUP(B25,$AZ$3:$BB$83,2,0),INDIRECT("'"&VLOOKUP($B$3,$BD$3:$BE$83,2,0)&"'!$B:$B"),0),MATCH(9003,INDIRECT("'"&VLOOKUP($B$3,$BD$3:$BE$83,2,0)&"'!$B:$B"),0)+1),MATCH(VLOOKUP($B$4,$BF$3:$BR$21,6,0),INDIRECT("'"&VLOOKUP($B$3,$BD$3:$BE$83,2,0)&"'!$5:$5"),0))),0)+IFERROR(INDIRECT("'"&VLOOKUP($B$3,$BD$3:$BE$83,2,0)&"'!"&ADDRESS(IFERROR(MATCH(VLOOKUP(B25,$AZ$3:$BB$83,2,0),INDIRECT("'"&VLOOKUP($B$3,$BD$3:$BE$83,2,0)&"'!$B:$B"),0),MATCH(9003,INDIRECT("'"&VLOOKUP($B$3,$BD$3:$BE$83,2,0)&"'!$B:$B"),0)+1),MATCH(VLOOKUP($B$4,$BF$3:$BR$21,7,0),INDIRECT("'"&VLOOKUP($B$3,$BD$3:$BE$83,2,0)&"'!$5:$5"),0))),0)+IFERROR(INDIRECT("'"&VLOOKUP($B$3,$BD$3:$BE$83,2,0)&"'!"&ADDRESS(IFERROR(MATCH(VLOOKUP(B25,$AZ$3:$BB$83,2,0),INDIRECT("'"&VLOOKUP($B$3,$BD$3:$BE$83,2,0)&"'!$B:$B"),0),MATCH(9003,INDIRECT("'"&VLOOKUP($B$3,$BD$3:$BE$83,2,0)&"'!$B:$B"),0)+1),MATCH(VLOOKUP($B$4,$BF$3:$BR$21,8,0),INDIRECT("'"&VLOOKUP($B$3,$BD$3:$BE$83,2,0)&"'!$5:$5"),0))),0)+IFERROR(INDIRECT("'"&VLOOKUP($B$3,$BD$3:$BE$83,2,0)&"'!"&ADDRESS(IFERROR(MATCH(VLOOKUP(B25,$AZ$3:$BB$83,2,0),INDIRECT("'"&VLOOKUP($B$3,$BD$3:$BE$83,2,0)&"'!$B:$B"),0),MATCH(9003,INDIRECT("'"&VLOOKUP($B$3,$BD$3:$BE$83,2,0)&"'!$B:$B"),0)+1),MATCH(VLOOKUP($B$4,$BF$3:$BR$21,9,0),INDIRECT("'"&VLOOKUP($B$3,$BD$3:$BE$83,2,0)&"'!$5:$5"),0))),0)+IFERROR(INDIRECT("'"&VLOOKUP($B$3,$BD$3:$BE$83,2,0)&"'!"&ADDRESS(IFERROR(MATCH(VLOOKUP(B25,$AZ$3:$BB$83,2,0),INDIRECT("'"&VLOOKUP($B$3,$BD$3:$BE$83,2,0)&"'!$B:$B"),0),MATCH(9003,INDIRECT("'"&VLOOKUP($B$3,$BD$3:$BE$83,2,0)&"'!$B:$B"),0)+1),MATCH(VLOOKUP($B$4,$BF$3:$BR$21,10,0),INDIRECT("'"&VLOOKUP($B$3,$BD$3:$BE$83,2,0)&"'!$5:$5"),0))),0)+IFERROR(INDIRECT("'"&VLOOKUP($B$3,$BD$3:$BE$83,2,0)&"'!"&ADDRESS(IFERROR(MATCH(VLOOKUP(B25,$AZ$3:$BB$83,2,0),INDIRECT("'"&VLOOKUP($B$3,$BD$3:$BE$83,2,0)&"'!$B:$B"),0),MATCH(9003,INDIRECT("'"&VLOOKUP($B$3,$BD$3:$BE$83,2,0)&"'!$B:$B"),0)+1),MATCH(VLOOKUP($B$4,$BF$3:$BR$21,11,0),INDIRECT("'"&VLOOKUP($B$3,$BD$3:$BE$83,2,0)&"'!$5:$5"),0))),0) -> 2.6699762e+10 | E25: Mapfre Sigorta AŞ | F25: =IFERROR(INDIRECT("'"&VLOOKUP($E$3,$BD$3:$BE$83,2,0)&"'!"&ADDRESS(IFERROR(MATCH(VLOOKUP(E25,$AZ$3:$BB$83,2,0),INDIRECT("'"&VLOOKUP($E$3,$BD$3:$BE$83,2,0)&"'!$B:$B"),0),MATCH(9003,INDIRECT("'"&VLOOKUP($E$3,$BD$3:$BE$83,2,0)&"'!$B:$B"),0)+1),MATCH(VLOOKUP($E$4,$BF$3:$BR$21,2,0),INDIRECT("'"&VLOOKUP($E$3,$BD$3:$BE$83,2,0)&"'!$5:$5"),0))),0)+IFERROR(INDIRECT("'"&VLOOKUP($E$3,$BD$3:$BE$83,2,0)&"'!"&ADDRESS(IFERROR(MATCH(VLOOKUP(E25,$AZ$3:$BB$83,2,0),INDIRECT("'"&VLOOKUP($E$3,$BD$3:$BE$83,2,0)&"'!$B:$B"),0),MATCH(9003,INDIRECT("'"&VLOOKUP($E$3,$BD$3:$BE$83,2,0)&"'!$B:$B"),0)+1),MATCH(VLOOKUP($E$4,$BF$3:$BR$21,3,0),INDIRECT("'"&VLOOKUP($E$3,$BD$3:$BE$83,2,0)&"'!$5:$5"),0))),0)+IFERROR(INDIRECT("'"&VLOOKUP($E$3,$BD$3:$BE$83,2,0)&"'!"&ADDRESS(IFERROR(MATCH(VLOOKUP(E25,$AZ$3:$BB$83,2,0),INDIRECT("'"&VLOOKUP($E$3,$BD$3:$BE$83,2,0)&"'!$B:$B"),0),MATCH(9003,INDIRECT("'"&VLOOKUP($E$3,$BD$3:$BE$83,2,0)&"'!$B:$B"),0)+1),MATCH(VLOOKUP($E$4,$BF$3:$BR$21,4,0),INDIRECT("'"&VLOOKUP($E$3,$BD$3:$BE$83,2,0)&"'!$5:$5"),0))),0)+IFERROR(INDIRECT("'"&VLOOKUP($E$3,$BD$3:$BE$83,2,0)&"'!"&ADDRESS(IFERROR(MATCH(VLOOKUP(E25,$AZ$3:$BB$83,2,0),INDIRECT("'"&VLOOKUP($E$3,$BD$3:$BE$83,2,0)&"'!$B:$B"),0),MATCH(9003,INDIRECT("'"&VLOOKUP($E$3,$BD$3:$BE$83,2,0)&"'!$B:$B"),0)+1),MATCH(VLOOKUP($E$4,$BF$3:$BR$21,5,0),INDIRECT("'"&VLOOKUP($E$3,$BD$3:$BE$83,2,0)&"'!$5:$5"),0))),0)+IFERROR(INDIRECT("'"&VLOOKUP($E$3,$BD$3:$BE$83,2,0)&"'!"&ADDRESS(IFERROR(MATCH(VLOOKUP(E25,$AZ$3:$BB$83,2,0),INDIRECT("'"&VLOOKUP($E$3,$BD$3:$BE$83,2,0)&"'!$B:$B"),0),MATCH(9003,INDIRECT("'"&VLOOKUP($E$3,$BD$3:$BE$83,2,0)&"'!$B:$B"),0)+1),MATCH(VLOOKUP($E$4,$BF$3:$BR$21,6,0),INDIRECT("'"&VLOOKUP($E$3,$BD$3:$BE$83,2,0)&"'!$5:$5"),0))),0)+IFERROR(INDIRECT("'"&VLOOKUP($E$3,$BD$3:$BE$83,2,0)&"'!"&ADDRESS(IFERROR(MATCH(VLOOKUP(E25,$AZ$3:$BB$83,2,0),INDIRECT("'"&VLOOKUP($E$3,$BD$3:$BE$83,2,0)&"'!$B:$B"),0),MATCH(9003,INDIRECT("'"&VLOOKUP($E$3,$BD$3:$BE$83,2,0)&"'!$B:$B"),0)+1),MATCH(VLOOKUP($E$4,$BF$3:$BR$21,7,0),INDIRECT("'"&VLOOKUP($E$3,$BD$3:$BE$83,2,0)&"'!$5:$5"),0))),0)+IFERROR(INDIRECT("'"&VLOOKUP($E$3,$BD$3:$BE$83,2,0)&"'!"&ADDRESS(IFERROR(MATCH(VLOOKUP(E25,$AZ$3:$BB$83,2,0),INDIRECT("'"&VLOOKUP($E$3,$BD$3:$BE$83,2,0)&"'!$B:$B"),0),MATCH(9003,INDIRECT("'"&VLOOKUP($E$3,$BD$3:$BE$83,2,0)&"'!$B:$B"),0)+1),MATCH(VLOOKUP($E$4,$BF$3:$BR$21,8,0),INDIRECT("'"&VLOOKUP($E$3,$BD$3:$BE$83,2,0)&"'!$5:$5"),0))),0)+IFERROR(INDIRECT("'"&VLOOKUP($E$3,$BD$3:$BE$83,2,0)&"'!"&ADDRESS(IFERROR(MATCH(VLOOKUP(E25,$AZ$3:$BB$83,2,0),INDIRECT("'"&VLOOKUP($E$3,$BD$3:$BE$83,2,0)&"'!$B:$B"),0),MATCH(9003,INDIRECT("'"&VLOOKUP($E$3,$BD$3:$BE$83,2,0)&"'!$B:$B"),0)+1),MATCH(VLOOKUP($E$4,$BF$3:$BR$21,9,0),INDIRECT("'"&VLOOKUP($E$3,$BD$3:$BE$83,2,0)&"'!$5:$5"),0))),0)+IFERROR(INDIRECT("'"&VLOOKUP($E$3,$BD$3:$BE$83,2,0)&"'!"&ADDRESS(IFERROR(MATCH(VLOOKUP(E25,$AZ$3:$BB$83,2,0),INDIRECT("'"&VLOOKUP($E$3,$BD$3:$BE$83,2,0)&"'!$B:$B"),0),MATCH(9003,INDIRECT("'"&VLOOKUP($E$3,$BD$3:$BE$83,2,0)&"'!$B:$B"),0)+1),MATCH(VLOOKUP($E$4,$BF$3:$BR$21,10,0),INDIRECT("'"&VLOOKUP($E$3,$BD$3:$BE$83,2,0)&"'!$5:$5"),0))),0)+IFERROR(INDIRECT("'"&VLOOKUP($E$3,$BD$3:$BE$83,2,0)&"'!"&ADDRESS(IFERROR(MATCH(VLOOKUP(E25,$AZ$3:$BB$83,2,0),INDIRECT("'"&VLOOKUP($E$3,$BD$3:$BE$83,2,0)&"'!$B:$B"),0),MATCH(9003,INDIRECT("'"&VLOOKUP($E$3,$BD$3:$BE$83,2,0)&"'!$B:$B"),0)+1),MATCH(VLOOKUP($E$4,$BF$3:$BR$21,11,0),INDIRECT("'"&VLOOKUP($E$3,$BD$3:$BE$83,2,0)&"'!$5:$5"),0))),0) -> 2.6699762e+10 | AZ25: Ray Sigorta AŞ | BA25: 1032 | BD25: Devlet Destekli Tarım Sigortaları | BE25: DEV. DEST. TARIM SİGORTALARI
B26: Neova Katılım Sigorta AŞ | C26: =IFERROR(INDIRECT("'"&VLOOKUP($B$3,$BD$3:$BE$83,2,0)&"'!"&ADDRESS(IFERROR(MATCH(VLOOKUP(B26,$AZ$3:$BB$83,2,0),INDIRECT("'"&VLOOKUP($B$3,$BD$3:$BE$83,2,0)&"'!$B:$B"),0),MATCH(9003,INDIRECT("'"&VLOOKUP($B$3,$BD$3:$BE$83,2,0)&"'!$B:$B"),0)+1),MATCH(VLOOKUP($B$4,$BF$3:$BR$21,2,0),INDIRECT("'"&VLOOKUP($B$3,$BD$3:$BE$83,2,0)&"'!$5:$5"),0))),0)+IFERROR(INDIRECT("'"&VLOOKUP($B$3,$BD$3:$BE$83,2,0)&"'!"&ADDRESS(IFERROR(MATCH(VLOOKUP(B26,$AZ$3:$BB$83,2,0),INDIRECT("'"&VLOOKUP($B$3,$BD$3:$BE$83,2,0)&"'!$B:$B"),0),MATCH(9003,INDIRECT("'"&VLOOKUP($B$3,$BD$3:$BE$83,2,0)&"'!$B:$B"),0)+1),MATCH(VLOOKUP($B$4,$BF$3:$BR$21,3,0),INDIRECT("'"&VLOOKUP($B$3,$BD$3:$BE$83,2,0)&"'!$5:$5"),0))),0)+IFERROR(INDIRECT("'"&VLOOKUP($B$3,$BD$3:$BE$83,2,0)&"'!"&ADDRESS(IFERROR(MATCH(VLOOKUP(B26,$AZ$3:$BB$83,2,0),INDIRECT("'"&VLOOKUP($B$3,$BD$3:$BE$83,2,0)&"'!$B:$B"),0),MATCH(9003,INDIRECT("'"&VLOOKUP($B$3,$BD$3:$BE$83,2,0)&"'!$B:$B"),0)+1),MATCH(VLOOKUP($B$4,$BF$3:$BR$21,4,0),INDIRECT("'"&VLOOKUP($B$3,$BD$3:$BE$83,2,0)&"'!$5:$5"),0))),0)+IFERROR(INDIRECT("'"&VLOOKUP($B$3,$BD$3:$BE$83,2,0)&"'!"&ADDRESS(IFERROR(MATCH(VLOOKUP(B26,$AZ$3:$BB$83,2,0),INDIRECT("'"&VLOOKUP($B$3,$BD$3:$BE$83,2,0)&"'!$B:$B"),0),MATCH(9003,INDIRECT("'"&VLOOKUP($B$3,$BD$3:$BE$83,2,0)&"'!$B:$B"),0)+1),MATCH(VLOOKUP($B$4,$BF$3:$BR$21,5,0),INDIRECT("'"&VLOOKUP($B$3,$BD$3:$BE$83,2,0)&"'!$5:$5"),0))),0)+IFERROR(INDIRECT("'"&VLOOKUP($B$3,$BD$3:$BE$83,2,0)&"'!"&ADDRESS(IFERROR(MATCH(VLOOKUP(B26,$AZ$3:$BB$83,2,0),INDIRECT("'"&VLOOKUP($B$3,$BD$3:$BE$83,2,0)&"'!$B:$B"),0),MATCH(9003,INDIRECT("'"&VLOOKUP($B$3,$BD$3:$BE$83,2,0)&"'!$B:$B"),0)+1),MATCH(VLOOKUP($B$4,$BF$3:$BR$21,6,0),INDIRECT("'"&VLOOKUP($B$3,$BD$3:$BE$83,2,0)&"'!$5:$5"),0))),0)+IFERROR(INDIRECT("'"&VLOOKUP($B$3,$BD$3:$BE$83,2,0)&"'!"&ADDRESS(IFERROR(MATCH(VLOOKUP(B26,$AZ$3:$BB$83,2,0),INDIRECT("'"&VLOOKUP($B$3,$BD$3:$BE$83,2,0)&"'!$B:$B"),0),MATCH(9003,INDIRECT("'"&VLOOKUP($B$3,$BD$3:$BE$83,2,0)&"'!$B:$B"),0)+1),MATCH(VLOOKUP($B$4,$BF$3:$BR$21,7,0),INDIRECT("'"&VLOOKUP($B$3,$BD$3:$BE$83,2,0)&"'!$5:$5"),0))),0)+IFERROR(INDIRECT("'"&VLOOKUP($B$3,$BD$3:$BE$83,2,0)&"'!"&ADDRESS(IFERROR(MATCH(VLOOKUP(B26,$AZ$3:$BB$83,2,0),INDIRECT("'"&VLOOKUP($B$3,$BD$3:$BE$83,2,0)&"'!$B:$B"),0),MATCH(9003,INDIRECT("'"&VLOOKUP($B$3,$BD$3:$BE$83,2,0)&"'!$B:$B"),0)+1),MATCH(VLOOKUP($B$4,$BF$3:$BR$21,8,0),INDIRECT("'"&VLOOKUP($B$3,$BD$3:$BE$83,2,0)&"'!$5:$5"),0))),0)+IFERROR(INDIRECT("'"&VLOOKUP($B$3,$BD$3:$BE$83,2,0)&"'!"&ADDRESS(IFERROR(MATCH(VLOOKUP(B26,$AZ$3:$BB$83,2,0),INDIRECT("'"&VLOOKUP($B$3,$BD$3:$BE$83,2,0)&"'!$B:$B"),0),MATCH(9003,INDIRECT("'"&VLOOKUP($B$3,$BD$3:$BE$83,2,0)&"'!$B:$B"),0)+1),MATCH(VLOOKUP($B$4,$BF$3:$BR$21,9,0),INDIRECT("'"&VLOOKUP($B$3,$BD$3:$BE$83,2,0)&"'!$5:$5"),0))),0)+IFERROR(INDIRECT("'"&VLOOKUP($B$3,$BD$3:$BE$83,2,0)&"'!"&ADDRESS(IFERROR(MATCH(VLOOKUP(B26,$AZ$3:$BB$83,2,0),INDIRECT("'"&VLOOKUP($B$3,$BD$3:$BE$83,2,0)&"'!$B:$B"),0),MATCH(9003,INDIRECT("'"&VLOOKUP($B$3,$BD$3:$BE$83,2,0)&"'!$B:$B"),0)+1),MATCH(VLOOKUP($B$4,$BF$3:$BR$21,10,0),INDIRECT("'"&VLOOKUP($B$3,$BD$3:$BE$83,2,0)&"'!$5:$5"),0))),0)+IFERROR(INDIRECT("'"&VLOOKUP($B$3,$BD$3:$BE$83,2,0)&"'!"&ADDRESS(IFERROR(MATCH(VLOOKUP(B26,$AZ$3:$BB$83,2,0),INDIRECT("'"&VLOOKUP($B$3,$BD$3:$BE$83,2,0)&"'!$B:$B"),0),MATCH(9003,INDIRECT("'"&VLOOKUP($B$3,$BD$3:$BE$83,2,0)&"'!$B:$B"),0)+1),MATCH(VLOOKUP($B$4,$BF$3:$BR$21,11,0),INDIRECT("'"&VLOOKUP($B$3,$BD$3:$BE$83,2,0)&"'!$5:$5"),0))),0) -> 3.0714518e+10 | E26: Neova Katılım Sigorta AŞ | F26: =IFERROR(INDIRECT("'"&VLOOKUP($E$3,$BD$3:$BE$83,2,0)&"'!"&ADDRESS(IFERROR(MATCH(VLOOKUP(E26,$AZ$3:$BB$83,2,0),INDIRECT("'"&VLOOKUP($E$3,$BD$3:$BE$83,2,0)&"'!$B:$B"),0),MATCH(9003,INDIRECT("'"&VLOOKUP($E$3,$BD$3:$BE$83,2,0)&"'!$B:$B"),0)+1),MATCH(VLOOKUP($E$4,$BF$3:$BR$21,2,0),INDIRECT("'"&VLOOKUP($E$3,$BD$3:$BE$83,2,0)&"'!$5:$5"),0))),0)+IFERROR(INDIRECT("'"&VLOOKUP($E$3,$BD$3:$BE$83,2,0)&"'!"&ADDRESS(IFERROR(MATCH(VLOOKUP(E26,$AZ$3:$BB$83,2,0),INDIRECT("'"&VLOOKUP($E$3,$BD$3:$BE$83,2,0)&"'!$B:$B"),0),MATCH(9003,INDIRECT("'"&VLOOKUP($E$3,$BD$3:$BE$83,2,0)&"'!$B:$B"),0)+1),MATCH(VLOOKUP($E$4,$BF$3:$BR$21,3,0),INDIRECT("'"&VLOOKUP($E$3,$BD$3:$BE$83,2,0)&"'!$5:$5"),0))),0)+IFERROR(INDIRECT("'"&VLOOKUP($E$3,$BD$3:$BE$83,2,0)&"'!"&ADDRESS(IFERROR(MATCH(VLOOKUP(E26,$AZ$3:$BB$83,2,0),INDIRECT("'"&VLOOKUP($E$3,$BD$3:$BE$83,2,0)&"'!$B:$B"),0),MATCH(9003,INDIRECT("'"&VLOOKUP($E$3,$BD$3:$BE$83,2,0)&"'!$B:$B"),0)+1),MATCH(VLOOKUP($E$4,$BF$3:$BR$21,4,0),INDIRECT("'"&VLOOKUP($E$3,$BD$3:$BE$83,2,0)&"'!$5:$5"),0))),0)+IFERROR(INDIRECT("'"&VLOOKUP($E$3,$BD$3:$BE$83,2,0)&"'!"&ADDRESS(IFERROR(MATCH(VLOOKUP(E26,$AZ$3:$BB$83,2,0),INDIRECT("'"&VLOOKUP($E$3,$BD$3:$BE$83,2,0)&"'!$B:$B"),0),MATCH(9003,INDIRECT("'"&VLOOKUP($E$3,$BD$3:$BE$83,2,0)&"'!$B:$B"),0)+1),MATCH(VLOOKUP($E$4,$BF$3:$BR$21,5,0),INDIRECT("'"&VLOOKUP($E$3,$BD$3:$BE$83,2,0)&"'!$5:$5"),0))),0)+IFERROR(INDIRECT("'"&VLOOKUP($E$3,$BD$3:$BE$83,2,0)&"'!"&ADDRESS(IFERROR(MATCH(VLOOKUP(E26,$AZ$3:$BB$83,2,0),INDIRECT("'"&VLOOKUP($E$3,$BD$3:$BE$83,2,0)&"'!$B:$B"),0),MATCH(9003,INDIRECT("'"&VLOOKUP($E$3,$BD$3:$BE$83,2,0)&"'!$B:$B"),0)+1),MATCH(VLOOKUP($E$4,$BF$3:$BR$21,6,0),INDIRECT("'"&VLOOKUP($E$3,$BD$3:$BE$83,2,0)&"'!$5:$5"),0))),0)+IFERROR(INDIRECT("'"&VLOOKUP($E$3,$BD$3:$BE$83,2,0)&"'!"&ADDRESS(IFERROR(MATCH(VLOOKUP(E26,$AZ$3:$BB$83,2,0),INDIRECT("'"&VLOOKUP($E$3,$BD$3:$BE$83,2,0)&"'!$B:$B"),0),MATCH(9003,INDIRECT("'"&VLOOKUP($E$3,$BD$3:$BE$83,2,0)&"'!$B:$B"),0)+1),MATCH(VLOOKUP($E$4,$BF$3:$BR$21,7,0),INDIRECT("'"&VLOOKUP($E$3,$BD$3:$BE$83,2,0)&"'!$5:$5"),0))),0)+IFERROR(INDIRECT("'"&VLOOKUP($E$3,$BD$3:$BE$83,2,0)&"'!"&ADDRESS(IFERROR(MATCH(VLOOKUP(E26,$AZ$3:$BB$83,2,0),INDIRECT("'"&VLOOKUP($E$3,$BD$3:$BE$83,2,0)&"'!$B:$B"),0),MATCH(9003,INDIRECT("'"&VLOOKUP($E$3,$BD$3:$BE$83,2,0)&"'!$B:$B"),0)+1),MATCH(VLOOKUP($E$4,$BF$3:$BR$21,8,0),INDIRECT("'"&VLOOKUP($E$3,$BD$3:$BE$83,2,0)&"'!$5:$5"),0))),0)+IFERROR(INDIRECT("'"&VLOOKUP($E$3,$BD$3:$BE$83,2,0)&"'!"&ADDRESS(IFERROR(MATCH(VLOOKUP(E26,$AZ$3:$BB$83,2,0),INDIRECT("'"&VLOOKUP($E$3,$BD$3:$BE$83,2,0)&"'!$B:$B"),0),MATCH(9003,INDIRECT("'"&VLOOKUP($E$3,$BD$3:$BE$83,2,0)&"'!$B:$B"),0)+1),MATCH(VLOOKUP($E$4,$BF$3:$BR$21,9,0),INDIRECT("'"&VLOOKUP($E$3,$BD$3:$BE$83,2,0)&"'!$5:$5"),0))),0)+IFERROR(INDIRECT("'"&VLOOKUP($E$3,$BD$3:$BE$83,2,0)&"'!"&ADDRESS(IFERROR(MATCH(VLOOKUP(E26,$AZ$3:$BB$83,2,0),INDIRECT("'"&VLOOKUP($E$3,$BD$3:$BE$83,2,0)&"'!$B:$B"),0),MATCH(9003,INDIRECT("'"&VLOOKUP($E$3,$BD$3:$BE$83,2,0)&"'!$B:$B"),0)+1),MATCH(VLOOKUP($E$4,$BF$3:$BR$21,10,0),INDIRECT("'"&VLOOKUP($E$3,$BD$3:$BE$83,2,0)&"'!$5:$5"),0))),0)+IFERROR(INDIRECT("'"&VLOOKUP($E$3,$BD$3:$BE$83,2,0)&"'!"&ADDRESS(IFERROR(MATCH(VLOOKUP(E26,$AZ$3:$BB$83,2,0),INDIRECT("'"&VLOOKUP($E$3,$BD$3:$BE$83,2,0)&"'!$B:$B"),0),MATCH(9003,INDIRECT("'"&VLOOKUP($E$3,$BD$3:$BE$83,2,0)&"'!$B:$B"),0)+1),MATCH(VLOOKUP($E$4,$BF$3:$BR$21,11,0),INDIRECT("'"&VLOOKUP($E$3,$BD$3:$BE$83,2,0)&"'!$5:$5"),0))),0) -> 3.0714518e+10 | AZ26: Şeker Sigorta AŞ | BA26: 1034 | BD26: Mühendislik Sigortaları | BE26: MÜHENDİSLİK SİGORTALARI
B27: Orient Sigorta AŞ | C27: =IFERROR(INDIRECT("'"&VLOOKUP($B$3,$BD$3:$BE$83,2,0)&"'!"&ADDRESS(IFERROR(MATCH(VLOOKUP(B27,$AZ$3:$BB$83,2,0),INDIRECT("'"&VLOOKUP($B$3,$BD$3:$BE$83,2,0)&"'!$B:$B"),0),MATCH(9003,INDIRECT("'"&VLOOKUP($B$3,$BD$3:$BE$83,2,0)&"'!$B:$B"),0)+1),MATCH(VLOOKUP($B$4,$BF$3:$BR$21,2,0),INDIRECT("'"&VLOOKUP($B$3,$BD$3:$BE$83,2,0)&"'!$5:$5"),0))),0)+IFERROR(INDIRECT("'"&VLOOKUP($B$3,$BD$3:$BE$83,2,0)&"'!"&ADDRESS(IFERROR(MATCH(VLOOKUP(B27,$AZ$3:$BB$83,2,0),INDIRECT("'"&VLOOKUP($B$3,$BD$3:$BE$83,2,0)&"'!$B:$B"),0),MATCH(9003,INDIRECT("'"&VLOOKUP($B$3,$BD$3:$BE$83,2,0)&"'!$B:$B"),0)+1),MATCH(VLOOKUP($B$4,$BF$3:$BR$21,3,0),INDIRECT("'"&VLOOKUP($B$3,$BD$3:$BE$83,2,0)&"'!$5:$5"),0))),0)+IFERROR(INDIRECT("'"&VLOOKUP($B$3,$BD$3:$BE$83,2,0)&"'!"&ADDRESS(IFERROR(MATCH(VLOOKUP(B27,$AZ$3:$BB$83,2,0),INDIRECT("'"&VLOOKUP($B$3,$BD$3:$BE$83,2,0)&"'!$B:$B"),0),MATCH(9003,INDIRECT("'"&VLOOKUP($B$3,$BD$3:$BE$83,2,0)&"'!$B:$B"),0)+1),MATCH(VLOOKUP($B$4,$BF$3:$BR$21,4,0),INDIRECT("'"&VLOOKUP($B$3,$BD$3:$BE$83,2,0)&"'!$5:$5"),0))),0)+IFERROR(INDIRECT("'"&VLOOKUP($B$3,$BD$3:$BE$83,2,0)&"'!"&ADDRESS(IFERROR(MATCH(VLOOKUP(B27,$AZ$3:$BB$83,2,0),INDIRECT("'"&VLOOKUP($B$3,$BD$3:$BE$83,2,0)&"'!$B:$B"),0),MATCH(9003,INDIRECT("'"&VLOOKUP($B$3,$BD$3:$BE$83,2,0)&"'!$B:$B"),0)+1),MATCH(VLOOKUP($B$4,$BF$3:$BR$21,5,0),INDIRECT("'"&VLOOKUP($B$3,$BD$3:$BE$83,2,0)&"'!$5:$5"),0))),0)+IFERROR(INDIRECT("'"&VLOOKUP($B$3,$BD$3:$BE$83,2,0)&"'!"&ADDRESS(IFERROR(MATCH(VLOOKUP(B27,$AZ$3:$BB$83,2,0),INDIRECT("'"&VLOOKUP($B$3,$BD$3:$BE$83,2,0)&"'!$B:$B"),0),MATCH(9003,INDIRECT("'"&VLOOKUP($B$3,$BD$3:$BE$83,2,0)&"'!$B:$B"),0)+1),MATCH(VLOOKUP($B$4,$BF$3:$BR$21,6,0),INDIRECT("'"&VLOOKUP($B$3,$BD$3:$BE$83,2,0)&"'!$5:$5"),0))),0)+IFERROR(INDIRECT("'"&VLOOKUP($B$3,$BD$3:$BE$83,2,0)&"'!"&ADDRESS(IFERROR(MATCH(VLOOKUP(B27,$AZ$3:$BB$83,2,0),INDIRECT("'"&VLOOKUP($B$3,$BD$3:$BE$83,2,0)&"'!$B:$B"),0),MATCH(9003,INDIRECT("'"&VLOOKUP($B$3,$BD$3:$BE$83,2,0)&"'!$B:$B"),0)+1),MATCH(VLOOKUP($B$4,$BF$3:$BR$21,7,0),INDIRECT("'"&VLOOKUP($B$3,$BD$3:$BE$83,2,0)&"'!$5:$5"),0))),0)+IFERROR(INDIRECT("'"&VLOOKUP($B$3,$BD$3:$BE$83,2,0)&"'!"&ADDRESS(IFERROR(MATCH(VLOOKUP(B27,$AZ$3:$BB$83,2,0),INDIRECT("'"&VLOOKUP($B$3,$BD$3:$BE$83,2,0)&"'!$B:$B"),0),MATCH(9003,INDIRECT("'"&VLOOKUP($B$3,$BD$3:$BE$83,2,0)&"'!$B:$B"),0)+1),MATCH(VLOOKUP($B$4,$BF$3:$BR$21,8,0),INDIRECT("'"&VLOOKUP($B$3,$BD$3:$BE$83,2,0)&"'!$5:$5"),0))),0)+IFERROR(INDIRECT("'"&VLOOKUP($B$3,$BD$3:$BE$83,2,0)&"'!"&ADDRESS(IFERROR(MATCH(VLOOKUP(B27,$AZ$3:$BB$83,2,0),INDIRECT("'"&VLOOKUP($B$3,$BD$3:$BE$83,2,0)&"'!$B:$B"),0),MATCH(9003,INDIRECT("'"&VLOOKUP($B$3,$BD$3:$BE$83,2,0)&"'!$B:$B"),0)+1),MATCH(VLOOKUP($B$4,$BF$3:$BR$21,9,0),INDIRECT("'"&VLOOKUP($B$3,$BD$3:$BE$83,2,0)&"'!$5:$5"),0))),0)+IFERROR(INDIRECT("'"&VLOOKUP($B$3,$BD$3:$BE$83,2,0)&"'!"&ADDRESS(IFERROR(MATCH(VLOOKUP(B27,$AZ$3:$BB$83,2,0),INDIRECT("'"&VLOOKUP($B$3,$BD$3:$BE$83,2,0)&"'!$B:$B"),0),MATCH(9003,INDIRECT("'"&VLOOKUP($B$3,$BD$3:$BE$83,2,0)&"'!$B:$B"),0)+1),MATCH(VLOOKUP($B$4,$BF$3:$BR$21,10,0),INDIRECT("'"&VLOOKUP($B$3,$BD$3:$BE$83,2,0)&"'!$5:$5"),0))),0)+IFERROR(INDIRECT("'"&VLOOKUP($B$3,$BD$3:$BE$83,2,0)&"'!"&ADDRESS(IFERROR(MATCH(VLOOKUP(B27,$AZ$3:$BB$83,2,0),INDIRECT("'"&VLOOKUP($B$3,$BD$3:$BE$83,2,0)&"'!$B:$B"),0),MATCH(9003,INDIRECT("'"&VLOOKUP($B$3,$BD$3:$BE$83,2,0)&"'!$B:$B"),0)+1),MATCH(VLOOKUP($B$4,$BF$3:$BR$21,11,0),INDIRECT("'"&VLOOKUP($B$3,$BD$3:$BE$83,2,0)&"'!$5:$5"),0))),0) -> 1.3930334e+09 | E27: Orient Sigorta AŞ | F27: =IFERROR(INDIRECT("'"&VLOOKUP($E$3,$BD$3:$BE$83,2,0)&"'!"&ADDRESS(IFERROR(MATCH(VLOOKUP(E27,$AZ$3:$BB$83,2,0),INDIRECT("'"&VLOOKUP($E$3,$BD$3:$BE$83,2,0)&"'!$B:$B"),0),MATCH(9003,INDIRECT("'"&VLOOKUP($E$3,$BD$3:$BE$83,2,0)&"'!$B:$B"),0)+1),MATCH(VLOOKUP($E$4,$BF$3:$BR$21,2,0),INDIRECT("'"&VLOOKUP($E$3,$BD$3:$BE$83,2,0)&"'!$5:$5"),0))),0)+IFERROR(INDIRECT("'"&VLOOKUP($E$3,$BD$3:$BE$83,2,0)&"'!"&ADDRESS(IFERROR(MATCH(VLOOKUP(E27,$AZ$3:$BB$83,2,0),INDIRECT("'"&VLOOKUP($E$3,$BD$3:$BE$83,2,0)&"'!$B:$B"),0),MATCH(9003,INDIRECT("'"&VLOOKUP($E$3,$BD$3:$BE$83,2,0)&"'!$B:$B"),0)+1),MATCH(VLOOKUP($E$4,$BF$3:$BR$21,3,0),INDIRECT("'"&VLOOKUP($E$3,$BD$3:$BE$83,2,0)&"'!$5:$5"),0))),0)+IFERROR(INDIRECT("'"&VLOOKUP($E$3,$BD$3:$BE$83,2,0)&"'!"&ADDRESS(IFERROR(MATCH(VLOOKUP(E27,$AZ$3:$BB$83,2,0),INDIRECT("'"&VLOOKUP($E$3,$BD$3:$BE$83,2,0)&"'!$B:$B"),0),MATCH(9003,INDIRECT("'"&VLOOKUP($E$3,$BD$3:$BE$83,2,0)&"'!$B:$B"),0)+1),MATCH(VLOOKUP($E$4,$BF$3:$BR$21,4,0),INDIRECT("'"&VLOOKUP($E$3,$BD$3:$BE$83,2,0)&"'!$5:$5"),0))),0)+IFERROR(INDIRECT("'"&VLOOKUP($E$3,$BD$3:$BE$83,2,0)&"'!"&ADDRESS(IFERROR(MATCH(VLOOKUP(E27,$AZ$3:$BB$83,2,0),INDIRECT("'"&VLOOKUP($E$3,$BD$3:$BE$83,2,0)&"'!$B:$B"),0),MATCH(9003,INDIRECT("'"&VLOOKUP($E$3,$BD$3:$BE$83,2,0)&"'!$B:$B"),0)+1),MATCH(VLOOKUP($E$4,$BF$3:$BR$21,5,0),INDIRECT("'"&VLOOKUP($E$3,$BD$3:$BE$83,2,0)&"'!$5:$5"),0))),0)+IFERROR(INDIRECT("'"&VLOOKUP($E$3,$BD$3:$BE$83,2,0)&"'!"&ADDRESS(IFERROR(MATCH(VLOOKUP(E27,$AZ$3:$BB$83,2,0),INDIRECT("'"&VLOOKUP($E$3,$BD$3:$BE$83,2,0)&"'!$B:$B"),0),MATCH(9003,INDIRECT("'"&VLOOKUP($E$3,$BD$3:$BE$83,2,0)&"'!$B:$B"),0)+1),MATCH(VLOOKUP($E$4,$BF$3:$BR$21,6,0),INDIRECT("'"&VLOOKUP($E$3,$BD$3:$BE$83,2,0)&"'!$5:$5"),0))),0)+IFERROR(INDIRECT("'"&VLOOKUP($E$3,$BD$3:$BE$83,2,0)&"'!"&ADDRESS(IFERROR(MATCH(VLOOKUP(E27,$AZ$3:$BB$83,2,0),INDIRECT("'"&VLOOKUP($E$3,$BD$3:$BE$83,2,0)&"'!$B:$B"),0),MATCH(9003,INDIRECT("'"&VLOOKUP($E$3,$BD$3:$BE$83,2,0)&"'!$B:$B"),0)+1),MATCH(VLOOKUP($E$4,$BF$3:$BR$21,7,0),INDIRECT("'"&VLOOKUP($E$3,$BD$3:$BE$83,2,0)&"'!$5:$5"),0))),0)+IFERROR(INDIRECT("'"&VLOOKUP($E$3,$BD$3:$BE$83,2,0)&"'!"&ADDRESS(IFERROR(MATCH(VLOOKUP(E27,$AZ$3:$BB$83,2,0),INDIRECT("'"&VLOOKUP($E$3,$BD$3:$BE$83,2,0)&"'!$B:$B"),0),MATCH(9003,INDIRECT("'"&VLOOKUP($E$3,$BD$3:$BE$83,2,0)&"'!$B:$B"),0)+1),MATCH(VLOOKUP($E$4,$BF$3:$BR$21,8,0),INDIRECT("'"&VLOOKUP($E$3,$BD$3:$BE$83,2,0)&"'!$5:$5"),0))),0)+IFERROR(INDIRECT("'"&VLOOKUP($E$3,$BD$3:$BE$83,2,0)&"'!"&ADDRESS(IFERROR(MATCH(VLOOKUP(E27,$AZ$3:$BB$83,2,0),INDIRECT("'"&VLOOKUP($E$3,$BD$3:$BE$83,2,0)&"'!$B:$B"),0),MATCH(9003,INDIRECT("'"&VLOOKUP($E$3,$BD$3:$BE$83,2,0)&"'!$B:$B"),0)+1),MATCH(VLOOKUP($E$4,$BF$3:$BR$21,9,0),INDIRECT("'"&VLOOKUP($E$3,$BD$3:$BE$83,2,0)&"'!$5:$5"),0))),0)+IFERROR(INDIRECT("'"&VLOOKUP($E$3,$BD$3:$BE$83,2,0)&"'!"&ADDRESS(IFERROR(MATCH(VLOOKUP(E27,$AZ$3:$BB$83,2,0),INDIRECT("'"&VLOOKUP($E$3,$BD$3:$BE$83,2,0)&"'!$B:$B"),0),MATCH(9003,INDIRECT("'"&VLOOKUP($E$3,$BD$3:$BE$83,2,0)&"'!$B:$B"),0)+1),MATCH(VLOOKUP($E$4,$BF$3:$BR$21,10,0),INDIRECT("'"&VLOOKUP($E$3,$BD$3:$BE$83,2,0)&"'!$5:$5"),0))),0)+IFERROR(INDIRECT("'"&VLOOKUP($E$3,$BD$3:$BE$83,2,0)&"'!"&ADDRESS(IFERROR(MATCH(VLOOKUP(E27,$AZ$3:$BB$83,2,0),INDIRECT("'"&VLOOKUP($E$3,$BD$3:$BE$83,2,0)&"'!$B:$B"),0),MATCH(9003,INDIRECT("'"&VLOOKUP($E$3,$BD$3:$BE$83,2,0)&"'!$B:$B"),0)+1),MATCH(VLOOKUP($E$4,$BF$3:$BR$21,11,0),INDIRECT("'"&VLOOKUP($E$3,$BD$3:$BE$83,2,0)&"'!$5:$5"),0))),0) -> 1.3930334e+09 | AZ27: Sompo Sigorta AŞ | BA27: 1035 | BD27: Hayat Toplam | BE27: HAYAT TOPLAM
